Workbook

Sheet 入力する
A1: 取得日 | B1: 氏名 | C1: 取得の単位 | D1: 時間数 | E1: 取得日数 | F1: 年5日の対象 | G1: メモ
E2: =IF($A2="","",IF($C2="全日",1,IF($C2="午前半休",0.5,IF($C2="午後半休",0.5,IF($C2="時間単位",IF('集計を見る'!$B$5>0,$D2/'集計を見る'!$B$5,""),""))))) | F2: =IF($E2="","",IF($C2="時間単位",0,$E2))
E3: =IF($A3="","",IF($C3="全日",1,IF($C3="午前半休",0.5,IF($C3="午後半休",0.5,IF($C3="時間単位",IF('集計を見る'!$B$5>0,$D3/'集計を見る'!$B$5,""),""))))) | F3: =IF($E3="","",IF($C3="時間単位",0,$E3))
E4: =IF($A4="","",IF($C4="全日",1,IF($C4="午前半休",0.5,IF($C4="午後半休",0.5,IF($C4="時間単位",IF('集計を見る'!$B$5>0,$D4/'集計を見る'!$B$5,""),""))))) | F4: =IF($E4="","",IF($C4="時間単位",0,$E4))
E5: =IF($A5="","",IF($C5="全日",1,IF($C5="午前半休",0.5,IF($C5="午後半休",0.5,IF($C5="時間単位",IF('集計を見る'!$B$5>0,$D5/'集計を見る'!$B$5,""),""))))) | F5: =IF($E5="","",IF($C5="時間単位",0,$E5))
E6: =IF($A6="","",IF($C6="全日",1,IF($C6="午前半休",0.5,IF($C6="午後半休",0.5,IF($C6="時間単位",IF('集計を見る'!$B$5>0,$D6/'集計を見る'!$B$5,""),""))))) | F6: =IF($E6="","",IF($C6="時間単位",0,$E6))
E7: =IF($A7="","",IF($C7="全日",1,IF($C7="午前半休",0.5,IF($C7="午後半休",0.5,IF($C7="時間単位",IF('集計を見る'!$B$5>0,$D7/'集計を見る'!$B$5,""),""))))) | F7: =IF($E7="","",IF($C7="時間単位",0,$E7))
E8: =IF($A8="","",IF($C8="全日",1,IF($C8="午前半休",0.5,IF($C8="午後半休",0.5,IF($C8="時間単位",IF('集計を見る'!$B$5>0,$D8/'集計を見る'!$B$5,""),""))))) | F8: =IF($E8="","",IF($C8="時間単位",0,$E8))
E9: =IF($A9="","",IF($C9="全日",1,IF($C9="午前半休",0.5,IF($C9="午後半休",0.5,IF($C9="時間単位",IF('集計を見る'!$B$5>0,$D9/'集計を見る'!$B$5,""),""))))) | F9: =IF($E9="","",IF($C9="時間単位",0,$E9))
E10: =IF($A10="","",IF($C10="全日",1,IF($C10="午前半休",0.5,IF($C10="午後半休",0.5,IF($C10="時間単位",IF('集計を見る'!$B$5>0,$D10/'集計を見る'!$B$5,""),""))))) | F10: =IF($E10="","",IF($C10="時間単位",0,$E10))
E11: =IF($A11="","",IF($C11="全日",1,IF($C11="午前半休",0.5,IF($C11="午後半休",0.5,IF($C11="時間単位",IF('集計を見る'!$B$5>0,$D11/'集計を見る'!$B$5,""),""))))) | F11: =IF($E11="","",IF($C11="時間単位",0,$E11))
E12: =IF($A12="","",IF($C12="全日",1,IF($C12="午前半休",0.5,IF($C12="午後半休",0.5,IF($C12="時間単位",IF('集計を見る'!$B$5>0,$D12/'集計を見る'!$B$5,""),""))))) | F12: =IF($E12="","",IF($C12="時間単位",0,$E12))
E13: =IF($A13="","",IF($C13="全日",1,IF($C13="午前半休",0.5,IF($C13="午後半休",0.5,IF($C13="時間単位",IF('集計を見る'!$B$5>0,$D13/'集計を見る'!$B$5,""),""))))) | F13: =IF($E13="","",IF($C13="時間単位",0,$E13))
... E201: =IF($A201="","",IF($C201="全日",1,IF($C201="午前半休",0.5,IF($C201="午後半休",0.5,IF($C201="時間単位",IF('集計を見る'!$B$5>0,$D201/'集計を見る'!$B$5,""),""))))) | F201: =IF($E201="","",IF($C201="時間単位",0,$E201))

Sheet 集計を見る
A1: 有給休暇の管理表
A2: 黄色いセルを入れるだけで、付与日数・残日数・年5日の取得義務の状況まで自動で出ます。
A4: ① 会社の設定
A5: 1日の所定労働時間 | B5: 8
A6: 集計する日 | B6: =TODAY()
A7: 時間単位の年休の上限 | B7: =$B$5*5
A9: ② 全体のようす
A10: 対象の人数 | B10: =COUNTA($A$21:$A$32)
A11: 使える日数の合計 | B11: =SUM($G$21:$G$32)
A12: 取得日数の合計 | B12: =SUM($H$21:$H$32)
A13: 残日数の合計 | B13: =SUM($I$21:$I$32)
A14: 全体の取得率 | B14: =IF($B$11=0,"",$B$12/$B$11)
A15: 年5日が未達の人数 | B15: =COUNTIF($K$21:$K$32,"あと*")
A16: 取得記録の件数 | B16: =COUNT('入力する'!$A$2:$A$201)
A17: 時間単位の合計時間 | B17: =SUMIF('入力する'!$C$2:$C$201,"時間単位",'入力する'!$D$2:$D$201)
A19: ③ 社員ごとの管理簿（氏名・入社日・週の所定日数・繰越日数を入れてください）
A20: 氏名 | B20: 入社日 | C20: 週の所定日数 | D20: 繰越日数 | E20: 今期の基準日 | F20: 付与日数 | G20: 使える日数 | H20: 取得日数 | I20: 残日数 | J20: 年5日の対象 | K20: 年5日の状況 | L20: 取得の期限 | M20: 多い順
C21: 5 | E21: =IF(OR($A21="",$B21=""),"",IF(TODAY()<EDATE($B21,6),"",EDATE($B21,6+12*INT(DATEDIF(EDATE($B21,6),TODAY(),"M")/12)))) | F21: =IF($A21="","",IF($E21="",0,IF($C21*1=4,IF((DATEDIF($B21,$E21,"M")-6)/12=0,7,IF((DATEDIF($B21,$E21,"M")-6)/12=1,8,IF((DATEDIF($B21,$E21,"M")-6)/12=2,9,IF((DATEDIF($B21,$E21,"M")-6)/12=3,10,IF((DATEDIF($B21,$E21,"M")-6)/12=4,12,IF((DATEDIF($B21,$E21,"M")-6)/12=5,13,15)))))),IF($C21*1=3,IF((DATEDIF($B21,$E21,"M")-6)/12=0,5,IF((DATEDIF($B21,$E21,"M")-6)/12=1,6,IF((DATEDIF($B21,$E21,"M")-6)/12=2,6,IF((DATEDIF($B21,$E21,"M")-6)/12=3,8,IF((DATEDIF($B21,$E21,"M")-6)/12=4,9,IF((DATEDIF($B21,$E21,"M")-6)/12=5,10,11)))))),IF($C21*1=2,IF((DATEDIF($B21,$E21,"M")-6)/12=0,3,IF((DATEDIF($B21,$E21,"M")-6)/12=1,4,IF((DATEDIF($B21,$E21,"M")-6)/12=2,4,IF((DATEDIF($B21,$E21,"M")-6)/12=3,5,IF((DATEDIF($B21,$E21,"M")-6)/12=4,6,IF((DATEDIF($B21,$E21,"M")-6)/12=5,6,7)))))),IF($C21*1=1,IF((DATEDIF($B21,$E21,"M")-6)/12=0,1,IF((DATEDIF($B21,$E21,"M")-6)/12=1,2,IF((DATEDIF($B21,$E21,"M")-6)/12=2,2,IF((DATEDIF($B21,$E21,"M")-6)/12=3,2,IF((DATEDIF($B21,$E21,"M")-6)/12=4,3,IF((DATEDIF($B21,$E21,"M")-6)/12=5,3,3)))))),IF((DATEDIF($B21,$E21,"M")-6)/12=0,10,IF((DATEDIF($B21,$E21,"M")-6)/12=1,11,IF((DATEDIF($B21,$E21,"M")-6)/12=2,12,IF((DATEDIF($B21,$E21,"M")-6)/12=3,14,IF((DATEDIF($B21,$E21,"M")-6)/12=4,16,IF((DATEDIF($B21,$E21,"M")-6)/12=5,18,20)))))))))))) | G21: =IF($A21="","",$D21+$F21) | H21: =IF($A21="","",IF($E21="",0,SUMIFS('入力する'!$E$2:$E$201,'入力する'!$B$2:$B$201,$A21,'入力する'!$A$2:$A$201,">="&$E21,'入力する'!$A$2:$A$201,"<"&EDATE($E21,12)))) | I21: =IF($A21="","",$G21-$H21) | J21: =IF($A21="","",IF($E21="",0,SUMIFS('入力する'!$F$2:$F$201,'入力する'!$B$2:$B$201,$A21,'入力する'!$A$2:$A$201,">="&$E21,'入力する'!$A$2:$A$201,"<"&EDATE($E21,12)))) | K21: =IF($A21="","",IF($E21="","付与前",IF($F21<10,"対象外",IF($J21>=5,"達成","あと"&TEXT(5-$J21,"0.0")&"日")))) | L21: =IF($A21="","",IF($E21="","",EDATE($E21,12)-1)) | M21: =IF($A21="","",IF($H21=0,"",RANK($H21,$H$21:$H$32)))
C22: 5 | E22: =IF(OR($A22="",$B22=""),"",IF(TODAY()<EDATE($B22,6),"",EDATE($B22,6+12*INT(DATEDIF(EDATE($B22,6),TODAY(),"M")/12)))) | F22: =IF($A22="","",IF($E22="",0,IF($C22*1=4,IF((DATEDIF($B22,$E22,"M")-6)/12=0,7,IF((DATEDIF($B22,$E22,"M")-6)/12=1,8,IF((DATEDIF($B22,$E22,"M")-6)/12=2,9,IF((DATEDIF($B22,$E22,"M")-6)/12=3,10,IF((DATEDIF($B22,$E22,"M")-6)/12=4,12,IF((DATEDIF($B22,$E22,"M")-6)/12=5,13,15)))))),IF($C22*1=3,IF((DATEDIF($B22,$E22,"M")-6)/12=0,5,IF((DATEDIF($B22,$E22,"M")-6)/12=1,6,IF((DATEDIF($B22,$E22,"M")-6)/12=2,6,IF((DATEDIF($B22,$E22,"M")-6)/12=3,8,IF((DATEDIF($B22,$E22,"M")-6)/12=4,9,IF((DATEDIF($B22,$E22,"M")-6)/12=5,10,11)))))),IF($C22*1=2,IF((DATEDIF($B22,$E22,"M")-6)/12=0,3,IF((DATEDIF($B22,$E22,"M")-6)/12=1,4,IF((DATEDIF($B22,$E22,"M")-6)/12=2,4,IF((DATEDIF($B22,$E22,"M")-6)/12=3,5,IF((DATEDIF($B22,$E22,"M")-6)/12=4,6,IF((DATEDIF($B22,$E22,"M")-6)/12=5,6,7)))))),IF($C22*1=1,IF((DATEDIF($B22,$E22,"M")-6)/12=0,1,IF((DATEDIF($B22,$E22,"M")-6)/12=1,2,IF((DATEDIF($B22,$E22,"M")-6)/12=2,2,IF((DATEDIF($B22,$E22,"M")-6)/12=3,2,IF((DATEDIF($B22,$E22,"M")-6)/12=4,3,IF((DATEDIF($B22,$E22,"M")-6)/12=5,3,3)))))),IF((DATEDIF($B22,$E22,"M")-6)/12=0,10,IF((DATEDIF($B22,$E22,"M")-6)/12=1,11,IF((DATEDIF($B22,$E22,"M")-6)/12=2,12,IF((DATEDIF($B22,$E22,"M")-6)/12=3,14,IF((DATEDIF($B22,$E22,"M")-6)/12=4,16,IF((DATEDIF($B22,$E22,"M")-6)/12=5,18,20)))))))))))) | G22: =IF($A22="","",$D22+$F22) | H22: =IF($A22="","",IF($E22="",0,SUMIFS('入力する'!$E$2:$E$201,'入力する'!$B$2:$B$201,$A22,'入力する'!$A$2:$A$201,">="&$E22,'入力する'!$A$2:$A$201,"<"&EDATE($E22,12)))) | I22: =IF($A22="","",$G22-$H22) | J22: =IF($A22="","",IF($E22="",0,SUMIFS('入力する'!$F$2:$F$201,'入力する'!$B$2:$B$201,$A22,'入力する'!$A$2:$A$201,">="&$E22,'入力する'!$A$2:$A$201,"<"&EDATE($E22,12)))) | K22: =IF($A22="","",IF($E22="","付与前",IF($F22<10,"対象外",IF($J22>=5,"達成","あと"&TEXT(5-$J22,"0.0")&"日")))) | L22: =IF($A22="","",IF($E22="","",EDATE($E22,12)-1)) | M22: =IF($A22="","",IF($H22=0,"",RANK($H22,$H$21:$H$32)))
C23: 5 | E23: =IF(OR($A23="",$B23=""),"",IF(TODAY()<EDATE($B23,6),"",EDATE($B23,6+12*INT(DATEDIF(EDATE($B23,6),TODAY(),"M")/12)))) | F23: =IF($A23="","",IF($E23="",0,IF($C23*1=4,IF((DATEDIF($B23,$E23,"M")-6)/12=0,7,IF((DATEDIF($B23,$E23,"M")-6)/12=1,8,IF((DATEDIF($B23,$E23,"M")-6)/12=2,9,IF((DATEDIF($B23,$E23,"M")-6)/12=3,10,IF((DATEDIF($B23,$E23,"M")-6)/12=4,12,IF((DATEDIF($B23,$E23,"M")-6)/12=5,13,15)))))),IF($C23*1=3,IF((DATEDIF($B23,$E23,"M")-6)/12=0,5,IF((DATEDIF($B23,$E23,"M")-6)/12=1,6,IF((DATEDIF($B23,$E23,"M")-6)/12=2,6,IF((DATEDIF($B23,$E23,"M")-6)/12=3,8,IF((DATEDIF($B23,$E23,"M")-6)/12=4,9,IF((DATEDIF($B23,$E23,"M")-6)/12=5,10,11)))))),IF($C23*1=2,IF((DATEDIF($B23,$E23,"M")-6)/12=0,3,IF((DATEDIF($B23,$E23,"M")-6)/12=1,4,IF((DATEDIF($B23,$E23,"M")-6)/12=2,4,IF((DATEDIF($B23,$E23,"M")-6)/12=3,5,IF((DATEDIF($B23,$E23,"M")-6)/12=4,6,IF((DATEDIF($B23,$E23,"M")-6)/12=5,6,7)))))),IF($C23*1=1,IF((DATEDIF($B23,$E23,"M")-6)/12=0,1,IF((DATEDIF($B23,$E23,"M")-6)/12=1,2,IF((DATEDIF($B23,$E23,"M")-6)/12=2,2,IF((DATEDIF($B23,$E23,"M")-6)/12=3,2,IF((DATEDIF($B23,$E23,"M")-6)/12=4,3,IF((DATEDIF($B23,$E23,"M")-6)/12=5,3,3)))))),IF((DATEDIF($B23,$E23,"M")-6)/12=0,10,IF((DATEDIF($B23,$E23,"M")-6)/12=1,11,IF((DATEDIF($B23,$E23,"M")-6)/12=2,12,IF((DATEDIF($B23,$E23,"M")-6)/12=3,14,IF((DATEDIF($B23,$E23,"M")-6)/12=4,16,IF((DATEDIF($B23,$E23,"M")-6)/12=5,18,20)))))))))))) | G23: =IF($A23="","",$D23+$F23) | H23: =IF($A23="","",IF($E23="",0,SUMIFS('入力する'!$E$2:$E$201,'入力する'!$B$2:$B$201,$A23,'入力する'!$A$2:$A$201,">="&$E23,'入力する'!$A$2:$A$201,"<"&EDATE($E23,12)))) | I23: =IF($A23="","",$G23-$H23) | J23: =IF($A23="","",IF($E23="",0,SUMIFS('入力する'!$F$2:$F$201,'入力する'!$B$2:$B$201,$A23,'入力する'!$A$2:$A$201,">="&$E23,'入力する'!$A$2:$A$201,"<"&EDATE($E23,12)))) | K23: =IF($A23="","",IF($E23="","付与前",IF($F23<10,"対象外",IF($J23>=5,"達成","あと"&TEXT(5-$J23,"0.0")&"日")))) | L23: =IF($A23="","",IF($E23="","",EDATE($E23,12)-1)) | M23: =IF($A23="","",IF($H23=0,"",RANK($H23,$H$21:$H$32)))
C24: 5 | E24: =IF(OR($A24="",$B24=""),"",IF(TODAY()<EDATE($B24,6),"",EDATE($B24,6+12*INT(DATEDIF(EDATE($B24,6),TODAY(),"M")/12)))) | F24: =IF($A24="","",IF($E24="",0,IF($C24*1=4,IF((DATEDIF($B24,$E24,"M")-6)/12=0,7,IF((DATEDIF($B24,$E24,"M")-6)/12=1,8,IF((DATEDIF($B24,$E24,"M")-6)/12=2,9,IF((DATEDIF($B24,$E24,"M")-6)/12=3,10,IF((DATEDIF($B24,$E24,"M")-6)/12=4,12,IF((DATEDIF($B24,$E24,"M")-6)/12=5,13,15)))))),IF($C24*1=3,IF((DATEDIF($B24,$E24,"M")-6)/12=0,5,IF((DATEDIF($B24,$E24,"M")-6)/12=1,6,IF((DATEDIF($B24,$E24,"M")-6)/12=2,6,IF((DATEDIF($B24,$E24,"M")-6)/12=3,8,IF((DATEDIF($B24,$E24,"M")-6)/12=4,9,IF((DATEDIF($B24,$E24,"M")-6)/12=5,10,11)))))),IF($C24*1=2,IF((DATEDIF($B24,$E24,"M")-6)/12=0,3,IF((DATEDIF($B24,$E24,"M")-6)/12=1,4,IF((DATEDIF($B24,$E24,"M")-6)/12=2,4,IF((DATEDIF($B24,$E24,"M")-6)/12=3,5,IF((DATEDIF($B24,$E24,"M")-6)/12=4,6,IF((DATEDIF($B24,$E24,"M")-6)/12=5,6,7)))))),IF($C24*1=1,IF((DATEDIF($B24,$E24,"M")-6)/12=0,1,IF((DATEDIF($B24,$E24,"M")-6)/12=1,2,IF((DATEDIF($B24,$E24,"M")-6)/12=2,2,IF((DATEDIF($B24,$E24,"M")-6)/12=3,2,IF((DATEDIF($B24,$E24,"M")-6)/12=4,3,IF((DATEDIF($B24,$E24,"M")-6)/12=5,3,3)))))),IF((DATEDIF($B24,$E24,"M")-6)/12=0,10,IF((DATEDIF($B24,$E24,"M")-6)/12=1,11,IF((DATEDIF($B24,$E24,"M")-6)/12=2,12,IF((DATEDIF($B24,$E24,"M")-6)/12=3,14,IF((DATEDIF($B24,$E24,"M")-6)/12=4,16,IF((DATEDIF($B24,$E24,"M")-6)/12=5,18,20)))))))))))) | G24: =IF($A24="","",$D24+$F24) | H24: =IF($A24="","",IF($E24="",0,SUMIFS('入力する'!$E$2:$E$201,'入力する'!$B$2:$B$201,$A24,'入力する'!$A$2:$A$201,">="&$E24,'入力する'!$A$2:$A$201,"<"&EDATE($E24,12)))) | I24: =IF($A24="","",$G24-$H24) | J24: =IF($A24="","",IF($E24="",0,SUMIFS('入力する'!$F$2:$F$201,'入力する'!$B$2:$B$201,$A24,'入力する'!$A$2:$A$201,">="&$E24,'入力する'!$A$2:$A$201,"<"&EDATE($E24,12)))) | K24: =IF($A24="","",IF($E24="","付与前",IF($F24<10,"対象外",IF($J24>=5,"達成","あと"&TEXT(5-$J24,"0.0")&"日")))) | L24: =IF($A24="","",IF($E24="","",EDATE($E24,12)-1)) | M24: =IF($A24="","",IF($H24=0,"",RANK($H24,$H$21:$H$32)))
C25: 5 | E25: =IF(OR($A25="",$B25=""),"",IF(TODAY()<EDATE($B25,6),"",EDATE($B25,6+12*INT(DATEDIF(EDATE($B25,6),TODAY(),"M")/12)))) | F25: =IF($A25="","",IF($E25="",0,IF($C25*1=4,IF((DATEDIF($B25,$E25,"M")-6)/12=0,7,IF((DATEDIF($B25,$E25,"M")-6)/12=1,8,IF((DATEDIF($B25,$E25,"M")-6)/12=2,9,IF((DATEDIF($B25,$E25,"M")-6)/12=3,10,IF((DATEDIF($B25,$E25,"M")-6)/12=4,12,IF((DATEDIF($B25,$E25,"M")-6)/12=5,13,15)))))),IF($C25*1=3,IF((DATEDIF($B25,$E25,"M")-6)/12=0,5,IF((DATEDIF($B25,$E25,"M")-6)/12=1,6,IF((DATEDIF($B25,$E25,"M")-6)/12=2,6,IF((DATEDIF($B25,$E25,"M")-6)/12=3,8,IF((DATEDIF($B25,$E25,"M")-6)/12=4,9,IF((DATEDIF($B25,$E25,"M")-6)/12=5,10,11)))))),IF($C25*1=2,IF((DATEDIF($B25,$E25,"M")-6)/12=0,3,IF((DATEDIF($B25,$E25,"M")-6)/12=1,4,IF((DATEDIF($B25,$E25,"M")-6)/12=2,4,IF((DATEDIF($B25,$E25,"M")-6)/12=3,5,IF((DATEDIF($B25,$E25,"M")-6)/12=4,6,IF((DATEDIF($B25,$E25,"M")-6)/12=5,6,7)))))),IF($C25*1=1,IF((DATEDIF($B25,$E25,"M")-6)/12=0,1,IF((DATEDIF($B25,$E25,"M")-6)/12=1,2,IF((DATEDIF($B25,$E25,"M")-6)/12=2,2,IF((DATEDIF($B25,$E25,"M")-6)/12=3,2,IF((DATEDIF($B25,$E25,"M")-6)/12=4,3,IF((DATEDIF($B25,$E25,"M")-6)/12=5,3,3)))))),IF((DATEDIF($B25,$E25,"M")-6)/12=0,10,IF((DATEDIF($B25,$E25,"M")-6)/12=1,11,IF((DATEDIF($B25,$E25,"M")-6)/12=2,12,IF((DATEDIF($B25,$E25,"M")-6)/12=3,14,IF((DATEDIF($B25,$E25,"M")-6)/12=4,16,IF((DATEDIF($B25,$E25,"M")-6)/12=5,18,20)))))))))))) | G25: =IF($A25="","",$D25+$F25) | H25: =IF($A25="","",IF($E25="",0,SUMIFS('入力する'!$E$2:$E$201,'入力する'!$B$2:$B$201,$A25,'入力する'!$A$2:$A$201,">="&$E25,'入力する'!$A$2:$A$201,"<"&EDATE($E25,12)))) | I25: =IF($A25="","",$G25-$H25) | J25: =IF($A25="","",IF($E25="",0,SUMIFS('入力する'!$F$2:$F$201,'入力する'!$B$2:$B$201,$A25,'入力する'!$A$2:$A$201,">="&$E25,'入力する'!$A$2:$A$201,"<"&EDATE($E25,12)))) | K25: =IF($A25="","",IF($E25="","付与前",IF($F25<10,"対象外",IF($J25>=5,"達成","あと"&TEXT(5-$J25,"0.0")&"日")))) | L25: =IF($A25="","",IF($E25="","",EDATE($E25,12)-1)) | M25: =IF($A25="","",IF($H25=0,"",RANK($H25,$H$21:$H$32)))
C26: 5 | E26: =IF(OR($A26="",$B26=""),"",IF(TODAY()<EDATE($B26,6),"",EDATE($B26,6+12*INT(DATEDIF(EDATE($B26,6),TODAY(),"M")/12)))) | F26: =IF($A26="","",IF($E26="",0,IF($C26*1=4,IF((DATEDIF($B26,$E26,"M")-6)/12=0,7,IF((DATEDIF($B26,$E26,"M")-6)/12=1,8,IF((DATEDIF($B26,$E26,"M")-6)/12=2,9,IF((DATEDIF($B26,$E26,"M")-6)/12=3,10,IF((DATEDIF($B26,$E26,"M")-6)/12=4,12,IF((DATEDIF($B26,$E26,"M")-6)/12=5,13,15)))))),IF($C26*1=3,IF((DATEDIF($B26,$E26,"M")-6)/12=0,5,IF((DATEDIF($B26,$E26,"M")-6)/12=1,6,IF((DATEDIF($B26,$E26,"M")-6)/12=2,6,IF((DATEDIF($B26,$E26,"M")-6)/12=3,8,IF((DATEDIF($B26,$E26,"M")-6)/12=4,9,IF((DATEDIF($B26,$E26,"M")-6)/12=5,10,11)))))),IF($C26*1=2,IF((DATEDIF($B26,$E26,"M")-6)/12=0,3,IF((DATEDIF($B26,$E26,"M")-6)/12=1,4,IF((DATEDIF($B26,$E26,"M")-6)/12=2,4,IF((DATEDIF($B26,$E26,"M")-6)/12=3,5,IF((DATEDIF($B26,$E26,"M")-6)/12=4,6,IF((DATEDIF($B26,$E26,"M")-6)/12=5,6,7)))))),IF($C26*1=1,IF((DATEDIF($B26,$E26,"M")-6)/12=0,1,IF((DATEDIF($B26,$E26,"M")-6)/12=1,2,IF((DATEDIF($B26,$E26,"M")-6)/12=2,2,IF((DATEDIF($B26,$E26,"M")-6)/12=3,2,IF((DATEDIF($B26,$E26,"M")-6)/12=4,3,IF((DATEDIF($B26,$E26,"M")-6)/12=5,3,3)))))),IF((DATEDIF($B26,$E26,"M")-6)/12=0,10,IF((DATEDIF($B26,$E26,"M")-6)/12=1,11,IF((DATEDIF($B26,$E26,"M")-6)/12=2,12,IF((DATEDIF($B26,$E26,"M")-6)/12=3,14,IF((DATEDIF($B26,$E26,"M")-6)/12=4,16,IF((DATEDIF($B26,$E26,"M")-6)/12=5,18,20)))))))))))) | G26: =IF($A26="","",$D26+$F26) | H26: =IF($A26="","",IF($E26="",0,SUMIFS('入力する'!$E$2:$E$201,'入力する'!$B$2:$B$201,$A26,'入力する'!$A$2:$A$201,">="&$E26,'入力する'!$A$2:$A$201,"<"&EDATE($E26,12)))) | I26: =IF($A26="","",$G26-$H26) | J26: =IF($A26="","",IF($E26="",0,SUMIFS('入力する'!$F$2:$F$201,'入力する'!$B$2:$B$201,$A26,'入力する'!$A$2:$A$201,">="&$E26,'入力する'!$A$2:$A$201,"<"&EDATE($E26,12)))) | K26: =IF($A26="","",IF($E26="","付与前",IF($F26<10,"対象外",IF($J26>=5,"達成","あと"&TEXT(5-$J26,"0.0")&"日")))) | L26: =IF($A26="","",IF($E26="","",EDATE($E26,12)-1)) | M26: =IF($A26="","",IF($H26=0,"",RANK($H26,$H$21:$H$32)))
C27: 5 | E27: =IF(OR($A27="",$B27=""),"",IF(TODAY()<EDATE($B27,6),"",EDATE($B27,6+12*INT(DATEDIF(EDATE($B27,6),TODAY(),"M")/12)))) | F27: =IF($A27="","",IF($E27="",0,IF($C27*1=4,IF((DATEDIF($B27,$E27,"M")-6)/12=0,7,IF((DATEDIF($B27,$E27,"M")-6)/12=1,8,IF((DATEDIF($B27,$E27,"M")-6)/12=2,9,IF((DATEDIF($B27,$E27,"M")-6)/12=3,10,IF((DATEDIF($B27,$E27,"M")-6)/12=4,12,IF((DATEDIF($B27,$E27,"M")-6)/12=5,13,15)))))),IF($C27*1=3,IF((DATEDIF($B27,$E27,"M")-6)/12=0,5,IF((DATEDIF($B27,$E27,"M")-6)/12=1,6,IF((DATEDIF($B27,$E27,"M")-6)/12=2,6,IF((DATEDIF($B27,$E27,"M")-6)/12=3,8,IF((DATEDIF($B27,$E27,"M")-6)/12=4,9,IF((DATEDIF($B27,$E27,"M")-6)/12=5,10,11)))))),IF($C27*1=2,IF((DATEDIF($B27,$E27,"M")-6)/12=0,3,IF((DATEDIF($B27,$E27,"M")-6)/12=1,4,IF((DATEDIF($B27,$E27,"M")-6)/12=2,4,IF((DATEDIF($B27,$E27,"M")-6)/12=3,5,IF((DATEDIF($B27,$E27,"M")-6)/12=4,6,IF((DATEDIF($B27,$E27,"M")-6)/12=5,6,7)))))),IF($C27*1=1,IF((DATEDIF($B27,$E27,"M")-6)/12=0,1,IF((DATEDIF($B27,$E27,"M")-6)/12=1,2,IF((DATEDIF($B27,$E27,"M")-6)/12=2,2,IF((DATEDIF($B27,$E27,"M")-6)/12=3,2,IF((DATEDIF($B27,$E27,"M")-6)/12=4,3,IF((DATEDIF($B27,$E27,"M")-6)/12=5,3,3)))))),IF((DATEDIF($B27,$E27,"M")-6)/12=0,10,IF((DATEDIF($B27,$E27,"M")-6)/12=1,11,IF((DATEDIF($B27,$E27,"M")-6)/12=2,12,IF((DATEDIF($B27,$E27,"M")-6)/12=3,14,IF((DATEDIF($B27,$E27,"M")-6)/12=4,16,IF((DATEDIF($B27,$E27,"M")-6)/12=5,18,20)))))))))))) | G27: =IF($A27="","",$D27+$F27) | H27: =IF($A27="","",IF($E27="",0,SUMIFS('入力する'!$E$2:$E$201,'入力する'!$B$2:$B$201,$A27,'入力する'!$A$2:$A$201,">="&$E27,'入力する'!$A$2:$A$201,"<"&EDATE($E27,12)))) | I27: =IF($A27="","",$G27-$H27) | J27: =IF($A27="","",IF($E27="",0,SUMIFS('入力する'!$F$2:$F$201,'入力する'!$B$2:$B$201,$A27,'入力する'!$A$2:$A$201,">="&$E27,'入力する'!$A$2:$A$201,"<"&EDATE($E27,12)))) | K27: =IF($A27="","",IF($E27="","付与前",IF($F27<10,"対象外",IF($J27>=5,"達成","あと"&TEXT(5-$J27,"0.0")&"日")))) | L27: =IF($A27="","",IF($E27="","",EDATE($E27,12)-1)) | M27: =IF($A27="","",IF($H27=0,"",RANK($H27,$H$21:$H$32)))
C28: 5 | E28: =IF(OR($A28="",$B28=""),"",IF(TODAY()<EDATE($B28,6),"",EDATE($B28,6+12*INT(DATEDIF(EDATE($B28,6),TODAY(),"M")/12)))) | F28: =IF($A28="","",IF($E28="",0,IF($C28*1=4,IF((DATEDIF($B28,$E28,"M")-6)/12=0,7,IF((DATEDIF($B28,$E28,"M")-6)/12=1,8,IF((DATEDIF($B28,$E28,"M")-6)/12=2,9,IF((DATEDIF($B28,$E28,"M")-6)/12=3,10,IF((DATEDIF($B28,$E28,"M")-6)/12=4,12,IF((DATEDIF($B28,$E28,"M")-6)/12=5,13,15)))))),IF($C28*1=3,IF((DATEDIF($B28,$E28,"M")-6)/12=0,5,IF((DATEDIF($B28,$E28,"M")-6)/12=1,6,IF((DATEDIF($B28,$E28,"M")-6)/12=2,6,IF((DATEDIF($B28,$E28,"M")-6)/12=3,8,IF((DATEDIF($B28,$E28,"M")-6)/12=4,9,IF((DATEDIF($B28,$E28,"M")-6)/12=5,10,11)))))),IF($C28*1=2,IF((DATEDIF($B28,$E28,"M")-6)/12=0,3,IF((DATEDIF($B28,$E28,"M")-6)/12=1,4,IF((DATEDIF($B28,$E28,"M")-6)/12=2,4,IF((DATEDIF($B28,$E28,"M")-6)/12=3,5,IF((DATEDIF($B28,$E28,"M")-6)/12=4,6,IF((DATEDIF($B28,$E28,"M")-6)/12=5,6,7)))))),IF($C28*1=1,IF((DATEDIF($B28,$E28,"M")-6)/12=0,1,IF((DATEDIF($B28,$E28,"M")-6)/12=1,2,IF((DATEDIF($B28,$E28,"M")-6)/12=2,2,IF((DATEDIF($B28,$E28,"M")-6)/12=3,2,IF((DATEDIF($B28,$E28,"M")-6)/12=4,3,IF((DATEDIF($B28,$E28,"M")-6)/12=5,3,3)))))),IF((DATEDIF($B28,$E28,"M")-6)/12=0,10,IF((DATEDIF($B28,$E28,"M")-6)/12=1,11,IF((DATEDIF($B28,$E28,"M")-6)/12=2,12,IF((DATEDIF($B28,$E28,"M")-6)/12=3,14,IF((DATEDIF($B28,$E28,"M")-6)/12=4,16,IF((DATEDIF($B28,$E28,"M")-6)/12=5,18,20)))))))))))) | G28: =IF($A28="","",$D28+$F28) | H28: =IF($A28="","",IF($E28="",0,SUMIFS('入力する'!$E$2:$E$201,'入力する'!$B$2:$B$201,$A28,'入力する'!$A$2:$A$201,">="&$E28,'入力する'!$A$2:$A$201,"<"&EDATE($E28,12)))) | I28: =IF($A28="","",$G28-$H28) | J28: =IF($A28="","",IF($E28="",0,SUMIFS('入力する'!$F$2:$F$201,'入力する'!$B$2:$B$201,$A28,'入力する'!$A$2:$A$201,">="&$E28,'入力する'!$A$2:$A$201,"<"&EDATE($E28,12)))) | K28: =IF($A28="","",IF($E28="","付与前",IF($F28<10,"対象外",IF($J28>=5,"達成","あと"&TEXT(5-$J28,"0.0")&"日")))) | L28: =IF($A28="","",IF($E28="","",EDATE($E28,12)-1)) | M28: =IF($A28="","",IF($H28=0,"",RANK($H28,$H$21:$H$32)))
C29: 5 | E29: =IF(OR($A29="",$B29=""),"",IF(TODAY()<EDATE($B29,6),"",EDATE($B29,6+12*INT(DATEDIF(EDATE($B29,6),TODAY(),"M")/12)))) | F29: =IF($A29="","",IF($E29="",0,IF($C29*1=4,IF((DATEDIF($B29,$E29,"M")-6)/12=0,7,IF((DATEDIF($B29,$E29,"M")-6)/12=1,8,IF((DATEDIF($B29,$E29,"M")-6)/12=2,9,IF((DATEDIF($B29,$E29,"M")-6)/12=3,10,IF((DATEDIF($B29,$E29,"M")-6)/12=4,12,IF((DATEDIF($B29,$E29,"M")-6)/12=5,13,15)))))),IF($C29*1=3,IF((DATEDIF($B29,$E29,"M")-6)/12=0,5,IF((DATEDIF($B29,$E29,"M")-6)/12=1,6,IF((DATEDIF($B29,$E29,"M")-6)/12=2,6,IF((DATEDIF($B29,$E29,"M")-6)/12=3,8,IF((DATEDIF($B29,$E29,"M")-6)/12=4,9,IF((DATEDIF($B29,$E29,"M")-6)/12=5,10,11)))))),IF($C29*1=2,IF((DATEDIF($B29,$E29,"M")-6)/12=0,3,IF((DATEDIF($B29,$E29,"M")-6)/12=1,4,IF((DATEDIF($B29,$E29,"M")-6)/12=2,4,IF((DATEDIF($B29,$E29,"M")-6)/12=3,5,IF((DATEDIF($B29,$E29,"M")-6)/12=4,6,IF((DATEDIF($B29,$E29,"M")-6)/12=5,6,7)))))),IF($C29*1=1,IF((DATEDIF($B29,$E29,"M")-6)/12=0,1,IF((DATEDIF($B29,$E29,"M")-6)/12=1,2,IF((DATEDIF($B29,$E29,"M")-6)/12=2,2,IF((DATEDIF($B29,$E29,"M")-6)/12=3,2,IF((DATEDIF($B29,$E29,"M")-6)/12=4,3,IF((DATEDIF($B29,$E29,"M")-6)/12=5,3,3)))))),IF((DATEDIF($B29,$E29,"M")-6)/12=0,10,IF((DATEDIF($B29,$E29,"M")-6)/12=1,11,IF((DATEDIF($B29,$E29,"M")-6)/12=2,12,IF((DATEDIF($B29,$E29,"M")-6)/12=3,14,IF((DATEDIF($B29,$E29,"M")-6)/12=4,16,IF((DATEDIF($B29,$E29,"M")-6)/12=5,18,20)))))))))))) | G29: =IF($A29="","",$D29+$F29) | H29: =IF($A29="","",IF($E29="",0,SUMIFS('入力する'!$E$2:$E$201,'入力する'!$B$2:$B$201,$A29,'入力する'!$A$2:$A$201,">="&$E29,'入力する'!$A$2:$A$201,"<"&EDATE($E29,12)))) | I29: =IF($A29="","",$G29-$H29) | J29: =IF($A29="","",IF($E29="",0,SUMIFS('入力する'!$F$2:$F$201,'入力する'!$B$2:$B$201,$A29,'入力する'!$A$2:$A$201,">="&$E29,'入力する'!$A$2:$A$201,"<"&EDATE($E29,12)))) | K29: =IF($A29="","",IF($E29="","付与前",IF($F29<10,"対象外",IF($J29>=5,"達成","あと"&TEXT(5-$J29,"0.0")&"日")))) | L29: =IF($A29="","",IF($E29="","",EDATE($E29,12)-1)) | M29: =IF($A29="","",IF($H29=0,"",RANK($H29,$H$21:$H$32)))
C30: 5 | E30: =IF(OR($A30="",$B30=""),"",IF(TODAY()<EDATE($B30,6),"",EDATE($B30,6+12*INT(DATEDIF(EDATE($B30,6),TODAY(),"M")/12)))) | F30: =IF($A30="","",IF($E30="",0,IF($C30*1=4,IF((DATEDIF($B30,$E30,"M")-6)/12=0,7,IF((DATEDIF($B30,$E30,"M")-6)/12=1,8,IF((DATEDIF($B30,$E30,"M")-6)/12=2,9,IF((DATEDIF($B30,$E30,"M")-6)/12=3,10,IF((DATEDIF($B30,$E30,"M")-6)/12=4,12,IF((DATEDIF($B30,$E30,"M")-6)/12=5,13,15)))))),IF($C30*1=3,IF((DATEDIF($B30,$E30,"M")-6)/12=0,5,IF((DATEDIF($B30,$E30,"M")-6)/12=1,6,IF((DATEDIF($B30,$E30,"M")-6)/12=2,6,IF((DATEDIF($B30,$E30,"M")-6)/12=3,8,IF((DATEDIF($B30,$E30,"M")-6)/12=4,9,IF((DATEDIF($B30,$E30,"M")-6)/12=5,10,11)))))),IF($C30*1=2,IF((DATEDIF($B30,$E30,"M")-6)/12=0,3,IF((DATEDIF($B30,$E30,"M")-6)/12=1,4,IF((DATEDIF($B30,$E30,"M")-6)/12=2,4,IF((DATEDIF($B30,$E30,"M")-6)/12=3,5,IF((DATEDIF($B30,$E30,"M")-6)/12=4,6,IF((DATEDIF($B30,$E30,"M")-6)/12=5,6,7)))))),IF($C30*1=1,IF((DATEDIF($B30,$E30,"M")-6)/12=0,1,IF((DATEDIF($B30,$E30,"M")-6)/12=1,2,IF((DATEDIF($B30,$E30,"M")-6)/12=2,2,IF((DATEDIF($B30,$E30,"M")-6)/12=3,2,IF((DATEDIF($B30,$E30,"M")-6)/12=4,3,IF((DATEDIF($B30,$E30,"M")-6)/12=5,3,3)))))),IF((DATEDIF($B30,$E30,"M")-6)/12=0,10,IF((DATEDIF($B30,$E30,"M")-6)/12=1,11,IF((DATEDIF($B30,$E30,"M")-6)/12=2,12,IF((DATEDIF($B30,$E30,"M")-6)/12=3,14,IF((DATEDIF($B30,$E30,"M")-6)/12=4,16,IF((DATEDIF($B30,$E30,"M")-6)/12=5,18,20)))))))))))) | G30: =IF($A30="","",$D30+$F30) | H30: =IF($A30="","",IF($E30="",0,SUMIFS('入力する'!$E$2:$E$201,'入力する'!$B$2:$B$201,$A30,'入力する'!$A$2:$A$201,">="&$E30,'入力する'!$A$2:$A$201,"<"&EDATE($E30,12)))) | I30: =IF($A30="","",$G30-$H30) | J30: =IF($A30="","",IF($E30="",0,SUMIFS('入力する'!$F$2:$F$201,'入力する'!$B$2:$B$201,$A30,'入力する'!$A$2:$A$201,">="&$E30,'入力する'!$A$2:$A$201,"<"&EDATE($E30,12)))) | K30: =IF($A30="","",IF($E30="","付与前",IF($F30<10,"対象外",IF($J30>=5,"達成","あと"&TEXT(5-$J30,"0.0")&"日")))) | L30: =IF($A30="","",IF($E30="","",EDATE($E30,12)-1)) | M30: =IF($A30="","",IF($H30=0,"",RANK($H30,$H$21:$H$32)))
C31: 5 | E31: =IF(OR($A31="",$B31=""),"",IF(TODAY()<EDATE($B31,6),"",EDATE($B31,6+12*INT(DATEDIF(EDATE($B31,6),TODAY(),"M")/12)))) | F31: =IF($A31="","",IF($E31="",0,IF($C31*1=4,IF((DATEDIF($B31,$E31,"M")-6)/12=0,7,IF((DATEDIF($B31,$E31,"M")-6)/12=1,8,IF((DATEDIF($B31,$E31,"M")-6)/12=2,9,IF((DATEDIF($B31,$E31,"M")-6)/12=3,10,IF((DATEDIF($B31,$E31,"M")-6)/12=4,12,IF((DATEDIF($B31,$E31,"M")-6)/12=5,13,15)))))),IF($C31*1=3,IF((DATEDIF($B31,$E31,"M")-6)/12=0,5,IF((DATEDIF($B31,$E31,"M")-6)/12=1,6,IF((DATEDIF($B31,$E31,"M")-6)/12=2,6,IF((DATEDIF($B31,$E31,"M")-6)/12=3,8,IF((DATEDIF($B31,$E31,"M")-6)/12=4,9,IF((DATEDIF($B31,$E31,"M")-6)/12=5,10,11)))))),IF($C31*1=2,IF((DATEDIF($B31,$E31,"M")-6)/12=0,3,IF((DATEDIF($B31,$E31,"M")-6)/12=1,4,IF((DATEDIF($B31,$E31,"M")-6)/12=2,4,IF((DATEDIF($B31,$E31,"M")-6)/12=3,5,IF((DATEDIF($B31,$E31,"M")-6)/12=4,6,IF((DATEDIF($B31,$E31,"M")-6)/12=5,6,7)))))),IF($C31*1=1,IF((DATEDIF($B31,$E31,"M")-6)/12=0,1,IF((DATEDIF($B31,$E31,"M")-6)/12=1,2,IF((DATEDIF($B31,$E31,"M")-6)/12=2,2,IF((DATEDIF($B31,$E31,"M")-6)/12=3,2,IF((DATEDIF($B31,$E31,"M")-6)/12=4,3,IF((DATEDIF($B31,$E31,"M")-6)/12=5,3,3)))))),IF((DATEDIF($B31,$E31,"M")-6)/12=0,10,IF((DATEDIF($B31,$E31,"M")-6)/12=1,11,IF((DATEDIF($B31,$E31,"M")-6)/12=2,12,IF((DATEDIF($B31,$E31,"M")-6)/12=3,14,IF((DATEDIF($B31,$E31,"M")-6)/12=4,16,IF((DATEDIF($B31,$E31,"M")-6)/12=5,18,20)))))))))))) | G31: =IF($A31="","",$D31+$F31) | H31: =IF($A31="","",IF($E31="",0,SUMIFS('入力する'!$E$2:$E$201,'入力する'!$B$2:$B$201,$A31,'入力する'!$A$2:$A$201,">="&$E31,'入力する'!$A$2:$A$201,"<"&EDATE($E31,12)))) | I31: =IF($A31="","",$G31-$H31) | J31: =IF($A31="","",IF($E31="",0,SUMIFS('入力する'!$F$2:$F$201,'入力する'!$B$2:$B$201,$A31,'入力する'!$A$2:$A$201,">="&$E31,'入力する'!$A$2:$A$201,"<"&EDATE($E31,12)))) | K31: =IF($A31="","",IF($E31="","付与前",IF($F31<10,"対象外",IF($J31>=5,"達成","あと"&TEXT(5-$J31,"0.0")&"日")))) | L31: =IF($A31="","",IF($E31="","",EDATE($E31,12)-1)) | M31: =IF($A31="","",IF($H31=0,"",RANK($H31,$H$21:$H$32)))
C32: 5 | E32: =IF(OR($A32="",$B32=""),"",IF(TODAY()<EDATE($B32,6),"",EDATE($B32,6+12*INT(DATEDIF(EDATE($B32,6),TODAY(),"M")/12)))) | F32: =IF($A32="","",IF($E32="",0,IF($C32*1=4,IF((DATEDIF($B32,$E32,"M")-6)/12=0,7,IF((DATEDIF($B32,$E32,"M")-6)/12=1,8,IF((DATEDIF($B32,$E32,"M")-6)/12=2,9,IF((DATEDIF($B32,$E32,"M")-6)/12=3,10,IF((DATEDIF($B32,$E32,"M")-6)/12=4,12,IF((DATEDIF($B32,$E32,"M")-6)/12=5,13,15)))))),IF($C32*1=3,IF((DATEDIF($B32,$E32,"M")-6)/12=0,5,IF((DATEDIF($B32,$E32,"M")-6)/12=1,6,IF((DATEDIF($B32,$E32,"M")-6)/12=2,6,IF((DATEDIF($B32,$E32,"M")-6)/12=3,8,IF((DATEDIF($B32,$E32,"M")-6)/12=4,9,IF((DATEDIF($B32,$E32,"M")-6)/12=5,10,11)))))),IF($C32*1=2,IF((DATEDIF($B32,$E32,"M")-6)/12=0,3,IF((DATEDIF($B32,$E32,"M")-6)/12=1,4,IF((DATEDIF($B32,$E32,"M")-6)/12=2,4,IF((DATEDIF($B32,$E32,"M")-6)/12=3,5,IF((DATEDIF($B32,$E32,"M")-6)/12=4,6,IF((DATEDIF($B32,$E32,"M")-6)/12=5,6,7)))))),IF($C32*1=1,IF((DATEDIF($B32,$E32,"M")-6)/12=0,1,IF((DATEDIF($B32,$E32,"M")-6)/12=1,2,IF((DATEDIF($B32,$E32,"M")-6)/12=2,2,IF((DATEDIF($B32,$E32,"M")-6)/12=3,2,IF((DATEDIF($B32,$E32,"M")-6)/12=4,3,IF((DATEDIF($B32,$E32,"M")-6)/12=5,3,3)))))),IF((DATEDIF($B32,$E32,"M")-6)/12=0,10,IF((DATEDIF($B32,$E32,"M")-6)/12=1,11,IF((DATEDIF($B32,$E32,"M")-6)/12=2,12,IF((DATEDIF($B32,$E32,"M")-6)/12=3,14,IF((DATEDIF($B32,$E32,"M")-6)/12=4,16,IF((DATEDIF($B32,$E32,"M")-6)/12=5,18,20)))))))))))) | G32: =IF($A32="","",$D32+$F32) | H32: =IF($A32="","",IF($E32="",0,SUMIFS('入力する'!$E$2:$E$201,'入力する'!$B$2:$B$201,$A32,'入力する'!$A$2:$A$201,">="&$E32,'入力する'!$A$2:$A$201,"<"&EDATE($E32,12)))) | I32: =IF($A32="","",$G32-$H32) | J32: =IF($A32="","",IF($E32="",0,SUMIFS('入力する'!$F$2:$F$201,'入力する'!$B$2:$B$201,$A32,'入力する'!$A$2:$A$201,">="&$E32,'入力する'!$A$2:$A$201,"<"&EDATE($E32,12)))) | K32: =IF($A32="","",IF($E32="","付与前",IF($F32<10,"対象外",IF($J32>=5,"達成","あと"&TEXT(5-$J32,"0.0")&"日")))) | L32: =IF($A32="","",IF($E32="","",EDATE($E32,12)-1)) | M32: =IF($A32="","",IF($H32=0,"",RANK($H32,$H$21:$H$32)))
A34: ④ 取得の単位ごとの内訳 | F34: ⑤ 月ごとの取得の推移（直近12か月）
A35: 取得の単位 | B35: 件数 | C35: 取得日数 | D35: 構成比 | F35: 月 | G35: 取得日数 | H35: 件数
A36: 全日 | B36: =COUNTIF('入力する'!$C$2:$C$201,$A36) | C36: =SUMIF('入力する'!$C$2:$C$201,$A36,'入力する'!$E$2:$E$201) | D36: =IF(SUM($C$36:$C$39)=0,"",$C36/SUM($C$36:$C$39)) | F36: =DATE(YEAR(TODAY()),MONTH(TODAY())-11,1) | G36: =SUMIFS('入力する'!$E$2:$E$201,'入力する'!$A$2:$A$201,">="&$F36,'入力する'!$A$2:$A$201,"<"&DATE(YEAR($F36),MONTH($F36)+1,1)) | H36: =COUNTIFS('入力する'!$A$2:$A$201,">="&$F36,'入力する'!$A$2:$A$201,"<"&DATE(YEAR($F36),MONTH($F36)+1,1))
A37: 午前半休 | B37: =COUNTIF('入力する'!$C$2:$C$201,$A37) | C37: =SUMIF('入力する'!$C$2:$C$201,$A37,'入力する'!$E$2:$E$201) | D37: =IF(SUM($C$36:$C$39)=0,"",$C37/SUM($C$36:$C$39)) | F37: =DATE(YEAR($F36),MONTH($F36)+1,1) | G37: =SUMIFS('入力する'!$E$2:$E$201,'入力する'!$A$2:$A$201,">="&$F37,'入力する'!$A$2:$A$201,"<"&DATE(YEAR($F37),MONTH($F37)+1,1)) | H37: =COUNTIFS('入力する'!$A$2:$A$201,">="&$F37,'入力する'!$A$2:$A$201,"<"&DATE(YEAR($F37),MONTH($F37)+1,1))
A38: 午後半休 | B38: =COUNTIF('入力する'!$C$2:$C$201,$A38) | C38: =SUMIF('入力する'!$C$2:$C$201,$A38,'入力する'!$E$2:$E$201) | D38: =IF(SUM($C$36:$C$39)=0,"",$C38/SUM($C$36:$C$39)) | F38: =DATE(YEAR($F37),MONTH($F37)+1,1) | G38: =SUMIFS('入力する'!$E$2:$E$201,'入力する'!$A$2:$A$201,">="&$F38,'入力する'!$A$2:$A$201,"<"&DATE(YEAR($F38),MONTH($F38)+1,1)) | H38: =COUNTIFS('入力する'!$A$2:$A$201,">="&$F38,'入力する'!$A$2:$A$201,"<"&DATE(YEAR($F38),MONTH($F38)+1,1))
A39: 時間単位 | B39: =COUNTIF('入力する'!$C$2:$C$201,$A39) | C39: =SUMIF('入力する'!$C$2:$C$201,$A39,'入力する'!$E$2:$E$201) | D39: =IF(SUM($C$36:$C$39)=0,"",$C39/SUM($C$36:$C$39)) | F39: =DATE(YEAR($F38),MONTH($F38)+1,1) | G39: =SUMIFS('入力する'!$E$2:$E$201,'入力する'!$A$2:$A$201,">="&$F39,'入力する'!$A$2:$A$201,"<"&DATE(YEAR($F39),MONTH($F39)+1,1)) | H39: =COUNTIFS('入力する'!$A$2:$A$201,">="&$F39,'入力する'!$A$2:$A$201,"<"&DATE(YEAR($F39),MONTH($F39)+1,1))
F40: =DATE(YEAR($F39),MONTH($F39)+1,1) | G40: =SUMIFS('入力する'!$E$2:$E$201,'入力する'!$A$2:$A$201,">="&$F40,'入力する'!$A$2:$A$201,"<"&DATE(YEAR($F40),MONTH($F40)+1,1)) | H40: =COUNTIFS('入力する'!$A$2:$A$201,">="&$F40,'入力する'!$A$2:$A$201,"<"&DATE(YEAR($F40),MONTH($F40)+1,1))
F41: =DATE(YEAR($F40),MONTH($F40)+1,1) | G41: =SUMIFS('入力する'!$E$2:$E$201,'入力する'!$A$2:$A$201,">="&$F41,'入力する'!$A$2:$A$201,"<"&DATE(YEAR($F41),MONTH($F41)+1,1)) | H41: =COUNTIFS('入力する'!$A$2:$A$201,">="&$F41,'入力する'!$A$2:$A$201,"<"&DATE(YEAR($F41),MONTH($F41)+1,1))
F42: =DATE(YEAR($F41),MONTH($F41)+1,1) | G42: =SUMIFS('入力する'!$E$2:$E$201,'入力する'!$A$2:$A$201,">="&$F42,'入力する'!$A$2:$A$201,"<"&DATE(YEAR($F42),MONTH($F42)+1,1)) | H42: =COUNTIFS('入力する'!$A$2:$A$201,">="&$F42,'入力する'!$A$2:$A$201,"<"&DATE(YEAR($F42),MONTH($F42)+1,1))
F43: =DATE(YEAR($F42),MONTH($F42)+1,1) | G43: =SUMIFS('入力する'!$E$2:$E$201,'入力する'!$A$2:$A$201,">="&$F43,'入力する'!$A$2:$A$201,"<"&DATE(YEAR($F43),MONTH($F43)+1,1)) | H43: =COUNTIFS('入力する'!$A$2:$A$201,">="&$F43,'入力する'!$A$2:$A$201,"<"&DATE(YEAR($F43),MONTH($F43)+1,1))
F44: =DATE(YEAR($F43),MONTH($F43)+1,1) | G44: =SUMIFS('入力する'!$E$2:$E$201,'入力する'!$A$2:$A$201,">="&$F44,'入力する'!$A$2:$A$201,"<"&DATE(YEAR($F44),MONTH($F44)+1,1)) | H44: =COUNTIFS('入力する'!$A$2:$A$201,">="&$F44,'入力する'!$A$2:$A$201,"<"&DATE(YEAR($F44),MONTH($F44)+1,1))
F45: =DATE(YEAR($F44),MONTH($F44)+1,1) | G45: =SUMIFS('入力する'!$E$2:$E$201,'入力する'!$A$2:$A$201,">="&$F45,'入力する'!$A$2:$A$201,"<"&DATE(YEAR($F45),MONTH($F45)+1,1)) | H45: =COUNTIFS('入力する'!$A$2:$A$201,">="&$F45,'入力する'!$A$2:$A$201,"<"&DATE(YEAR($F45),MONTH($F45)+1,1))
F46: =DATE(YEAR($F45),MONTH($F45)+1,1) | G46: =SUMIFS('入力する'!$E$2:$E$201,'入力する'!$A$2:$A$201,">="&$F46,'入力する'!$A$2:$A$201,"<"&DATE(YEAR($F46),MONTH($F46)+1,1)) | H46: =COUNTIFS('入力する'!$A$2:$A$201,">="&$F46,'入力する'!$A$2:$A$201,"<"&DATE(YEAR($F46),MONTH($F46)+1,1))
F47: =DATE(YEAR($F46),MONTH($F46)+1,1) | G47: =SUMIFS('入力する'!$E$2:$E$201,'入力する'!$A$2:$A$201,">="&$F47,'入力する'!$A$2:$A$201,"<"&DATE(YEAR($F47),MONTH($F47)+1,1)) | H47: =COUNTIFS('入力する'!$A$2:$A$201,">="&$F47,'入力する'!$A$2:$A$201,"<"&DATE(YEAR($F47),MONTH($F47)+1,1))
A49: ※ 「年5日の状況」に「あと◯日」と出ている人は、「取得の期限」までに残りの日数を取ってもらう必要があります。
A51: このテンプレートは自由に使ってかまいません。改変・再配布も可です。
A52: 配布元: 副業ポートフォリオ https://satoru-log.jp

Sheet 使い方と注意
A1: 有給休暇の管理表 — 使い方と注意
A2: 取得した日を1行ずつ記録するだけで、付与日数・残日数・年5日の取得義務の達成状況までが自動で出る管理表です。
A4: 使い方（3ステップ）
A5: 1. 「集計を見る」シートのB5に、1日の所定労働時間（ふつうは8）を入れます。時間単位の年休を日数に直すときに使います。
A6: 2. 同じシートのA21から下に、氏名・入社日・週の所定労働日数・前年からの繰越日数を1人1行で入れます。基準日と付与日数は自動で出ます。
A7: 3. 「入力する」シートのA2から下に、取得日・氏名・取得の単位を1行ずつ入れます。時間単位のときだけD列に時間数を入れてください。
A9: 自動で計算される場所
A10: 「入力する」E列「取得日数」… 全日は1日、午前半休と午後半休は0.5日、時間単位は「時間数÷1日の所定労働時間」で日数に直します。
A11: 「入力する」F列「年5日の対象」… 年5日の取得義務に数えられる日数です。時間単位の年休は数えられないので0になります。
A12: 「集計を見る」E〜M列 … 今期の基準日・付与日数・使える日数・取得日数・残日数・年5日の状況・取得の期限・取得の多い順が出ます。
A13: 「集計を見る」下段 … 取得の単位ごとの内訳と構成比、月ごとの取得日数の推移が出ます。グラフ2つも自動で動きます。
A15: 付与日数のめやす（労働基準法第39条）
... A49: 配布元: 副業ポートフォリオ https://satoru-log.jp
