Workbook

Sheet 勤怠を入力
A1: 所定労働時間（1日・時間） | B1: 8
A2: 事業所名
A4: 日付 | B4: 氏名 | C4: 曜日(自動) | D4: 区分 | E4: 始業 | F4: 終業 | G4: 休憩(分) | H4: 実労働時間(自動) | I4: 法定内残業(自動) | J4: 法定外残業(自動) | K4: 深夜労働(自動) | L4: 休日労働(自動) | M4: 備考
C5: =IF($A5="","",TEXT($A5,"aaa")) | H5: =IF(OR($E5="",$F5=""),"",ROUND(MAX(0,(IF($F5<$E5,$F5+1,$F5)-$E5)*24-$G5/60),2)) | I5: =IF($H5="","",IF($D5="法定休日",0,ROUND(MAX(0,MIN($H5,8)-$B$1),2))) | J5: =IF($H5="","",IF($D5="法定休日",0,ROUND(MAX(0,$H5-8),2))) | K5: =IF(OR($E5="",$F5=""),"",ROUND((MAX(0,MIN(IF($F5<$E5,$F5+1,$F5),29/24)-MAX($E5,22/24))+MAX(0,MIN(IF($F5<$E5,$F5+1,$F5),5/24)-$E5))*24,2)) | L5: =IF($H5="","",IF($D5="法定休日",$H5,0))
C6: =IF($A6="","",TEXT($A6,"aaa")) | H6: =IF(OR($E6="",$F6=""),"",ROUND(MAX(0,(IF($F6<$E6,$F6+1,$F6)-$E6)*24-$G6/60),2)) | I6: =IF($H6="","",IF($D6="法定休日",0,ROUND(MAX(0,MIN($H6,8)-$B$1),2))) | J6: =IF($H6="","",IF($D6="法定休日",0,ROUND(MAX(0,$H6-8),2))) | K6: =IF(OR($E6="",$F6=""),"",ROUND((MAX(0,MIN(IF($F6<$E6,$F6+1,$F6),29/24)-MAX($E6,22/24))+MAX(0,MIN(IF($F6<$E6,$F6+1,$F6),5/24)-$E6))*24,2)) | L6: =IF($H6="","",IF($D6="法定休日",$H6,0))
C7: =IF($A7="","",TEXT($A7,"aaa")) | H7: =IF(OR($E7="",$F7=""),"",ROUND(MAX(0,(IF($F7<$E7,$F7+1,$F7)-$E7)*24-$G7/60),2)) | I7: =IF($H7="","",IF($D7="法定休日",0,ROUND(MAX(0,MIN($H7,8)-$B$1),2))) | J7: =IF($H7="","",IF($D7="法定休日",0,ROUND(MAX(0,$H7-8),2))) | K7: =IF(OR($E7="",$F7=""),"",ROUND((MAX(0,MIN(IF($F7<$E7,$F7+1,$F7),29/24)-MAX($E7,22/24))+MAX(0,MIN(IF($F7<$E7,$F7+1,$F7),5/24)-$E7))*24,2)) | L7: =IF($H7="","",IF($D7="法定休日",$H7,0))
C8: =IF($A8="","",TEXT($A8,"aaa")) | H8: =IF(OR($E8="",$F8=""),"",ROUND(MAX(0,(IF($F8<$E8,$F8+1,$F8)-$E8)*24-$G8/60),2)) | I8: =IF($H8="","",IF($D8="法定休日",0,ROUND(MAX(0,MIN($H8,8)-$B$1),2))) | J8: =IF($H8="","",IF($D8="法定休日",0,ROUND(MAX(0,$H8-8),2))) | K8: =IF(OR($E8="",$F8=""),"",ROUND((MAX(0,MIN(IF($F8<$E8,$F8+1,$F8),29/24)-MAX($E8,22/24))+MAX(0,MIN(IF($F8<$E8,$F8+1,$F8),5/24)-$E8))*24,2)) | L8: =IF($H8="","",IF($D8="法定休日",$H8,0))
C9: =IF($A9="","",TEXT($A9,"aaa")) | H9: =IF(OR($E9="",$F9=""),"",ROUND(MAX(0,(IF($F9<$E9,$F9+1,$F9)-$E9)*24-$G9/60),2)) | I9: =IF($H9="","",IF($D9="法定休日",0,ROUND(MAX(0,MIN($H9,8)-$B$1),2))) | J9: =IF($H9="","",IF($D9="法定休日",0,ROUND(MAX(0,$H9-8),2))) | K9: =IF(OR($E9="",$F9=""),"",ROUND((MAX(0,MIN(IF($F9<$E9,$F9+1,$F9),29/24)-MAX($E9,22/24))+MAX(0,MIN(IF($F9<$E9,$F9+1,$F9),5/24)-$E9))*24,2)) | L9: =IF($H9="","",IF($D9="法定休日",$H9,0))
C10: =IF($A10="","",TEXT($A10,"aaa")) | H10: =IF(OR($E10="",$F10=""),"",ROUND(MAX(0,(IF($F10<$E10,$F10+1,$F10)-$E10)*24-$G10/60),2)) | I10: =IF($H10="","",IF($D10="法定休日",0,ROUND(MAX(0,MIN($H10,8)-$B$1),2))) | J10: =IF($H10="","",IF($D10="法定休日",0,ROUND(MAX(0,$H10-8),2))) | K10: =IF(OR($E10="",$F10=""),"",ROUND((MAX(0,MIN(IF($F10<$E10,$F10+1,$F10),29/24)-MAX($E10,22/24))+MAX(0,MIN(IF($F10<$E10,$F10+1,$F10),5/24)-$E10))*24,2)) | L10: =IF($H10="","",IF($D10="法定休日",$H10,0))
C11: =IF($A11="","",TEXT($A11,"aaa")) | H11: =IF(OR($E11="",$F11=""),"",ROUND(MAX(0,(IF($F11<$E11,$F11+1,$F11)-$E11)*24-$G11/60),2)) | I11: =IF($H11="","",IF($D11="法定休日",0,ROUND(MAX(0,MIN($H11,8)-$B$1),2))) | J11: =IF($H11="","",IF($D11="法定休日",0,ROUND(MAX(0,$H11-8),2))) | K11: =IF(OR($E11="",$F11=""),"",ROUND((MAX(0,MIN(IF($F11<$E11,$F11+1,$F11),29/24)-MAX($E11,22/24))+MAX(0,MIN(IF($F11<$E11,$F11+1,$F11),5/24)-$E11))*24,2)) | L11: =IF($H11="","",IF($D11="法定休日",$H11,0))
C12: =IF($A12="","",TEXT($A12,"aaa")) | H12: =IF(OR($E12="",$F12=""),"",ROUND(MAX(0,(IF($F12<$E12,$F12+1,$F12)-$E12)*24-$G12/60),2)) | I12: =IF($H12="","",IF($D12="法定休日",0,ROUND(MAX(0,MIN($H12,8)-$B$1),2))) | J12: =IF($H12="","",IF($D12="法定休日",0,ROUND(MAX(0,$H12-8),2))) | K12: =IF(OR($E12="",$F12=""),"",ROUND((MAX(0,MIN(IF($F12<$E12,$F12+1,$F12),29/24)-MAX($E12,22/24))+MAX(0,MIN(IF($F12<$E12,$F12+1,$F12),5/24)-$E12))*24,2)) | L12: =IF($H12="","",IF($D12="法定休日",$H12,0))
C13: =IF($A13="","",TEXT($A13,"aaa")) | H13: =IF(OR($E13="",$F13=""),"",ROUND(MAX(0,(IF($F13<$E13,$F13+1,$F13)-$E13)*24-$G13/60),2)) | I13: =IF($H13="","",IF($D13="法定休日",0,ROUND(MAX(0,MIN($H13,8)-$B$1),2))) | J13: =IF($H13="","",IF($D13="法定休日",0,ROUND(MAX(0,$H13-8),2))) | K13: =IF(OR($E13="",$F13=""),"",ROUND((MAX(0,MIN(IF($F13<$E13,$F13+1,$F13),29/24)-MAX($E13,22/24))+MAX(0,MIN(IF($F13<$E13,$F13+1,$F13),5/24)-$E13))*24,2)) | L13: =IF($H13="","",IF($D13="法定休日",$H13,0))
C14: =IF($A14="","",TEXT($A14,"aaa")) | H14: =IF(OR($E14="",$F14=""),"",ROUND(MAX(0,(IF($F14<$E14,$F14+1,$F14)-$E14)*24-$G14/60),2)) | I14: =IF($H14="","",IF($D14="法定休日",0,ROUND(MAX(0,MIN($H14,8)-$B$1),2))) | J14: =IF($H14="","",IF($D14="法定休日",0,ROUND(MAX(0,$H14-8),2))) | K14: =IF(OR($E14="",$F14=""),"",ROUND((MAX(0,MIN(IF($F14<$E14,$F14+1,$F14),29/24)-MAX($E14,22/24))+MAX(0,MIN(IF($F14<$E14,$F14+1,$F14),5/24)-$E14))*24,2)) | L14: =IF($H14="","",IF($D14="法定休日",$H14,0))
C15: =IF($A15="","",TEXT($A15,"aaa")) | H15: =IF(OR($E15="",$F15=""),"",ROUND(MAX(0,(IF($F15<$E15,$F15+1,$F15)-$E15)*24-$G15/60),2)) | I15: =IF($H15="","",IF($D15="法定休日",0,ROUND(MAX(0,MIN($H15,8)-$B$1),2))) | J15: =IF($H15="","",IF($D15="法定休日",0,ROUND(MAX(0,$H15-8),2))) | K15: =IF(OR($E15="",$F15=""),"",ROUND((MAX(0,MIN(IF($F15<$E15,$F15+1,$F15),29/24)-MAX($E15,22/24))+MAX(0,MIN(IF($F15<$E15,$F15+1,$F15),5/24)-$E15))*24,2)) | L15: =IF($H15="","",IF($D15="法定休日",$H15,0))
C16: =IF($A16="","",TEXT($A16,"aaa")) | H16: =IF(OR($E16="",$F16=""),"",ROUND(MAX(0,(IF($F16<$E16,$F16+1,$F16)-$E16)*24-$G16/60),2)) | I16: =IF($H16="","",IF($D16="法定休日",0,ROUND(MAX(0,MIN($H16,8)-$B$1),2))) | J16: =IF($H16="","",IF($D16="法定休日",0,ROUND(MAX(0,$H16-8),2))) | K16: =IF(OR($E16="",$F16=""),"",ROUND((MAX(0,MIN(IF($F16<$E16,$F16+1,$F16),29/24)-MAX($E16,22/24))+MAX(0,MIN(IF($F16<$E16,$F16+1,$F16),5/24)-$E16))*24,2)) | L16: =IF($H16="","",IF($D16="法定休日",$H16,0))
... C204: =IF($A204="","",TEXT($A204,"aaa")) | H204: =IF(OR($E204="",$F204=""),"",ROUND(MAX(0,(IF($F204<$E204,$F204+1,$F204)-$E204)*24-$G204/60),2)) | I204: =IF($H204="","",IF($D204="法定休日",0,ROUND(MAX(0,MIN($H204,8)-$B$1),2))) | J204: =IF($H204="","",IF($D204="法定休日",0,ROUND(MAX(0,$H204-8),2))) | K204: =IF(OR($E204="",$F204=""),"",ROUND((MAX(0,MIN(IF($F204<$E204,$F204+1,$F204),29/24)-MAX($E204,22/24))+MAX(0,MIN(IF($F204<$E204,$F204+1,$F204),5/24)-$E204))*24,2)) | L204: =IF($H204="","",IF($D204="法定休日",$H204,0))

Sheet 集計を見る
A1: 出勤簿・勤怠管理表 ／ 集計を見る
A2: 「勤怠を入力」に打ち込むだけで、法定内／法定外の残業・深夜労働・休日労働まで自動集計されます。
A4: 集計年 | B4: 2026
A5: 時給（円） | B5: 1200
A6: 事業所名 | B6: =IF('勤怠を入力'!$B$2="","（入力シートの B2 に入力）",'勤怠を入力'!$B$2)
A8: ■ 全体サマリー（入力した全期間）
A9: 項目 | B9: 値 | C9: メモ・めやす
A10: 出勤日数（実働があった日） | B10: =COUNTIF('勤怠を入力'!$H$5:$H$204,">0") | C10: 労基法の記録項目「労働日数」。区分にかかわらず実働のあった日を数えます。
A11: 総労働時間（h） | B11: =ROUND(SUM('勤怠を入力'!$H$5:$H$204),2) | C11: 休憩を差し引いた実労働時間の合計です。
A12: 1日あたり平均労働時間（h） | B12: =IF($B$10=0,0,ROUND($B$11/$B$10,2)) | C12: 総労働時間 ÷ 出勤日数。
A13: 法定内残業（h） | B13: =ROUND(SUM('勤怠を入力'!$I$5:$I$204),2) | C13: 所定時間は超えるが1日8時間以内の部分。割増は原則不要（就業規則を優先）。
A14: 法定外残業（h・25%増） | B14: =ROUND(SUM('勤怠を入力'!$J$5:$J$204),2) | C14: 1日8時間を超えた部分。25%以上の割増賃金が必要です。
A15: 深夜労働（h・22時〜5時・25%増） | B15: =ROUND(SUM('勤怠を入力'!$K$5:$K$204),2) | C15: 22時〜翌5時に働いた時間。残業とは別に25%以上の割増が上乗せされます。
A16: 休日労働（h・法定休日・35%増） | B16: =ROUND(SUM('勤怠を入力'!$L$5:$L$204),2) | C16: 区分を「法定休日」にした日の労働時間。35%以上の割増が必要です。
A17: 残業合計（h） | B17: =ROUND($B$13+$B$14+$B$16,2) | C17: 法定内残業＋法定外残業＋休日労働。
A18: 法定外残業が月45時間を超えた月数 | B18: =COUNTIF($E$40:$E$51,">45") | C18: 36協定の上限のめやす（原則 月45時間・年360時間）。1以上なら要確認。
A19: 有給休暇の取得日数 | B19: =COUNTIF('勤怠を入力'!$D$5:$D$204,"有給休暇") | C19: 年5日の取得義務があります。
A20: 欠勤日数 | B20: =COUNTIF('勤怠を入力'!$D$5:$D$204,"欠勤")
A21: 法定休日に働いた日数 | B21: =COUNTIF('勤怠を入力'!$D$5:$D$204,"法定休日") | C21: 週1日または4週4日の法定休日は確保が必要です。
A22: 割増込み賃金の目安（円） | B22: =ROUND($B$5*$B$11+$B$5*($B$14*0.25+$B$15*0.25+$B$16*0.35),0) | C22: 時給×総労働時間＋割増分。実際の支給額は就業規則・雇用契約が優先です。
A24: ■ 従業員別の集計（A列に氏名を入れると自動で集まります／入力シートのプルダウンにも出ます）
A25: 氏名 | B25: 出勤日数 | C25: 総労働時間 | D25: 法定内残業 | E25: 法定外残業 | F25: 深夜労働 | G25: 休日労働 | H25: 残業合計 | I25: 構成比 | J25: 順位
B26: =IF($A26="","",COUNTIFS('勤怠を入力'!$B$5:$B$204,$A26,'勤怠を入力'!$H$5:$H$204,">0")) | C26: =IF($A26="","",ROUND(SUMIF('勤怠を入力'!$B$5:$B$204,$A26,'勤怠を入力'!$H$5:$H$204),2)) | D26: =IF($A26="","",ROUND(SUMIF('勤怠を入力'!$B$5:$B$204,$A26,'勤怠を入力'!$I$5:$I$204),2)) | E26: =IF($A26="","",ROUND(SUMIF('勤怠を入力'!$B$5:$B$204,$A26,'勤怠を入力'!$J$5:$J$204),2)) | F26: =IF($A26="","",ROUND(SUMIF('勤怠を入力'!$B$5:$B$204,$A26,'勤怠を入力'!$K$5:$K$204),2)) | G26: =IF($A26="","",ROUND(SUMIF('勤怠を入力'!$B$5:$B$204,$A26,'勤怠を入力'!$L$5:$L$204),2)) | H26: =IF($A26="","",ROUND($D26+$E26+$G26,2)) | I26: =IF($A26="","",IF($C$36=0,0,$C26/$C$36)) | J26: =IF($A26="","",RANK($H26,$H$26:$H$35))
B27: =IF($A27="","",COUNTIFS('勤怠を入力'!$B$5:$B$204,$A27,'勤怠を入力'!$H$5:$H$204,">0")) | C27: =IF($A27="","",ROUND(SUMIF('勤怠を入力'!$B$5:$B$204,$A27,'勤怠を入力'!$H$5:$H$204),2)) | D27: =IF($A27="","",ROUND(SUMIF('勤怠を入力'!$B$5:$B$204,$A27,'勤怠を入力'!$I$5:$I$204),2)) | E27: =IF($A27="","",ROUND(SUMIF('勤怠を入力'!$B$5:$B$204,$A27,'勤怠を入力'!$J$5:$J$204),2)) | F27: =IF($A27="","",ROUND(SUMIF('勤怠を入力'!$B$5:$B$204,$A27,'勤怠を入力'!$K$5:$K$204),2)) | G27: =IF($A27="","",ROUND(SUMIF('勤怠を入力'!$B$5:$B$204,$A27,'勤怠を入力'!$L$5:$L$204),2)) | H27: =IF($A27="","",ROUND($D27+$E27+$G27,2)) | I27: =IF($A27="","",IF($C$36=0,0,$C27/$C$36)) | J27: =IF($A27="","",RANK($H27,$H$26:$H$35))
B28: =IF($A28="","",COUNTIFS('勤怠を入力'!$B$5:$B$204,$A28,'勤怠を入力'!$H$5:$H$204,">0")) | C28: =IF($A28="","",ROUND(SUMIF('勤怠を入力'!$B$5:$B$204,$A28,'勤怠を入力'!$H$5:$H$204),2)) | D28: =IF($A28="","",ROUND(SUMIF('勤怠を入力'!$B$5:$B$204,$A28,'勤怠を入力'!$I$5:$I$204),2)) | E28: =IF($A28="","",ROUND(SUMIF('勤怠を入力'!$B$5:$B$204,$A28,'勤怠を入力'!$J$5:$J$204),2)) | F28: =IF($A28="","",ROUND(SUMIF('勤怠を入力'!$B$5:$B$204,$A28,'勤怠を入力'!$K$5:$K$204),2)) | G28: =IF($A28="","",ROUND(SUMIF('勤怠を入力'!$B$5:$B$204,$A28,'勤怠を入力'!$L$5:$L$204),2)) | H28: =IF($A28="","",ROUND($D28+$E28+$G28,2)) | I28: =IF($A28="","",IF($C$36=0,0,$C28/$C$36)) | J28: =IF($A28="","",RANK($H28,$H$26:$H$35))
B29: =IF($A29="","",COUNTIFS('勤怠を入力'!$B$5:$B$204,$A29,'勤怠を入力'!$H$5:$H$204,">0")) | C29: =IF($A29="","",ROUND(SUMIF('勤怠を入力'!$B$5:$B$204,$A29,'勤怠を入力'!$H$5:$H$204),2)) | D29: =IF($A29="","",ROUND(SUMIF('勤怠を入力'!$B$5:$B$204,$A29,'勤怠を入力'!$I$5:$I$204),2)) | E29: =IF($A29="","",ROUND(SUMIF('勤怠を入力'!$B$5:$B$204,$A29,'勤怠を入力'!$J$5:$J$204),2)) | F29: =IF($A29="","",ROUND(SUMIF('勤怠を入力'!$B$5:$B$204,$A29,'勤怠を入力'!$K$5:$K$204),2)) | G29: =IF($A29="","",ROUND(SUMIF('勤怠を入力'!$B$5:$B$204,$A29,'勤怠を入力'!$L$5:$L$204),2)) | H29: =IF($A29="","",ROUND($D29+$E29+$G29,2)) | I29: =IF($A29="","",IF($C$36=0,0,$C29/$C$36)) | J29: =IF($A29="","",RANK($H29,$H$26:$H$35))
B30: =IF($A30="","",COUNTIFS('勤怠を入力'!$B$5:$B$204,$A30,'勤怠を入力'!$H$5:$H$204,">0")) | C30: =IF($A30="","",ROUND(SUMIF('勤怠を入力'!$B$5:$B$204,$A30,'勤怠を入力'!$H$5:$H$204),2)) | D30: =IF($A30="","",ROUND(SUMIF('勤怠を入力'!$B$5:$B$204,$A30,'勤怠を入力'!$I$5:$I$204),2)) | E30: =IF($A30="","",ROUND(SUMIF('勤怠を入力'!$B$5:$B$204,$A30,'勤怠を入力'!$J$5:$J$204),2)) | F30: =IF($A30="","",ROUND(SUMIF('勤怠を入力'!$B$5:$B$204,$A30,'勤怠を入力'!$K$5:$K$204),2)) | G30: =IF($A30="","",ROUND(SUMIF('勤怠を入力'!$B$5:$B$204,$A30,'勤怠を入力'!$L$5:$L$204),2)) | H30: =IF($A30="","",ROUND($D30+$E30+$G30,2)) | I30: =IF($A30="","",IF($C$36=0,0,$C30/$C$36)) | J30: =IF($A30="","",RANK($H30,$H$26:$H$35))
B31: =IF($A31="","",COUNTIFS('勤怠を入力'!$B$5:$B$204,$A31,'勤怠を入力'!$H$5:$H$204,">0")) | C31: =IF($A31="","",ROUND(SUMIF('勤怠を入力'!$B$5:$B$204,$A31,'勤怠を入力'!$H$5:$H$204),2)) | D31: =IF($A31="","",ROUND(SUMIF('勤怠を入力'!$B$5:$B$204,$A31,'勤怠を入力'!$I$5:$I$204),2)) | E31: =IF($A31="","",ROUND(SUMIF('勤怠を入力'!$B$5:$B$204,$A31,'勤怠を入力'!$J$5:$J$204),2)) | F31: =IF($A31="","",ROUND(SUMIF('勤怠を入力'!$B$5:$B$204,$A31,'勤怠を入力'!$K$5:$K$204),2)) | G31: =IF($A31="","",ROUND(SUMIF('勤怠を入力'!$B$5:$B$204,$A31,'勤怠を入力'!$L$5:$L$204),2)) | H31: =IF($A31="","",ROUND($D31+$E31+$G31,2)) | I31: =IF($A31="","",IF($C$36=0,0,$C31/$C$36)) | J31: =IF($A31="","",RANK($H31,$H$26:$H$35))
B32: =IF($A32="","",COUNTIFS('勤怠を入力'!$B$5:$B$204,$A32,'勤怠を入力'!$H$5:$H$204,">0")) | C32: =IF($A32="","",ROUND(SUMIF('勤怠を入力'!$B$5:$B$204,$A32,'勤怠を入力'!$H$5:$H$204),2)) | D32: =IF($A32="","",ROUND(SUMIF('勤怠を入力'!$B$5:$B$204,$A32,'勤怠を入力'!$I$5:$I$204),2)) | E32: =IF($A32="","",ROUND(SUMIF('勤怠を入力'!$B$5:$B$204,$A32,'勤怠を入力'!$J$5:$J$204),2)) | F32: =IF($A32="","",ROUND(SUMIF('勤怠を入力'!$B$5:$B$204,$A32,'勤怠を入力'!$K$5:$K$204),2)) | G32: =IF($A32="","",ROUND(SUMIF('勤怠を入力'!$B$5:$B$204,$A32,'勤怠を入力'!$L$5:$L$204),2)) | H32: =IF($A32="","",ROUND($D32+$E32+$G32,2)) | I32: =IF($A32="","",IF($C$36=0,0,$C32/$C$36)) | J32: =IF($A32="","",RANK($H32,$H$26:$H$35))
B33: =IF($A33="","",COUNTIFS('勤怠を入力'!$B$5:$B$204,$A33,'勤怠を入力'!$H$5:$H$204,">0")) | C33: =IF($A33="","",ROUND(SUMIF('勤怠を入力'!$B$5:$B$204,$A33,'勤怠を入力'!$H$5:$H$204),2)) | D33: =IF($A33="","",ROUND(SUMIF('勤怠を入力'!$B$5:$B$204,$A33,'勤怠を入力'!$I$5:$I$204),2)) | E33: =IF($A33="","",ROUND(SUMIF('勤怠を入力'!$B$5:$B$204,$A33,'勤怠を入力'!$J$5:$J$204),2)) | F33: =IF($A33="","",ROUND(SUMIF('勤怠を入力'!$B$5:$B$204,$A33,'勤怠を入力'!$K$5:$K$204),2)) | G33: =IF($A33="","",ROUND(SUMIF('勤怠を入力'!$B$5:$B$204,$A33,'勤怠を入力'!$L$5:$L$204),2)) | H33: =IF($A33="","",ROUND($D33+$E33+$G33,2)) | I33: =IF($A33="","",IF($C$36=0,0,$C33/$C$36)) | J33: =IF($A33="","",RANK($H33,$H$26:$H$35))
B34: =IF($A34="","",COUNTIFS('勤怠を入力'!$B$5:$B$204,$A34,'勤怠を入力'!$H$5:$H$204,">0")) | C34: =IF($A34="","",ROUND(SUMIF('勤怠を入力'!$B$5:$B$204,$A34,'勤怠を入力'!$H$5:$H$204),2)) | D34: =IF($A34="","",ROUND(SUMIF('勤怠を入力'!$B$5:$B$204,$A34,'勤怠を入力'!$I$5:$I$204),2)) | E34: =IF($A34="","",ROUND(SUMIF('勤怠を入力'!$B$5:$B$204,$A34,'勤怠を入力'!$J$5:$J$204),2)) | F34: =IF($A34="","",ROUND(SUMIF('勤怠を入力'!$B$5:$B$204,$A34,'勤怠を入力'!$K$5:$K$204),2)) | G34: =IF($A34="","",ROUND(SUMIF('勤怠を入力'!$B$5:$B$204,$A34,'勤怠を入力'!$L$5:$L$204),2)) | H34: =IF($A34="","",ROUND($D34+$E34+$G34,2)) | I34: =IF($A34="","",IF($C$36=0,0,$C34/$C$36)) | J34: =IF($A34="","",RANK($H34,$H$26:$H$35))
B35: =IF($A35="","",COUNTIFS('勤怠を入力'!$B$5:$B$204,$A35,'勤怠を入力'!$H$5:$H$204,">0")) | C35: =IF($A35="","",ROUND(SUMIF('勤怠を入力'!$B$5:$B$204,$A35,'勤怠を入力'!$H$5:$H$204),2)) | D35: =IF($A35="","",ROUND(SUMIF('勤怠を入力'!$B$5:$B$204,$A35,'勤怠を入力'!$I$5:$I$204),2)) | E35: =IF($A35="","",ROUND(SUMIF('勤怠を入力'!$B$5:$B$204,$A35,'勤怠を入力'!$J$5:$J$204),2)) | F35: =IF($A35="","",ROUND(SUMIF('勤怠を入力'!$B$5:$B$204,$A35,'勤怠を入力'!$K$5:$K$204),2)) | G35: =IF($A35="","",ROUND(SUMIF('勤怠を入力'!$B$5:$B$204,$A35,'勤怠を入力'!$L$5:$L$204),2)) | H35: =IF($A35="","",ROUND($D35+$E35+$G35,2)) | I35: =IF($A35="","",IF($C$36=0,0,$C35/$C$36)) | J35: =IF($A35="","",RANK($H35,$H$26:$H$35))
A36: 合計 | B36: =ROUND(SUM(B26:B35),2) | C36: =ROUND(SUM(C26:C35),2) | D36: =ROUND(SUM(D26:D35),2) | E36: =ROUND(SUM(E26:E35),2) | F36: =ROUND(SUM(F26:F35),2) | G36: =ROUND(SUM(G26:G35),2) | H36: =ROUND(SUM(H26:H35),2) | I36: =IF($C$36=0,0,1)
A38: ■ 月別の推移（上の「集計年」を変えると連動します）
A39: 月 | B39: 出勤日数 | C39: 総労働時間 | D39: 法定内残業 | E39: 法定外残業 | F39: 深夜労働 | G39: 休日労働 | H39: 45時間との差
A40: =DATE($B$4,1,1) | B40: =COUNTIFS('勤怠を入力'!$A$5:$A$204,">="&$A40,'勤怠を入力'!$A$5:$A$204,"<"&DATE($B$4,2,1),'勤怠を入力'!$H$5:$H$204,">0") | C40: =ROUND(SUMIFS('勤怠を入力'!$H$5:$H$204,'勤怠を入力'!$A$5:$A$204,">="&$A40,'勤怠を入力'!$A$5:$A$204,"<"&DATE($B$4,2,1)),2) | D40: =ROUND(SUMIFS('勤怠を入力'!$I$5:$I$204,'勤怠を入力'!$A$5:$A$204,">="&$A40,'勤怠を入力'!$A$5:$A$204,"<"&DATE($B$4,2,1)),2) | E40: =ROUND(SUMIFS('勤怠を入力'!$J$5:$J$204,'勤怠を入力'!$A$5:$A$204,">="&$A40,'勤怠を入力'!$A$5:$A$204,"<"&DATE($B$4,2,1)),2) | F40: =ROUND(SUMIFS('勤怠を入力'!$K$5:$K$204,'勤怠を入力'!$A$5:$A$204,">="&$A40,'勤怠を入力'!$A$5:$A$204,"<"&DATE($B$4,2,1)),2) | G40: =ROUND(SUMIFS('勤怠を入力'!$L$5:$L$204,'勤怠を入力'!$A$5:$A$204,">="&$A40,'勤怠を入力'!$A$5:$A$204,"<"&DATE($B$4,2,1)),2) | H40: =ROUND($E40-45,2)
A41: =DATE($B$4,2,1) | B41: =COUNTIFS('勤怠を入力'!$A$5:$A$204,">="&$A41,'勤怠を入力'!$A$5:$A$204,"<"&DATE($B$4,3,1),'勤怠を入力'!$H$5:$H$204,">0") | C41: =ROUND(SUMIFS('勤怠を入力'!$H$5:$H$204,'勤怠を入力'!$A$5:$A$204,">="&$A41,'勤怠を入力'!$A$5:$A$204,"<"&DATE($B$4,3,1)),2) | D41: =ROUND(SUMIFS('勤怠を入力'!$I$5:$I$204,'勤怠を入力'!$A$5:$A$204,">="&$A41,'勤怠を入力'!$A$5:$A$204,"<"&DATE($B$4,3,1)),2) | E41: =ROUND(SUMIFS('勤怠を入力'!$J$5:$J$204,'勤怠を入力'!$A$5:$A$204,">="&$A41,'勤怠を入力'!$A$5:$A$204,"<"&DATE($B$4,3,1)),2) | F41: =ROUND(SUMIFS('勤怠を入力'!$K$5:$K$204,'勤怠を入力'!$A$5:$A$204,">="&$A41,'勤怠を入力'!$A$5:$A$204,"<"&DATE($B$4,3,1)),2) | G41: =ROUND(SUMIFS('勤怠を入力'!$L$5:$L$204,'勤怠を入力'!$A$5:$A$204,">="&$A41,'勤怠を入力'!$A$5:$A$204,"<"&DATE($B$4,3,1)),2) | H41: =ROUND($E41-45,2)
A42: =DATE($B$4,3,1) | B42: =COUNTIFS('勤怠を入力'!$A$5:$A$204,">="&$A42,'勤怠を入力'!$A$5:$A$204,"<"&DATE($B$4,4,1),'勤怠を入力'!$H$5:$H$204,">0") | C42: =ROUND(SUMIFS('勤怠を入力'!$H$5:$H$204,'勤怠を入力'!$A$5:$A$204,">="&$A42,'勤怠を入力'!$A$5:$A$204,"<"&DATE($B$4,4,1)),2) | D42: =ROUND(SUMIFS('勤怠を入力'!$I$5:$I$204,'勤怠を入力'!$A$5:$A$204,">="&$A42,'勤怠を入力'!$A$5:$A$204,"<"&DATE($B$4,4,1)),2) | E42: =ROUND(SUMIFS('勤怠を入力'!$J$5:$J$204,'勤怠を入力'!$A$5:$A$204,">="&$A42,'勤怠を入力'!$A$5:$A$204,"<"&DATE($B$4,4,1)),2) | F42: =ROUND(SUMIFS('勤怠を入力'!$K$5:$K$204,'勤怠を入力'!$A$5:$A$204,">="&$A42,'勤怠を入力'!$A$5:$A$204,"<"&DATE($B$4,4,1)),2) | G42: =ROUND(SUMIFS('勤怠を入力'!$L$5:$L$204,'勤怠を入力'!$A$5:$A$204,">="&$A42,'勤怠を入力'!$A$5:$A$204,"<"&DATE($B$4,4,1)),2) | H42: =ROUND($E42-45,2)
A43: =DATE($B$4,4,1) | B43: =COUNTIFS('勤怠を入力'!$A$5:$A$204,">="&$A43,'勤怠を入力'!$A$5:$A$204,"<"&DATE($B$4,5,1),'勤怠を入力'!$H$5:$H$204,">0") | C43: =ROUND(SUMIFS('勤怠を入力'!$H$5:$H$204,'勤怠を入力'!$A$5:$A$204,">="&$A43,'勤怠を入力'!$A$5:$A$204,"<"&DATE($B$4,5,1)),2) | D43: =ROUND(SUMIFS('勤怠を入力'!$I$5:$I$204,'勤怠を入力'!$A$5:$A$204,">="&$A43,'勤怠を入力'!$A$5:$A$204,"<"&DATE($B$4,5,1)),2) | E43: =ROUND(SUMIFS('勤怠を入力'!$J$5:$J$204,'勤怠を入力'!$A$5:$A$204,">="&$A43,'勤怠を入力'!$A$5:$A$204,"<"&DATE($B$4,5,1)),2) | F43: =ROUND(SUMIFS('勤怠を入力'!$K$5:$K$204,'勤怠を入力'!$A$5:$A$204,">="&$A43,'勤怠を入力'!$A$5:$A$204,"<"&DATE($B$4,5,1)),2) | G43: =ROUND(SUMIFS('勤怠を入力'!$L$5:$L$204,'勤怠を入力'!$A$5:$A$204,">="&$A43,'勤怠を入力'!$A$5:$A$204,"<"&DATE($B$4,5,1)),2) | H43: =ROUND($E43-45,2)
A44: =DATE($B$4,5,1) | B44: =COUNTIFS('勤怠を入力'!$A$5:$A$204,">="&$A44,'勤怠を入力'!$A$5:$A$204,"<"&DATE($B$4,6,1),'勤怠を入力'!$H$5:$H$204,">0") | C44: =ROUND(SUMIFS('勤怠を入力'!$H$5:$H$204,'勤怠を入力'!$A$5:$A$204,">="&$A44,'勤怠を入力'!$A$5:$A$204,"<"&DATE($B$4,6,1)),2) | D44: =ROUND(SUMIFS('勤怠を入力'!$I$5:$I$204,'勤怠を入力'!$A$5:$A$204,">="&$A44,'勤怠を入力'!$A$5:$A$204,"<"&DATE($B$4,6,1)),2) | E44: =ROUND(SUMIFS('勤怠を入力'!$J$5:$J$204,'勤怠を入力'!$A$5:$A$204,">="&$A44,'勤怠を入力'!$A$5:$A$204,"<"&DATE($B$4,6,1)),2) | F44: =ROUND(SUMIFS('勤怠を入力'!$K$5:$K$204,'勤怠を入力'!$A$5:$A$204,">="&$A44,'勤怠を入力'!$A$5:$A$204,"<"&DATE($B$4,6,1)),2) | G44: =ROUND(SUMIFS('勤怠を入力'!$L$5:$L$204,'勤怠を入力'!$A$5:$A$204,">="&$A44,'勤怠を入力'!$A$5:$A$204,"<"&DATE($B$4,6,1)),2) | H44: =ROUND($E44-45,2)
A45: =DATE($B$4,6,1) | B45: =COUNTIFS('勤怠を入力'!$A$5:$A$204,">="&$A45,'勤怠を入力'!$A$5:$A$204,"<"&DATE($B$4,7,1),'勤怠を入力'!$H$5:$H$204,">0") | C45: =ROUND(SUMIFS('勤怠を入力'!$H$5:$H$204,'勤怠を入力'!$A$5:$A$204,">="&$A45,'勤怠を入力'!$A$5:$A$204,"<"&DATE($B$4,7,1)),2) | D45: =ROUND(SUMIFS('勤怠を入力'!$I$5:$I$204,'勤怠を入力'!$A$5:$A$204,">="&$A45,'勤怠を入力'!$A$5:$A$204,"<"&DATE($B$4,7,1)),2) | E45: =ROUND(SUMIFS('勤怠を入力'!$J$5:$J$204,'勤怠を入力'!$A$5:$A$204,">="&$A45,'勤怠を入力'!$A$5:$A$204,"<"&DATE($B$4,7,1)),2) | F45: =ROUND(SUMIFS('勤怠を入力'!$K$5:$K$204,'勤怠を入力'!$A$5:$A$204,">="&$A45,'勤怠を入力'!$A$5:$A$204,"<"&DATE($B$4,7,1)),2) | G45: =ROUND(SUMIFS('勤怠を入力'!$L$5:$L$204,'勤怠を入力'!$A$5:$A$204,">="&$A45,'勤怠を入力'!$A$5:$A$204,"<"&DATE($B$4,7,1)),2) | H45: =ROUND($E45-45,2)
A46: =DATE($B$4,7,1) | B46: =COUNTIFS('勤怠を入力'!$A$5:$A$204,">="&$A46,'勤怠を入力'!$A$5:$A$204,"<"&DATE($B$4,8,1),'勤怠を入力'!$H$5:$H$204,">0") | C46: =ROUND(SUMIFS('勤怠を入力'!$H$5:$H$204,'勤怠を入力'!$A$5:$A$204,">="&$A46,'勤怠を入力'!$A$5:$A$204,"<"&DATE($B$4,8,1)),2) | D46: =ROUND(SUMIFS('勤怠を入力'!$I$5:$I$204,'勤怠を入力'!$A$5:$A$204,">="&$A46,'勤怠を入力'!$A$5:$A$204,"<"&DATE($B$4,8,1)),2) | E46: =ROUND(SUMIFS('勤怠を入力'!$J$5:$J$204,'勤怠を入力'!$A$5:$A$204,">="&$A46,'勤怠を入力'!$A$5:$A$204,"<"&DATE($B$4,8,1)),2) | F46: =ROUND(SUMIFS('勤怠を入力'!$K$5:$K$204,'勤怠を入力'!$A$5:$A$204,">="&$A46,'勤怠を入力'!$A$5:$A$204,"<"&DATE($B$4,8,1)),2) | G46: =ROUND(SUMIFS('勤怠を入力'!$L$5:$L$204,'勤怠を入力'!$A$5:$A$204,">="&$A46,'勤怠を入力'!$A$5:$A$204,"<"&DATE($B$4,8,1)),2) | H46: =ROUND($E46-45,2)
A47: =DATE($B$4,8,1) | B47: =COUNTIFS('勤怠を入力'!$A$5:$A$204,">="&$A47,'勤怠を入力'!$A$5:$A$204,"<"&DATE($B$4,9,1),'勤怠を入力'!$H$5:$H$204,">0") | C47: =ROUND(SUMIFS('勤怠を入力'!$H$5:$H$204,'勤怠を入力'!$A$5:$A$204,">="&$A47,'勤怠を入力'!$A$5:$A$204,"<"&DATE($B$4,9,1)),2) | D47: =ROUND(SUMIFS('勤怠を入力'!$I$5:$I$204,'勤怠を入力'!$A$5:$A$204,">="&$A47,'勤怠を入力'!$A$5:$A$204,"<"&DATE($B$4,9,1)),2) | E47: =ROUND(SUMIFS('勤怠を入力'!$J$5:$J$204,'勤怠を入力'!$A$5:$A$204,">="&$A47,'勤怠を入力'!$A$5:$A$204,"<"&DATE($B$4,9,1)),2) | F47: =ROUND(SUMIFS('勤怠を入力'!$K$5:$K$204,'勤怠を入力'!$A$5:$A$204,">="&$A47,'勤怠を入力'!$A$5:$A$204,"<"&DATE($B$4,9,1)),2) | G47: =ROUND(SUMIFS('勤怠を入力'!$L$5:$L$204,'勤怠を入力'!$A$5:$A$204,">="&$A47,'勤怠を入力'!$A$5:$A$204,"<"&DATE($B$4,9,1)),2) | H47: =ROUND($E47-45,2)
A48: =DATE($B$4,9,1) | B48: =COUNTIFS('勤怠を入力'!$A$5:$A$204,">="&$A48,'勤怠を入力'!$A$5:$A$204,"<"&DATE($B$4,10,1),'勤怠を入力'!$H$5:$H$204,">0") | C48: =ROUND(SUMIFS('勤怠を入力'!$H$5:$H$204,'勤怠を入力'!$A$5:$A$204,">="&$A48,'勤怠を入力'!$A$5:$A$204,"<"&DATE($B$4,10,1)),2) | D48: =ROUND(SUMIFS('勤怠を入力'!$I$5:$I$204,'勤怠を入力'!$A$5:$A$204,">="&$A48,'勤怠を入力'!$A$5:$A$204,"<"&DATE($B$4,10,1)),2) | E48: =ROUND(SUMIFS('勤怠を入力'!$J$5:$J$204,'勤怠を入力'!$A$5:$A$204,">="&$A48,'勤怠を入力'!$A$5:$A$204,"<"&DATE($B$4,10,1)),2) | F48: =ROUND(SUMIFS('勤怠を入力'!$K$5:$K$204,'勤怠を入力'!$A$5:$A$204,">="&$A48,'勤怠を入力'!$A$5:$A$204,"<"&DATE($B$4,10,1)),2) | G48: =ROUND(SUMIFS('勤怠を入力'!$L$5:$L$204,'勤怠を入力'!$A$5:$A$204,">="&$A48,'勤怠を入力'!$A$5:$A$204,"<"&DATE($B$4,10,1)),2) | H48: =ROUND($E48-45,2)
A49: =DATE($B$4,10,1) | B49: =COUNTIFS('勤怠を入力'!$A$5:$A$204,">="&$A49,'勤怠を入力'!$A$5:$A$204,"<"&DATE($B$4,11,1),'勤怠を入力'!$H$5:$H$204,">0") | C49: =ROUND(SUMIFS('勤怠を入力'!$H$5:$H$204,'勤怠を入力'!$A$5:$A$204,">="&$A49,'勤怠を入力'!$A$5:$A$204,"<"&DATE($B$4,11,1)),2) | D49: =ROUND(SUMIFS('勤怠を入力'!$I$5:$I$204,'勤怠を入力'!$A$5:$A$204,">="&$A49,'勤怠を入力'!$A$5:$A$204,"<"&DATE($B$4,11,1)),2) | E49: =ROUND(SUMIFS('勤怠を入力'!$J$5:$J$204,'勤怠を入力'!$A$5:$A$204,">="&$A49,'勤怠を入力'!$A$5:$A$204,"<"&DATE($B$4,11,1)),2) | F49: =ROUND(SUMIFS('勤怠を入力'!$K$5:$K$204,'勤怠を入力'!$A$5:$A$204,">="&$A49,'勤怠を入力'!$A$5:$A$204,"<"&DATE($B$4,11,1)),2) | G49: =ROUND(SUMIFS('勤怠を入力'!$L$5:$L$204,'勤怠を入力'!$A$5:$A$204,">="&$A49,'勤怠を入力'!$A$5:$A$204,"<"&DATE($B$4,11,1)),2) | H49: =ROUND($E49-45,2)
A50: =DATE($B$4,11,1) | B50: =COUNTIFS('勤怠を入力'!$A$5:$A$204,">="&$A50,'勤怠を入力'!$A$5:$A$204,"<"&DATE($B$4,12,1),'勤怠を入力'!$H$5:$H$204,">0") | C50: =ROUND(SUMIFS('勤怠を入力'!$H$5:$H$204,'勤怠を入力'!$A$5:$A$204,">="&$A50,'勤怠を入力'!$A$5:$A$204,"<"&DATE($B$4,12,1)),2) | D50: =ROUND(SUMIFS('勤怠を入力'!$I$5:$I$204,'勤怠を入力'!$A$5:$A$204,">="&$A50,'勤怠を入力'!$A$5:$A$204,"<"&DATE($B$4,12,1)),2) | E50: =ROUND(SUMIFS('勤怠を入力'!$J$5:$J$204,'勤怠を入力'!$A$5:$A$204,">="&$A50,'勤怠を入力'!$A$5:$A$204,"<"&DATE($B$4,12,1)),2) | F50: =ROUND(SUMIFS('勤怠を入力'!$K$5:$K$204,'勤怠を入力'!$A$5:$A$204,">="&$A50,'勤怠を入力'!$A$5:$A$204,"<"&DATE($B$4,12,1)),2) | G50: =ROUND(SUMIFS('勤怠を入力'!$L$5:$L$204,'勤怠を入力'!$A$5:$A$204,">="&$A50,'勤怠を入力'!$A$5:$A$204,"<"&DATE($B$4,12,1)),2) | H50: =ROUND($E50-45,2)
A51: =DATE($B$4,12,1) | B51: =COUNTIFS('勤怠を入力'!$A$5:$A$204,">="&$A51,'勤怠を入力'!$A$5:$A$204,"<"&DATE($B$4,13,1),'勤怠を入力'!$H$5:$H$204,">0") | C51: =ROUND(SUMIFS('勤怠を入力'!$H$5:$H$204,'勤怠を入力'!$A$5:$A$204,">="&$A51,'勤怠を入力'!$A$5:$A$204,"<"&DATE($B$4,13,1)),2) | D51: =ROUND(SUMIFS('勤怠を入力'!$I$5:$I$204,'勤怠を入力'!$A$5:$A$204,">="&$A51,'勤怠を入力'!$A$5:$A$204,"<"&DATE($B$4,13,1)),2) | E51: =ROUND(SUMIFS('勤怠を入力'!$J$5:$J$204,'勤怠を入力'!$A$5:$A$204,">="&$A51,'勤怠を入力'!$A$5:$A$204,"<"&DATE($B$4,13,1)),2) | F51: =ROUND(SUMIFS('勤怠を入力'!$K$5:$K$204,'勤怠を入力'!$A$5:$A$204,">="&$A51,'勤怠を入力'!$A$5:$A$204,"<"&DATE($B$4,13,1)),2) | G51: =ROUND(SUMIFS('勤怠を入力'!$L$5:$L$204,'勤怠を入力'!$A$5:$A$204,">="&$A51,'勤怠を入力'!$A$5:$A$204,"<"&DATE($B$4,13,1)),2) | H51: =ROUND($E51-45,2)
A52: 合計 | B52: =ROUND(SUM(B40:B51),2) | C52: =ROUND(SUM(C40:C51),2) | D52: =ROUND(SUM(D40:D51),2) | E52: =ROUND(SUM(E40:E51),2) | F52: =ROUND(SUM(F40:F51),2) | G52: =ROUND(SUM(G40:G51),2)
A54: ■ 区分別の日数
A55: 区分 | B55: 日数 | C55: 構成比
A56: 通常勤務 | B56: =COUNTIF('勤怠を入力'!$D$5:$D$204,$A56) | C56: =IF($B$63=0,0,$B56/$B$63)
A57: 法定休日 | B57: =COUNTIF('勤怠を入力'!$D$5:$D$204,$A57) | C57: =IF($B$63=0,0,$B57/$B$63)
A58: 所定休日 | B58: =COUNTIF('勤怠を入力'!$D$5:$D$204,$A58) | C58: =IF($B$63=0,0,$B58/$B$63)
A59: 有給休暇 | B59: =COUNTIF('勤怠を入力'!$D$5:$D$204,$A59) | C59: =IF($B$63=0,0,$B59/$B$63)
A60: 欠勤 | B60: =COUNTIF('勤怠を入力'!$D$5:$D$204,$A60) | C60: =IF($B$63=0,0,$B60/$B$63)
A61: 遅刻早退 | B61: =COUNTIF('勤怠を入力'!$D$5:$D$204,$A61) | C61: =IF($B$63=0,0,$B61/$B$63)
A62: 特別休暇 | B62: =COUNTIF('勤怠を入力'!$D$5:$D$204,$A62) | C62: =IF($B$63=0,0,$B62/$B$63)
A63: 合計 | B63: =SUM($B$56:$B$62) | C63: =IF($B$63=0,0,1)
A65: このテンプレートは自由に使ってかまいません。改変・再配布も可です。
A66: 配布元: 副業ポートフォリオ https://satoru-log.jp

Sheet 使い方と注意
A1: 使い方と注意
A3: ■ このツールでできること
A4: 「勤怠を入力」に日付・氏名・区分・始業終業・休憩を打つだけで、
A5: 実労働時間／法定内残業／法定外残業／深夜労働／休日労働が自動計算されます。
A6: 集計は「集計を見る」に全部まとまります。グラフも自動で更新されます。
A8: ■ 入力のしかた
A9: 1. 「勤怠を入力」の B1 に1日の所定労働時間（例: 8）を入れます。
A10: 2. B2 に事業所名を入れます（集計シートに表示されます）。
A11: 3. 5行目から1日1行で入力します。薄い黄色のセルだけ打てばOKです。
A12: 4. 始業・終業は 9:00 / 18:00 のように時刻で入力します。
A13: 5. 休憩は「分」で入力します（1時間なら 60）。
A14: 6. 区分はプルダウンから選びます。氏名も集計シートに登録すると選べます。
... A44: 配布元: 副業ポートフォリオ https://satoru-log.jp
