Workbook
Name スタッフ: '集計を見る'!$A$70:$A$77

Sheet 入力する
A1: 必要人数（1日あたり） | C1: 2 | D1: ← この人数を下回る日は赤くなります
A2: 所定労働時間（1日） | C2: 7.5 | D2: ← ここを超えて8時間までが「法定内残業」になります
A4: 日付 | B4: 曜日 | C4: 氏名 | D4: 部署 | E4: 区分 | F4: 開始 | G4: 終了 | H4: 休憩(分) | I4: 実働(h) | J4: 法定内残業(h) | K4: 法定外残業(h) | L4: 深夜(h) | M4: 休日労働(h) | N4: 出勤人数 | O4: 過不足 | P4: 人数判定
B5: =IF(COUNT($A5)=0,"",TEXT($A5,"aaa")) | I5: =IF(COUNT($A5,$F5,$G5)<3,"",ROUND(($G5+IF($G5<$F5,1,0)-$F5)*24-$H5/60,2)) | J5: =IF($I5="","",IF($E5="休日出勤",0,ROUND(MAX(0,MIN($I5,8)-$C$2),2))) | K5: =IF($I5="","",IF($E5="休日出勤",0,ROUND(MAX(0,$I5-8),2))) | L5: =IF($I5="","",ROUND(MAX(0,MIN($G5+IF($G5<$F5,1,0),29/24)-MAX($F5,22/24))*24+MAX(0,MIN($G5+IF($G5<$F5,1,0),5/24)-$F5)*24,2)) | M5: =IF($I5="","",IF($E5="休日出勤",$I5,0)) | N5: =IF(COUNT($A5)=0,"",COUNTIF($A$5:$A$204,$A5)) | O5: =IF($N5="","",$N5-$C$1) | P5: =IF($O5="","",IF($O5<0,"不足","OK"))
B6: =IF(COUNT($A6)=0,"",TEXT($A6,"aaa")) | I6: =IF(COUNT($A6,$F6,$G6)<3,"",ROUND(($G6+IF($G6<$F6,1,0)-$F6)*24-$H6/60,2)) | J6: =IF($I6="","",IF($E6="休日出勤",0,ROUND(MAX(0,MIN($I6,8)-$C$2),2))) | K6: =IF($I6="","",IF($E6="休日出勤",0,ROUND(MAX(0,$I6-8),2))) | L6: =IF($I6="","",ROUND(MAX(0,MIN($G6+IF($G6<$F6,1,0),29/24)-MAX($F6,22/24))*24+MAX(0,MIN($G6+IF($G6<$F6,1,0),5/24)-$F6)*24,2)) | M6: =IF($I6="","",IF($E6="休日出勤",$I6,0)) | N6: =IF(COUNT($A6)=0,"",COUNTIF($A$5:$A$204,$A6)) | O6: =IF($N6="","",$N6-$C$1) | P6: =IF($O6="","",IF($O6<0,"不足","OK"))
B7: =IF(COUNT($A7)=0,"",TEXT($A7,"aaa")) | I7: =IF(COUNT($A7,$F7,$G7)<3,"",ROUND(($G7+IF($G7<$F7,1,0)-$F7)*24-$H7/60,2)) | J7: =IF($I7="","",IF($E7="休日出勤",0,ROUND(MAX(0,MIN($I7,8)-$C$2),2))) | K7: =IF($I7="","",IF($E7="休日出勤",0,ROUND(MAX(0,$I7-8),2))) | L7: =IF($I7="","",ROUND(MAX(0,MIN($G7+IF($G7<$F7,1,0),29/24)-MAX($F7,22/24))*24+MAX(0,MIN($G7+IF($G7<$F7,1,0),5/24)-$F7)*24,2)) | M7: =IF($I7="","",IF($E7="休日出勤",$I7,0)) | N7: =IF(COUNT($A7)=0,"",COUNTIF($A$5:$A$204,$A7)) | O7: =IF($N7="","",$N7-$C$1) | P7: =IF($O7="","",IF($O7<0,"不足","OK"))
B8: =IF(COUNT($A8)=0,"",TEXT($A8,"aaa")) | I8: =IF(COUNT($A8,$F8,$G8)<3,"",ROUND(($G8+IF($G8<$F8,1,0)-$F8)*24-$H8/60,2)) | J8: =IF($I8="","",IF($E8="休日出勤",0,ROUND(MAX(0,MIN($I8,8)-$C$2),2))) | K8: =IF($I8="","",IF($E8="休日出勤",0,ROUND(MAX(0,$I8-8),2))) | L8: =IF($I8="","",ROUND(MAX(0,MIN($G8+IF($G8<$F8,1,0),29/24)-MAX($F8,22/24))*24+MAX(0,MIN($G8+IF($G8<$F8,1,0),5/24)-$F8)*24,2)) | M8: =IF($I8="","",IF($E8="休日出勤",$I8,0)) | N8: =IF(COUNT($A8)=0,"",COUNTIF($A$5:$A$204,$A8)) | O8: =IF($N8="","",$N8-$C$1) | P8: =IF($O8="","",IF($O8<0,"不足","OK"))
B9: =IF(COUNT($A9)=0,"",TEXT($A9,"aaa")) | I9: =IF(COUNT($A9,$F9,$G9)<3,"",ROUND(($G9+IF($G9<$F9,1,0)-$F9)*24-$H9/60,2)) | J9: =IF($I9="","",IF($E9="休日出勤",0,ROUND(MAX(0,MIN($I9,8)-$C$2),2))) | K9: =IF($I9="","",IF($E9="休日出勤",0,ROUND(MAX(0,$I9-8),2))) | L9: =IF($I9="","",ROUND(MAX(0,MIN($G9+IF($G9<$F9,1,0),29/24)-MAX($F9,22/24))*24+MAX(0,MIN($G9+IF($G9<$F9,1,0),5/24)-$F9)*24,2)) | M9: =IF($I9="","",IF($E9="休日出勤",$I9,0)) | N9: =IF(COUNT($A9)=0,"",COUNTIF($A$5:$A$204,$A9)) | O9: =IF($N9="","",$N9-$C$1) | P9: =IF($O9="","",IF($O9<0,"不足","OK"))
B10: =IF(COUNT($A10)=0,"",TEXT($A10,"aaa")) | I10: =IF(COUNT($A10,$F10,$G10)<3,"",ROUND(($G10+IF($G10<$F10,1,0)-$F10)*24-$H10/60,2)) | J10: =IF($I10="","",IF($E10="休日出勤",0,ROUND(MAX(0,MIN($I10,8)-$C$2),2))) | K10: =IF($I10="","",IF($E10="休日出勤",0,ROUND(MAX(0,$I10-8),2))) | L10: =IF($I10="","",ROUND(MAX(0,MIN($G10+IF($G10<$F10,1,0),29/24)-MAX($F10,22/24))*24+MAX(0,MIN($G10+IF($G10<$F10,1,0),5/24)-$F10)*24,2)) | M10: =IF($I10="","",IF($E10="休日出勤",$I10,0)) | N10: =IF(COUNT($A10)=0,"",COUNTIF($A$5:$A$204,$A10)) | O10: =IF($N10="","",$N10-$C$1) | P10: =IF($O10="","",IF($O10<0,"不足","OK"))
B11: =IF(COUNT($A11)=0,"",TEXT($A11,"aaa")) | I11: =IF(COUNT($A11,$F11,$G11)<3,"",ROUND(($G11+IF($G11<$F11,1,0)-$F11)*24-$H11/60,2)) | J11: =IF($I11="","",IF($E11="休日出勤",0,ROUND(MAX(0,MIN($I11,8)-$C$2),2))) | K11: =IF($I11="","",IF($E11="休日出勤",0,ROUND(MAX(0,$I11-8),2))) | L11: =IF($I11="","",ROUND(MAX(0,MIN($G11+IF($G11<$F11,1,0),29/24)-MAX($F11,22/24))*24+MAX(0,MIN($G11+IF($G11<$F11,1,0),5/24)-$F11)*24,2)) | M11: =IF($I11="","",IF($E11="休日出勤",$I11,0)) | N11: =IF(COUNT($A11)=0,"",COUNTIF($A$5:$A$204,$A11)) | O11: =IF($N11="","",$N11-$C$1) | P11: =IF($O11="","",IF($O11<0,"不足","OK"))
B12: =IF(COUNT($A12)=0,"",TEXT($A12,"aaa")) | I12: =IF(COUNT($A12,$F12,$G12)<3,"",ROUND(($G12+IF($G12<$F12,1,0)-$F12)*24-$H12/60,2)) | J12: =IF($I12="","",IF($E12="休日出勤",0,ROUND(MAX(0,MIN($I12,8)-$C$2),2))) | K12: =IF($I12="","",IF($E12="休日出勤",0,ROUND(MAX(0,$I12-8),2))) | L12: =IF($I12="","",ROUND(MAX(0,MIN($G12+IF($G12<$F12,1,0),29/24)-MAX($F12,22/24))*24+MAX(0,MIN($G12+IF($G12<$F12,1,0),5/24)-$F12)*24,2)) | M12: =IF($I12="","",IF($E12="休日出勤",$I12,0)) | N12: =IF(COUNT($A12)=0,"",COUNTIF($A$5:$A$204,$A12)) | O12: =IF($N12="","",$N12-$C$1) | P12: =IF($O12="","",IF($O12<0,"不足","OK"))
B13: =IF(COUNT($A13)=0,"",TEXT($A13,"aaa")) | I13: =IF(COUNT($A13,$F13,$G13)<3,"",ROUND(($G13+IF($G13<$F13,1,0)-$F13)*24-$H13/60,2)) | J13: =IF($I13="","",IF($E13="休日出勤",0,ROUND(MAX(0,MIN($I13,8)-$C$2),2))) | K13: =IF($I13="","",IF($E13="休日出勤",0,ROUND(MAX(0,$I13-8),2))) | L13: =IF($I13="","",ROUND(MAX(0,MIN($G13+IF($G13<$F13,1,0),29/24)-MAX($F13,22/24))*24+MAX(0,MIN($G13+IF($G13<$F13,1,0),5/24)-$F13)*24,2)) | M13: =IF($I13="","",IF($E13="休日出勤",$I13,0)) | N13: =IF(COUNT($A13)=0,"",COUNTIF($A$5:$A$204,$A13)) | O13: =IF($N13="","",$N13-$C$1) | P13: =IF($O13="","",IF($O13<0,"不足","OK"))
B14: =IF(COUNT($A14)=0,"",TEXT($A14,"aaa")) | I14: =IF(COUNT($A14,$F14,$G14)<3,"",ROUND(($G14+IF($G14<$F14,1,0)-$F14)*24-$H14/60,2)) | J14: =IF($I14="","",IF($E14="休日出勤",0,ROUND(MAX(0,MIN($I14,8)-$C$2),2))) | K14: =IF($I14="","",IF($E14="休日出勤",0,ROUND(MAX(0,$I14-8),2))) | L14: =IF($I14="","",ROUND(MAX(0,MIN($G14+IF($G14<$F14,1,0),29/24)-MAX($F14,22/24))*24+MAX(0,MIN($G14+IF($G14<$F14,1,0),5/24)-$F14)*24,2)) | M14: =IF($I14="","",IF($E14="休日出勤",$I14,0)) | N14: =IF(COUNT($A14)=0,"",COUNTIF($A$5:$A$204,$A14)) | O14: =IF($N14="","",$N14-$C$1) | P14: =IF($O14="","",IF($O14<0,"不足","OK"))
B15: =IF(COUNT($A15)=0,"",TEXT($A15,"aaa")) | I15: =IF(COUNT($A15,$F15,$G15)<3,"",ROUND(($G15+IF($G15<$F15,1,0)-$F15)*24-$H15/60,2)) | J15: =IF($I15="","",IF($E15="休日出勤",0,ROUND(MAX(0,MIN($I15,8)-$C$2),2))) | K15: =IF($I15="","",IF($E15="休日出勤",0,ROUND(MAX(0,$I15-8),2))) | L15: =IF($I15="","",ROUND(MAX(0,MIN($G15+IF($G15<$F15,1,0),29/24)-MAX($F15,22/24))*24+MAX(0,MIN($G15+IF($G15<$F15,1,0),5/24)-$F15)*24,2)) | M15: =IF($I15="","",IF($E15="休日出勤",$I15,0)) | N15: =IF(COUNT($A15)=0,"",COUNTIF($A$5:$A$204,$A15)) | O15: =IF($N15="","",$N15-$C$1) | P15: =IF($O15="","",IF($O15<0,"不足","OK"))
B16: =IF(COUNT($A16)=0,"",TEXT($A16,"aaa")) | I16: =IF(COUNT($A16,$F16,$G16)<3,"",ROUND(($G16+IF($G16<$F16,1,0)-$F16)*24-$H16/60,2)) | J16: =IF($I16="","",IF($E16="休日出勤",0,ROUND(MAX(0,MIN($I16,8)-$C$2),2))) | K16: =IF($I16="","",IF($E16="休日出勤",0,ROUND(MAX(0,$I16-8),2))) | L16: =IF($I16="","",ROUND(MAX(0,MIN($G16+IF($G16<$F16,1,0),29/24)-MAX($F16,22/24))*24+MAX(0,MIN($G16+IF($G16<$F16,1,0),5/24)-$F16)*24,2)) | M16: =IF($I16="","",IF($E16="休日出勤",$I16,0)) | N16: =IF(COUNT($A16)=0,"",COUNTIF($A$5:$A$204,$A16)) | O16: =IF($N16="","",$N16-$C$1) | P16: =IF($O16="","",IF($O16<0,"不足","OK"))
... B204: =IF(COUNT($A204)=0,"",TEXT($A204,"aaa")) | I204: =IF(COUNT($A204,$F204,$G204)<3,"",ROUND(($G204+IF($G204<$F204,1,0)-$F204)*24-$H204/60,2)) | J204: =IF($I204="","",IF($E204="休日出勤",0,ROUND(MAX(0,MIN($I204,8)-$C$2),2))) | K204: =IF($I204="","",IF($E204="休日出勤",0,ROUND(MAX(0,$I204-8),2))) | L204: =IF($I204="","",ROUND(MAX(0,MIN($G204+IF($G204<$F204,1,0),29/24)-MAX($F204,22/24))*24+MAX(0,MIN($G204+IF($G204<$F204,1,0),5/24)-$F204)*24,2)) | M204: =IF($I204="","",IF($E204="休日出勤",$I204,0)) | N204: =IF(COUNT($A204)=0,"",COUNTIF($A$5:$A$204,$A204)) | O204: =IF($N204="","",$N204-$C$1) | P204: =IF($O204="","",IF($O204<0,"不足","OK"))

Sheet 集計を見る
A1: シフト表
A2: 人数不足が色で分かる／残業・深夜・休日労働まで自動集計
A3: 配布元: 副業ポートフォリオ https://satoru-log.jp ｜ このテンプレートは自由に使ってかまいません。改変・再配布も可です。
A5: 全体サマリー
A6: のべ出勤件数（人日） | B6: =COUNT('入力する'!$A$5:$A$204)
A7: 総労働時間（h） | B7: =ROUND(SUM('入力する'!$I$5:$I$204),1)
A8: 法定内残業（h） | B8: =ROUND(SUM('入力する'!$J$5:$J$204),1)
A9: 法定外残業（h） | B9: =ROUND(SUM('入力する'!$K$5:$K$204),1)
A10: 深夜労働（h） | B10: =ROUND(SUM('入力する'!$L$5:$L$204),1)
A11: 休日労働（h） | B11: =ROUND(SUM('入力する'!$M$5:$M$204),1)
A12: 平均実働（h/件） | B12: =IF($B$6=0,0,ROUND($B$7/$B$6,1))
A13: 人数が足りない日数 | B13: =COUNTIF($F$17:$F$47,"不足") | C13: ← 下の日別チェックで赤い行の数です
A15: 日別の人数チェック（いちばん古い日付から31日分）
A16: 日付 | B16: 曜日 | C16: 出勤人数 | D16: 必要人数 | E16: 過不足 | F16: 判定
A17: =IF(COUNT('入力する'!$A$5:$A$204)=0,"",MIN('入力する'!$A$5:$A$204)) | B17: =IF(A17="","",TEXT(A17,"aaa")) | C17: =IF(A17="","",COUNTIF('入力する'!$A$5:$A$204,A17)) | D17: =IF(A17="","",'入力する'!$C$1) | E17: =IF(A17="","",C17-D17) | F17: =IF(A17="","",IF(E17<0,"不足","OK"))
A18: =IF($A$17="","",A17+1) | B18: =IF(A18="","",TEXT(A18,"aaa")) | C18: =IF(A18="","",COUNTIF('入力する'!$A$5:$A$204,A18)) | D18: =IF(A18="","",'入力する'!$C$1) | E18: =IF(A18="","",C18-D18) | F18: =IF(A18="","",IF(E18<0,"不足","OK"))
A19: =IF($A$17="","",A18+1) | B19: =IF(A19="","",TEXT(A19,"aaa")) | C19: =IF(A19="","",COUNTIF('入力する'!$A$5:$A$204,A19)) | D19: =IF(A19="","",'入力する'!$C$1) | E19: =IF(A19="","",C19-D19) | F19: =IF(A19="","",IF(E19<0,"不足","OK"))
A20: =IF($A$17="","",A19+1) | B20: =IF(A20="","",TEXT(A20,"aaa")) | C20: =IF(A20="","",COUNTIF('入力する'!$A$5:$A$204,A20)) | D20: =IF(A20="","",'入力する'!$C$1) | E20: =IF(A20="","",C20-D20) | F20: =IF(A20="","",IF(E20<0,"不足","OK"))
A21: =IF($A$17="","",A20+1) | B21: =IF(A21="","",TEXT(A21,"aaa")) | C21: =IF(A21="","",COUNTIF('入力する'!$A$5:$A$204,A21)) | D21: =IF(A21="","",'入力する'!$C$1) | E21: =IF(A21="","",C21-D21) | F21: =IF(A21="","",IF(E21<0,"不足","OK"))
A22: =IF($A$17="","",A21+1) | B22: =IF(A22="","",TEXT(A22,"aaa")) | C22: =IF(A22="","",COUNTIF('入力する'!$A$5:$A$204,A22)) | D22: =IF(A22="","",'入力する'!$C$1) | E22: =IF(A22="","",C22-D22) | F22: =IF(A22="","",IF(E22<0,"不足","OK"))
A23: =IF($A$17="","",A22+1) | B23: =IF(A23="","",TEXT(A23,"aaa")) | C23: =IF(A23="","",COUNTIF('入力する'!$A$5:$A$204,A23)) | D23: =IF(A23="","",'入力する'!$C$1) | E23: =IF(A23="","",C23-D23) | F23: =IF(A23="","",IF(E23<0,"不足","OK"))
A24: =IF($A$17="","",A23+1) | B24: =IF(A24="","",TEXT(A24,"aaa")) | C24: =IF(A24="","",COUNTIF('入力する'!$A$5:$A$204,A24)) | D24: =IF(A24="","",'入力する'!$C$1) | E24: =IF(A24="","",C24-D24) | F24: =IF(A24="","",IF(E24<0,"不足","OK"))
A25: =IF($A$17="","",A24+1) | B25: =IF(A25="","",TEXT(A25,"aaa")) | C25: =IF(A25="","",COUNTIF('入力する'!$A$5:$A$204,A25)) | D25: =IF(A25="","",'入力する'!$C$1) | E25: =IF(A25="","",C25-D25) | F25: =IF(A25="","",IF(E25<0,"不足","OK"))
A26: =IF($A$17="","",A25+1) | B26: =IF(A26="","",TEXT(A26,"aaa")) | C26: =IF(A26="","",COUNTIF('入力する'!$A$5:$A$204,A26)) | D26: =IF(A26="","",'入力する'!$C$1) | E26: =IF(A26="","",C26-D26) | F26: =IF(A26="","",IF(E26<0,"不足","OK"))
A27: =IF($A$17="","",A26+1) | B27: =IF(A27="","",TEXT(A27,"aaa")) | C27: =IF(A27="","",COUNTIF('入力する'!$A$5:$A$204,A27)) | D27: =IF(A27="","",'入力する'!$C$1) | E27: =IF(A27="","",C27-D27) | F27: =IF(A27="","",IF(E27<0,"不足","OK"))
A28: =IF($A$17="","",A27+1) | B28: =IF(A28="","",TEXT(A28,"aaa")) | C28: =IF(A28="","",COUNTIF('入力する'!$A$5:$A$204,A28)) | D28: =IF(A28="","",'入力する'!$C$1) | E28: =IF(A28="","",C28-D28) | F28: =IF(A28="","",IF(E28<0,"不足","OK"))
A29: =IF($A$17="","",A28+1) | B29: =IF(A29="","",TEXT(A29,"aaa")) | C29: =IF(A29="","",COUNTIF('入力する'!$A$5:$A$204,A29)) | D29: =IF(A29="","",'入力する'!$C$1) | E29: =IF(A29="","",C29-D29) | F29: =IF(A29="","",IF(E29<0,"不足","OK"))
... A47: =IF($A$17="","",A46+1) | B47: =IF(A47="","",TEXT(A47,"aaa")) | C47: =IF(A47="","",COUNTIF('入力する'!$A$5:$A$204,A47)) | D47: =IF(A47="","",'入力する'!$C$1) | E47: =IF(A47="","",C47-D47) | F47: =IF(A47="","",IF(E47<0,"不足","OK"))
A49: 部署別の集計（構成比と順位つき）
A50: 部署 | B50: 労働時間(h) | C50: 残業合計(h) | D50: 深夜(h) | E50: 構成比 | F50: 順位
A51: 製造 | B51: =ROUND(SUMIF('入力する'!$D$5:$D$204,$A51,'入力する'!$I$5:$I$204),1) | C51: =ROUND(SUMIF('入力する'!$D$5:$D$204,$A51,'入力する'!$J$5:$J$204)+SUMIF('入力する'!$D$5:$D$204,$A51,'入力する'!$K$5:$K$204),1) | D51: =ROUND(SUMIF('入力する'!$D$5:$D$204,$A51,'入力する'!$L$5:$L$204),1) | E51: =IF($B$56=0,0,B51/$B$56) | F51: =IF(B51=0,"",RANK(B51,$B$51:$B$55))
A52: 販売 | B52: =ROUND(SUMIF('入力する'!$D$5:$D$204,$A52,'入力する'!$I$5:$I$204),1) | C52: =ROUND(SUMIF('入力する'!$D$5:$D$204,$A52,'入力する'!$J$5:$J$204)+SUMIF('入力する'!$D$5:$D$204,$A52,'入力する'!$K$5:$K$204),1) | D52: =ROUND(SUMIF('入力する'!$D$5:$D$204,$A52,'入力する'!$L$5:$L$204),1) | E52: =IF($B$56=0,0,B52/$B$56) | F52: =IF(B52=0,"",RANK(B52,$B$51:$B$55))
A53: 事務 | B53: =ROUND(SUMIF('入力する'!$D$5:$D$204,$A53,'入力する'!$I$5:$I$204),1) | C53: =ROUND(SUMIF('入力する'!$D$5:$D$204,$A53,'入力する'!$J$5:$J$204)+SUMIF('入力する'!$D$5:$D$204,$A53,'入力する'!$K$5:$K$204),1) | D53: =ROUND(SUMIF('入力する'!$D$5:$D$204,$A53,'入力する'!$L$5:$L$204),1) | E53: =IF($B$56=0,0,B53/$B$56) | F53: =IF(B53=0,"",RANK(B53,$B$51:$B$55))
A54: 配送 | B54: =ROUND(SUMIF('入力する'!$D$5:$D$204,$A54,'入力する'!$I$5:$I$204),1) | C54: =ROUND(SUMIF('入力する'!$D$5:$D$204,$A54,'入力する'!$J$5:$J$204)+SUMIF('入力する'!$D$5:$D$204,$A54,'入力する'!$K$5:$K$204),1) | D54: =ROUND(SUMIF('入力する'!$D$5:$D$204,$A54,'入力する'!$L$5:$L$204),1) | E54: =IF($B$56=0,0,B54/$B$56) | F54: =IF(B54=0,"",RANK(B54,$B$51:$B$55))
A55: その他 | B55: =ROUND(SUMIF('入力する'!$D$5:$D$204,$A55,'入力する'!$I$5:$I$204),1) | C55: =ROUND(SUMIF('入力する'!$D$5:$D$204,$A55,'入力する'!$J$5:$J$204)+SUMIF('入力する'!$D$5:$D$204,$A55,'入力する'!$K$5:$K$204),1) | D55: =ROUND(SUMIF('入力する'!$D$5:$D$204,$A55,'入力する'!$L$5:$L$204),1) | E55: =IF($B$56=0,0,B55/$B$56) | F55: =IF(B55=0,"",RANK(B55,$B$51:$B$55))
A56: 合計 | B56: =ROUND(SUM(B51:B55),1) | C56: =ROUND(SUM(C51:C55),1) | D56: =ROUND(SUM(D51:D55),1) | E56: =IF($B$56=0,0,SUM(E51:E55))
A58: 区分別の集計（早番・遅番・夜勤などの内訳）
A59: 区分 | B59: 件数 | C59: 労働時間(h) | D59: 構成比
A60: 通常 | B60: =COUNTIF('入力する'!$E$5:$E$204,$A60) | C60: =ROUND(SUMIF('入力する'!$E$5:$E$204,$A60,'入力する'!$I$5:$I$204),1) | D60: =IF($C$65=0,0,C60/$C$65)
A61: 早番 | B61: =COUNTIF('入力する'!$E$5:$E$204,$A61) | C61: =ROUND(SUMIF('入力する'!$E$5:$E$204,$A61,'入力する'!$I$5:$I$204),1) | D61: =IF($C$65=0,0,C61/$C$65)
A62: 遅番 | B62: =COUNTIF('入力する'!$E$5:$E$204,$A62) | C62: =ROUND(SUMIF('入力する'!$E$5:$E$204,$A62,'入力する'!$I$5:$I$204),1) | D62: =IF($C$65=0,0,C62/$C$65)
A63: 夜勤 | B63: =COUNTIF('入力する'!$E$5:$E$204,$A63) | C63: =ROUND(SUMIF('入力する'!$E$5:$E$204,$A63,'入力する'!$I$5:$I$204),1) | D63: =IF($C$65=0,0,C63/$C$65)
A64: 休日出勤 | B64: =COUNTIF('入力する'!$E$5:$E$204,$A64) | C64: =ROUND(SUMIF('入力する'!$E$5:$E$204,$A64,'入力する'!$I$5:$I$204),1) | D64: =IF($C$65=0,0,C64/$C$65)
A65: 合計 | B65: =SUM(B60:B64) | C65: =ROUND(SUM(C60:C64),1) | D65: =IF($C$65=0,0,SUM(D60:D64))
A67: スタッフ別の集計（A列の氏名は手入力／プルダウンの元にもなります）
A68: 残業のめやす（1人・h） | C68: 20 | D68: ← このめやすを超えた人は「めやすとの差」が赤くなります
A69: 氏名 | B69: 出勤日数 | C69: 労働時間(h) | D69: 法定内残業(h) | E69: 法定外残業(h) | F69: 深夜(h) | G69: 休日労働(h) | H69: 残業合計(h) | I69: めやすとの差 | J69: 順位
B70: =IF($A70="","",COUNTIF('入力する'!$C$5:$C$204,$A70)) | C70: =IF($A70="","",ROUND(SUMIF('入力する'!$C$5:$C$204,$A70,'入力する'!$I$5:$I$204),1)) | D70: =IF($A70="","",ROUND(SUMIF('入力する'!$C$5:$C$204,$A70,'入力する'!$J$5:$J$204),1)) | E70: =IF($A70="","",ROUND(SUMIF('入力する'!$C$5:$C$204,$A70,'入力する'!$K$5:$K$204),1)) | F70: =IF($A70="","",ROUND(SUMIF('入力する'!$C$5:$C$204,$A70,'入力する'!$L$5:$L$204),1)) | G70: =IF($A70="","",ROUND(SUMIF('入力する'!$C$5:$C$204,$A70,'入力する'!$M$5:$M$204),1)) | H70: =IF($A70="","",ROUND(D70+E70,1)) | I70: =IF($A70="","",ROUND(H70-$C$68,1)) | J70: =IF($A70="","",RANK(H70,$H$70:$H$77))
B71: =IF($A71="","",COUNTIF('入力する'!$C$5:$C$204,$A71)) | C71: =IF($A71="","",ROUND(SUMIF('入力する'!$C$5:$C$204,$A71,'入力する'!$I$5:$I$204),1)) | D71: =IF($A71="","",ROUND(SUMIF('入力する'!$C$5:$C$204,$A71,'入力する'!$J$5:$J$204),1)) | E71: =IF($A71="","",ROUND(SUMIF('入力する'!$C$5:$C$204,$A71,'入力する'!$K$5:$K$204),1)) | F71: =IF($A71="","",ROUND(SUMIF('入力する'!$C$5:$C$204,$A71,'入力する'!$L$5:$L$204),1)) | G71: =IF($A71="","",ROUND(SUMIF('入力する'!$C$5:$C$204,$A71,'入力する'!$M$5:$M$204),1)) | H71: =IF($A71="","",ROUND(D71+E71,1)) | I71: =IF($A71="","",ROUND(H71-$C$68,1)) | J71: =IF($A71="","",RANK(H71,$H$70:$H$77))
B72: =IF($A72="","",COUNTIF('入力する'!$C$5:$C$204,$A72)) | C72: =IF($A72="","",ROUND(SUMIF('入力する'!$C$5:$C$204,$A72,'入力する'!$I$5:$I$204),1)) | D72: =IF($A72="","",ROUND(SUMIF('入力する'!$C$5:$C$204,$A72,'入力する'!$J$5:$J$204),1)) | E72: =IF($A72="","",ROUND(SUMIF('入力する'!$C$5:$C$204,$A72,'入力する'!$K$5:$K$204),1)) | F72: =IF($A72="","",ROUND(SUMIF('入力する'!$C$5:$C$204,$A72,'入力する'!$L$5:$L$204),1)) | G72: =IF($A72="","",ROUND(SUMIF('入力する'!$C$5:$C$204,$A72,'入力する'!$M$5:$M$204),1)) | H72: =IF($A72="","",ROUND(D72+E72,1)) | I72: =IF($A72="","",ROUND(H72-$C$68,1)) | J72: =IF($A72="","",RANK(H72,$H$70:$H$77))
B73: =IF($A73="","",COUNTIF('入力する'!$C$5:$C$204,$A73)) | C73: =IF($A73="","",ROUND(SUMIF('入力する'!$C$5:$C$204,$A73,'入力する'!$I$5:$I$204),1)) | D73: =IF($A73="","",ROUND(SUMIF('入力する'!$C$5:$C$204,$A73,'入力する'!$J$5:$J$204),1)) | E73: =IF($A73="","",ROUND(SUMIF('入力する'!$C$5:$C$204,$A73,'入力する'!$K$5:$K$204),1)) | F73: =IF($A73="","",ROUND(SUMIF('入力する'!$C$5:$C$204,$A73,'入力する'!$L$5:$L$204),1)) | G73: =IF($A73="","",ROUND(SUMIF('入力する'!$C$5:$C$204,$A73,'入力する'!$M$5:$M$204),1)) | H73: =IF($A73="","",ROUND(D73+E73,1)) | I73: =IF($A73="","",ROUND(H73-$C$68,1)) | J73: =IF($A73="","",RANK(H73,$H$70:$H$77))
B74: =IF($A74="","",COUNTIF('入力する'!$C$5:$C$204,$A74)) | C74: =IF($A74="","",ROUND(SUMIF('入力する'!$C$5:$C$204,$A74,'入力する'!$I$5:$I$204),1)) | D74: =IF($A74="","",ROUND(SUMIF('入力する'!$C$5:$C$204,$A74,'入力する'!$J$5:$J$204),1)) | E74: =IF($A74="","",ROUND(SUMIF('入力する'!$C$5:$C$204,$A74,'入力する'!$K$5:$K$204),1)) | F74: =IF($A74="","",ROUND(SUMIF('入力する'!$C$5:$C$204,$A74,'入力する'!$L$5:$L$204),1)) | G74: =IF($A74="","",ROUND(SUMIF('入力する'!$C$5:$C$204,$A74,'入力する'!$M$5:$M$204),1)) | H74: =IF($A74="","",ROUND(D74+E74,1)) | I74: =IF($A74="","",ROUND(H74-$C$68,1)) | J74: =IF($A74="","",RANK(H74,$H$70:$H$77))
B75: =IF($A75="","",COUNTIF('入力する'!$C$5:$C$204,$A75)) | C75: =IF($A75="","",ROUND(SUMIF('入力する'!$C$5:$C$204,$A75,'入力する'!$I$5:$I$204),1)) | D75: =IF($A75="","",ROUND(SUMIF('入力する'!$C$5:$C$204,$A75,'入力する'!$J$5:$J$204),1)) | E75: =IF($A75="","",ROUND(SUMIF('入力する'!$C$5:$C$204,$A75,'入力する'!$K$5:$K$204),1)) | F75: =IF($A75="","",ROUND(SUMIF('入力する'!$C$5:$C$204,$A75,'入力する'!$L$5:$L$204),1)) | G75: =IF($A75="","",ROUND(SUMIF('入力する'!$C$5:$C$204,$A75,'入力する'!$M$5:$M$204),1)) | H75: =IF($A75="","",ROUND(D75+E75,1)) | I75: =IF($A75="","",ROUND(H75-$C$68,1)) | J75: =IF($A75="","",RANK(H75,$H$70:$H$77))
B76: =IF($A76="","",COUNTIF('入力する'!$C$5:$C$204,$A76)) | C76: =IF($A76="","",ROUND(SUMIF('入力する'!$C$5:$C$204,$A76,'入力する'!$I$5:$I$204),1)) | D76: =IF($A76="","",ROUND(SUMIF('入力する'!$C$5:$C$204,$A76,'入力する'!$J$5:$J$204),1)) | E76: =IF($A76="","",ROUND(SUMIF('入力する'!$C$5:$C$204,$A76,'入力する'!$K$5:$K$204),1)) | F76: =IF($A76="","",ROUND(SUMIF('入力する'!$C$5:$C$204,$A76,'入力する'!$L$5:$L$204),1)) | G76: =IF($A76="","",ROUND(SUMIF('入力する'!$C$5:$C$204,$A76,'入力する'!$M$5:$M$204),1)) | H76: =IF($A76="","",ROUND(D76+E76,1)) | I76: =IF($A76="","",ROUND(H76-$C$68,1)) | J76: =IF($A76="","",RANK(H76,$H$70:$H$77))
B77: =IF($A77="","",COUNTIF('入力する'!$C$5:$C$204,$A77)) | C77: =IF($A77="","",ROUND(SUMIF('入力する'!$C$5:$C$204,$A77,'入力する'!$I$5:$I$204),1)) | D77: =IF($A77="","",ROUND(SUMIF('入力する'!$C$5:$C$204,$A77,'入力する'!$J$5:$J$204),1)) | E77: =IF($A77="","",ROUND(SUMIF('入力する'!$C$5:$C$204,$A77,'入力する'!$K$5:$K$204),1)) | F77: =IF($A77="","",ROUND(SUMIF('入力する'!$C$5:$C$204,$A77,'入力する'!$L$5:$L$204),1)) | G77: =IF($A77="","",ROUND(SUMIF('入力する'!$C$5:$C$204,$A77,'入力する'!$M$5:$M$204),1)) | H77: =IF($A77="","",ROUND(D77+E77,1)) | I77: =IF($A77="","",ROUND(H77-$C$68,1)) | J77: =IF($A77="","",RANK(H77,$H$70:$H$77))
A78: 合計 | B78: =ROUND(SUM(B70:B77),1) | C78: =ROUND(SUM(C70:C77),1) | D78: =ROUND(SUM(D70:D77),1) | E78: =ROUND(SUM(E70:E77),1) | F78: =ROUND(SUM(F70:F77),1) | G78: =ROUND(SUM(G70:G77),1) | H78: =ROUND(SUM(H70:H77),1)
A80: 月別の推移（いちばん古い日付の月から6か月）
A81: 月 | B81: 労働時間(h) | C81: 残業合計(h) | D81: 深夜(h) | E81: 休日労働(h)
A82: =IF($A$17="","",TEXT(DATE(YEAR($A$17),MONTH($A$17)+0,1),"yyyy年m月")) | B82: =IF($A$17="","",ROUND(SUMIFS('入力する'!$I$5:$I$204,'入力する'!$A$5:$A$204,">="&DATE(YEAR($A$17),MONTH($A$17)+0,1),'入力する'!$A$5:$A$204,"<="&DATE(YEAR($A$17),MONTH($A$17)+1,0)),1)) | C82: =IF($A$17="","",ROUND(SUMIFS('入力する'!$J$5:$J$204,'入力する'!$A$5:$A$204,">="&DATE(YEAR($A$17),MONTH($A$17)+0,1),'入力する'!$A$5:$A$204,"<="&DATE(YEAR($A$17),MONTH($A$17)+1,0))+SUMIFS('入力する'!$K$5:$K$204,'入力する'!$A$5:$A$204,">="&DATE(YEAR($A$17),MONTH($A$17)+0,1),'入力する'!$A$5:$A$204,"<="&DATE(YEAR($A$17),MONTH($A$17)+1,0)),1)) | D82: =IF($A$17="","",ROUND(SUMIFS('入力する'!$L$5:$L$204,'入力する'!$A$5:$A$204,">="&DATE(YEAR($A$17),MONTH($A$17)+0,1),'入力する'!$A$5:$A$204,"<="&DATE(YEAR($A$17),MONTH($A$17)+1,0)),1)) | E82: =IF($A$17="","",ROUND(SUMIFS('入力する'!$M$5:$M$204,'入力する'!$A$5:$A$204,">="&DATE(YEAR($A$17),MONTH($A$17)+0,1),'入力する'!$A$5:$A$204,"<="&DATE(YEAR($A$17),MONTH($A$17)+1,0)),1))
A83: =IF($A$17="","",TEXT(DATE(YEAR($A$17),MONTH($A$17)+1,1),"yyyy年m月")) | B83: =IF($A$17="","",ROUND(SUMIFS('入力する'!$I$5:$I$204,'入力する'!$A$5:$A$204,">="&DATE(YEAR($A$17),MONTH($A$17)+1,1),'入力する'!$A$5:$A$204,"<="&DATE(YEAR($A$17),MONTH($A$17)+2,0)),1)) | C83: =IF($A$17="","",ROUND(SUMIFS('入力する'!$J$5:$J$204,'入力する'!$A$5:$A$204,">="&DATE(YEAR($A$17),MONTH($A$17)+1,1),'入力する'!$A$5:$A$204,"<="&DATE(YEAR($A$17),MONTH($A$17)+2,0))+SUMIFS('入力する'!$K$5:$K$204,'入力する'!$A$5:$A$204,">="&DATE(YEAR($A$17),MONTH($A$17)+1,1),'入力する'!$A$5:$A$204,"<="&DATE(YEAR($A$17),MONTH($A$17)+2,0)),1)) | D83: =IF($A$17="","",ROUND(SUMIFS('入力する'!$L$5:$L$204,'入力する'!$A$5:$A$204,">="&DATE(YEAR($A$17),MONTH($A$17)+1,1),'入力する'!$A$5:$A$204,"<="&DATE(YEAR($A$17),MONTH($A$17)+2,0)),1)) | E83: =IF($A$17="","",ROUND(SUMIFS('入力する'!$M$5:$M$204,'入力する'!$A$5:$A$204,">="&DATE(YEAR($A$17),MONTH($A$17)+1,1),'入力する'!$A$5:$A$204,"<="&DATE(YEAR($A$17),MONTH($A$17)+2,0)),1))
A84: =IF($A$17="","",TEXT(DATE(YEAR($A$17),MONTH($A$17)+2,1),"yyyy年m月")) | B84: =IF($A$17="","",ROUND(SUMIFS('入力する'!$I$5:$I$204,'入力する'!$A$5:$A$204,">="&DATE(YEAR($A$17),MONTH($A$17)+2,1),'入力する'!$A$5:$A$204,"<="&DATE(YEAR($A$17),MONTH($A$17)+3,0)),1)) | C84: =IF($A$17="","",ROUND(SUMIFS('入力する'!$J$5:$J$204,'入力する'!$A$5:$A$204,">="&DATE(YEAR($A$17),MONTH($A$17)+2,1),'入力する'!$A$5:$A$204,"<="&DATE(YEAR($A$17),MONTH($A$17)+3,0))+SUMIFS('入力する'!$K$5:$K$204,'入力する'!$A$5:$A$204,">="&DATE(YEAR($A$17),MONTH($A$17)+2,1),'入力する'!$A$5:$A$204,"<="&DATE(YEAR($A$17),MONTH($A$17)+3,0)),1)) | D84: =IF($A$17="","",ROUND(SUMIFS('入力する'!$L$5:$L$204,'入力する'!$A$5:$A$204,">="&DATE(YEAR($A$17),MONTH($A$17)+2,1),'入力する'!$A$5:$A$204,"<="&DATE(YEAR($A$17),MONTH($A$17)+3,0)),1)) | E84: =IF($A$17="","",ROUND(SUMIFS('入力する'!$M$5:$M$204,'入力する'!$A$5:$A$204,">="&DATE(YEAR($A$17),MONTH($A$17)+2,1),'入力する'!$A$5:$A$204,"<="&DATE(YEAR($A$17),MONTH($A$17)+3,0)),1))
A85: =IF($A$17="","",TEXT(DATE(YEAR($A$17),MONTH($A$17)+3,1),"yyyy年m月")) | B85: =IF($A$17="","",ROUND(SUMIFS('入力する'!$I$5:$I$204,'入力する'!$A$5:$A$204,">="&DATE(YEAR($A$17),MONTH($A$17)+3,1),'入力する'!$A$5:$A$204,"<="&DATE(YEAR($A$17),MONTH($A$17)+4,0)),1)) | C85: =IF($A$17="","",ROUND(SUMIFS('入力する'!$J$5:$J$204,'入力する'!$A$5:$A$204,">="&DATE(YEAR($A$17),MONTH($A$17)+3,1),'入力する'!$A$5:$A$204,"<="&DATE(YEAR($A$17),MONTH($A$17)+4,0))+SUMIFS('入力する'!$K$5:$K$204,'入力する'!$A$5:$A$204,">="&DATE(YEAR($A$17),MONTH($A$17)+3,1),'入力する'!$A$5:$A$204,"<="&DATE(YEAR($A$17),MONTH($A$17)+4,0)),1)) | D85: =IF($A$17="","",ROUND(SUMIFS('入力する'!$L$5:$L$204,'入力する'!$A$5:$A$204,">="&DATE(YEAR($A$17),MONTH($A$17)+3,1),'入力する'!$A$5:$A$204,"<="&DATE(YEAR($A$17),MONTH($A$17)+4,0)),1)) | E85: =IF($A$17="","",ROUND(SUMIFS('入力する'!$M$5:$M$204,'入力する'!$A$5:$A$204,">="&DATE(YEAR($A$17),MONTH($A$17)+3,1),'入力する'!$A$5:$A$204,"<="&DATE(YEAR($A$17),MONTH($A$17)+4,0)),1))
A86: =IF($A$17="","",TEXT(DATE(YEAR($A$17),MONTH($A$17)+4,1),"yyyy年m月")) | B86: =IF($A$17="","",ROUND(SUMIFS('入力する'!$I$5:$I$204,'入力する'!$A$5:$A$204,">="&DATE(YEAR($A$17),MONTH($A$17)+4,1),'入力する'!$A$5:$A$204,"<="&DATE(YEAR($A$17),MONTH($A$17)+5,0)),1)) | C86: =IF($A$17="","",ROUND(SUMIFS('入力する'!$J$5:$J$204,'入力する'!$A$5:$A$204,">="&DATE(YEAR($A$17),MONTH($A$17)+4,1),'入力する'!$A$5:$A$204,"<="&DATE(YEAR($A$17),MONTH($A$17)+5,0))+SUMIFS('入力する'!$K$5:$K$204,'入力する'!$A$5:$A$204,">="&DATE(YEAR($A$17),MONTH($A$17)+4,1),'入力する'!$A$5:$A$204,"<="&DATE(YEAR($A$17),MONTH($A$17)+5,0)),1)) | D86: =IF($A$17="","",ROUND(SUMIFS('入力する'!$L$5:$L$204,'入力する'!$A$5:$A$204,">="&DATE(YEAR($A$17),MONTH($A$17)+4,1),'入力する'!$A$5:$A$204,"<="&DATE(YEAR($A$17),MONTH($A$17)+5,0)),1)) | E86: =IF($A$17="","",ROUND(SUMIFS('入力する'!$M$5:$M$204,'入力する'!$A$5:$A$204,">="&DATE(YEAR($A$17),MONTH($A$17)+4,1),'入力する'!$A$5:$A$204,"<="&DATE(YEAR($A$17),MONTH($A$17)+5,0)),1))
A87: =IF($A$17="","",TEXT(DATE(YEAR($A$17),MONTH($A$17)+5,1),"yyyy年m月")) | B87: =IF($A$17="","",ROUND(SUMIFS('入力する'!$I$5:$I$204,'入力する'!$A$5:$A$204,">="&DATE(YEAR($A$17),MONTH($A$17)+5,1),'入力する'!$A$5:$A$204,"<="&DATE(YEAR($A$17),MONTH($A$17)+6,0)),1)) | C87: =IF($A$17="","",ROUND(SUMIFS('入力する'!$J$5:$J$204,'入力する'!$A$5:$A$204,">="&DATE(YEAR($A$17),MONTH($A$17)+5,1),'入力する'!$A$5:$A$204,"<="&DATE(YEAR($A$17),MONTH($A$17)+6,0))+SUMIFS('入力する'!$K$5:$K$204,'入力する'!$A$5:$A$204,">="&DATE(YEAR($A$17),MONTH($A$17)+5,1),'入力する'!$A$5:$A$204,"<="&DATE(YEAR($A$17),MONTH($A$17)+6,0)),1)) | D87: =IF($A$17="","",ROUND(SUMIFS('入力する'!$L$5:$L$204,'入力する'!$A$5:$A$204,">="&DATE(YEAR($A$17),MONTH($A$17)+5,1),'入力する'!$A$5:$A$204,"<="&DATE(YEAR($A$17),MONTH($A$17)+6,0)),1)) | E87: =IF($A$17="","",ROUND(SUMIFS('入力する'!$M$5:$M$204,'入力する'!$A$5:$A$204,">="&DATE(YEAR($A$17),MONTH($A$17)+5,1),'入力する'!$A$5:$A$204,"<="&DATE(YEAR($A$17),MONTH($A$17)+6,0)),1))
A89: ※ 薄い黄色のセルだけが手入力です。ほかはすべて自動で計算されます。

Sheet 使い方と注意
A2: シフト表（人数不足が色で分かる） 使い方と注意
A4: ■ 3ステップで使えます
A5: 1. 「入力する」シートのC1に、1日に必要な人数を入れます（例: 2）。C2には1日の所定労働時間を入れます（例: 7.5）。
A6: 2. 「集計を見る」シートのA70〜A77に、スタッフの氏名を入れます。ここに入れた名前が「入力する」シートのC列でプルダウンから選べるようになります。
A7: 3. 「入力する」シートの5行目から、1行に1人分の勤務を入れます。入力するのは日付・氏名・部署・区分・開始・終了・休憩（分）の7つだけです。
A9: ■ 色の見かた
A10: ・薄い黄色のセルが入力欄です。それ以外の列は自動で計算されます（文字が青いところ）。
A11: ・「過不足」がマイナスになった行と、「集計を見る」シートの日別チェックで人数が足りない日は、赤くなります。足りている日は薄い緑です。
A12: ・スタッフ別集計の「めやすとの差」は、残業のめやすを超えた人だけ赤くなります。
A14: ■ 残業の数えかた
A15: ・法定内残業: 所定労働時間（C2）を超えて、1日8時間までの部分です。
A16: ・法定外残業: 1日8時間を超えた部分です。割増賃金の対象になるのはこちらです。
... A31: 配布元: 副業ポートフォリオ https://satoru-log.jp
