Workbook

Sheet 入力する
A1: 顧客名 | B1: 会社・団体名 | C1: 種別 | D1: 連絡先 | E1: 担当者 | F1: 最終連絡日 | G1: 次回連絡日 | H1: 残日数 | I1: 状態 | J1: 優先度 | K1: 対応状況 | L1: 想定金額 | M1: メモ
H2: =IF(ISNUMBER(G2),G2-TODAY(),"") | I2: =IF(ISNUMBER(G2),IF(G2<TODAY(),"期限超過",IF(G2=TODAY(),"本日",IF(G2<=TODAY()+7,"7日以内","予定"))),"")
H3: =IF(ISNUMBER(G3),G3-TODAY(),"") | I3: =IF(ISNUMBER(G3),IF(G3<TODAY(),"期限超過",IF(G3=TODAY(),"本日",IF(G3<=TODAY()+7,"7日以内","予定"))),"")
H4: =IF(ISNUMBER(G4),G4-TODAY(),"") | I4: =IF(ISNUMBER(G4),IF(G4<TODAY(),"期限超過",IF(G4=TODAY(),"本日",IF(G4<=TODAY()+7,"7日以内","予定"))),"")
H5: =IF(ISNUMBER(G5),G5-TODAY(),"") | I5: =IF(ISNUMBER(G5),IF(G5<TODAY(),"期限超過",IF(G5=TODAY(),"本日",IF(G5<=TODAY()+7,"7日以内","予定"))),"")
H6: =IF(ISNUMBER(G6),G6-TODAY(),"") | I6: =IF(ISNUMBER(G6),IF(G6<TODAY(),"期限超過",IF(G6=TODAY(),"本日",IF(G6<=TODAY()+7,"7日以内","予定"))),"")
H7: =IF(ISNUMBER(G7),G7-TODAY(),"") | I7: =IF(ISNUMBER(G7),IF(G7<TODAY(),"期限超過",IF(G7=TODAY(),"本日",IF(G7<=TODAY()+7,"7日以内","予定"))),"")
H8: =IF(ISNUMBER(G8),G8-TODAY(),"") | I8: =IF(ISNUMBER(G8),IF(G8<TODAY(),"期限超過",IF(G8=TODAY(),"本日",IF(G8<=TODAY()+7,"7日以内","予定"))),"")
H9: =IF(ISNUMBER(G9),G9-TODAY(),"") | I9: =IF(ISNUMBER(G9),IF(G9<TODAY(),"期限超過",IF(G9=TODAY(),"本日",IF(G9<=TODAY()+7,"7日以内","予定"))),"")
H10: =IF(ISNUMBER(G10),G10-TODAY(),"") | I10: =IF(ISNUMBER(G10),IF(G10<TODAY(),"期限超過",IF(G10=TODAY(),"本日",IF(G10<=TODAY()+7,"7日以内","予定"))),"")
H11: =IF(ISNUMBER(G11),G11-TODAY(),"") | I11: =IF(ISNUMBER(G11),IF(G11<TODAY(),"期限超過",IF(G11=TODAY(),"本日",IF(G11<=TODAY()+7,"7日以内","予定"))),"")
H12: =IF(ISNUMBER(G12),G12-TODAY(),"") | I12: =IF(ISNUMBER(G12),IF(G12<TODAY(),"期限超過",IF(G12=TODAY(),"本日",IF(G12<=TODAY()+7,"7日以内","予定"))),"")
H13: =IF(ISNUMBER(G13),G13-TODAY(),"") | I13: =IF(ISNUMBER(G13),IF(G13<TODAY(),"期限超過",IF(G13=TODAY(),"本日",IF(G13<=TODAY()+7,"7日以内","予定"))),"")
... H201: =IF(ISNUMBER(G201),G201-TODAY(),"") | I201: =IF(ISNUMBER(G201),IF(G201<TODAY(),"期限超過",IF(G201=TODAY(),"本日",IF(G201<=TODAY()+7,"7日以内","予定"))),"")

Sheet 集計を見る
A1: 顧客リスト
A2: 「入力する」シートの内容から自動で集計しています。数字は入力するだけで更新されます。
A4: ① 全体のようす | D4: ② 種別ごとの内訳
A5: 登録件数 | B5: =COUNTA('入力する'!$A$2:$A$201) | D5: 種別 | E5: 件数 | F5: 構成比 | G5: 想定金額 | H5: 金額順位
A6: 期限を過ぎている件数 | B6: =COUNTIF('入力する'!$I$2:$I$201,"期限超過") | D6: 新規 | E6: =COUNTIF('入力する'!$C$2:$C$201,$D6) | F6: =IF($B$5=0,"",E6/$B$5) | G6: =SUMIF('入力する'!$C$2:$C$201,$D6,'入力する'!$L$2:$L$201) | H6: =IF(G6=0,"",RANK(G6,$G$6:$G$9))
A7: 今日が連絡日 | B7: =COUNTIF('入力する'!$I$2:$I$201,"本日") | D7: 既存 | E7: =COUNTIF('入力する'!$C$2:$C$201,$D7) | F7: =IF($B$5=0,"",E7/$B$5) | G7: =SUMIF('入力する'!$C$2:$C$201,$D7,'入力する'!$L$2:$L$201) | H7: =IF(G7=0,"",RANK(G7,$G$6:$G$9))
A8: 7日以内に連絡 | B8: =COUNTIF('入力する'!$I$2:$I$201,"7日以内") | D8: 紹介 | E8: =COUNTIF('入力する'!$C$2:$C$201,$D8) | F8: =IF($B$5=0,"",E8/$B$5) | G8: =SUMIF('入力する'!$C$2:$C$201,$D8,'入力する'!$L$2:$L$201) | H8: =IF(G8=0,"",RANK(G8,$G$6:$G$9))
A9: 要対応（未着手・対応中） | B9: =COUNTIF('入力する'!$K$2:$K$201,"未着手")+COUNTIF('入力する'!$K$2:$K$201,"対応中") | D9: 休眠 | E9: =COUNTIF('入力する'!$C$2:$C$201,$D9) | F9: =IF($B$5=0,"",E9/$B$5) | G9: =SUMIF('入力する'!$C$2:$C$201,$D9,'入力する'!$L$2:$L$201) | H9: =IF(G9=0,"",RANK(G9,$G$6:$G$9))
A10: 想定金額の合計 | B10: =SUM('入力する'!$L$2:$L$201)
A11: 完了の割合 | B11: =IF($B$5=0,"",COUNTIF('入力する'!$K$2:$K$201,"完了")/$B$5)
A13: ③ 対応状況の内訳 | E13: ④ 優先度ごとの件数
A14: 対応状況 | B14: 件数 | C14: 構成比 | E14: 優先度 | F14: 件数 | G14: 構成比
A15: 未着手 | B15: =COUNTIF('入力する'!$K$2:$K$201,$A15) | C15: =IF($B$5=0,"",B15/$B$5) | E15: 高 | F15: =COUNTIF('入力する'!$J$2:$J$201,$E15) | G15: =IF($B$5=0,"",F15/$B$5)
A16: 対応中 | B16: =COUNTIF('入力する'!$K$2:$K$201,$A16) | C16: =IF($B$5=0,"",B16/$B$5) | E16: 中 | F16: =COUNTIF('入力する'!$J$2:$J$201,$E16) | G16: =IF($B$5=0,"",F16/$B$5)
A17: 完了 | B17: =COUNTIF('入力する'!$K$2:$K$201,$A17) | C17: =IF($B$5=0,"",B17/$B$5) | E17: 低 | F17: =COUNTIF('入力する'!$J$2:$J$201,$E17) | G17: =IF($B$5=0,"",F17/$B$5)
A18: 保留 | B18: =COUNTIF('入力する'!$K$2:$K$201,$A18) | C18: =IF($B$5=0,"",B18/$B$5)
A20: ⑤ 次回連絡日の月ごとの件数（今月から6か月）
A21: 月 | B21: 連絡予定の件数 | C21: 想定金額
A22: =DATE(YEAR(TODAY()),MONTH(TODAY()),1) | B22: =COUNTIFS('入力する'!$G$2:$G$201,">="&$A22,'入力する'!$G$2:$G$201,"<"&DATE(YEAR($A22),MONTH($A22)+1,1)) | C22: =SUMIFS('入力する'!$L$2:$L$201,'入力する'!$G$2:$G$201,">="&$A22,'入力する'!$G$2:$G$201,"<"&DATE(YEAR($A22),MONTH($A22)+1,1))
A23: =DATE(YEAR(A22),MONTH(A22)+1,1) | B23: =COUNTIFS('入力する'!$G$2:$G$201,">="&$A23,'入力する'!$G$2:$G$201,"<"&DATE(YEAR($A23),MONTH($A23)+1,1)) | C23: =SUMIFS('入力する'!$L$2:$L$201,'入力する'!$G$2:$G$201,">="&$A23,'入力する'!$G$2:$G$201,"<"&DATE(YEAR($A23),MONTH($A23)+1,1))
A24: =DATE(YEAR(A23),MONTH(A23)+1,1) | B24: =COUNTIFS('入力する'!$G$2:$G$201,">="&$A24,'入力する'!$G$2:$G$201,"<"&DATE(YEAR($A24),MONTH($A24)+1,1)) | C24: =SUMIFS('入力する'!$L$2:$L$201,'入力する'!$G$2:$G$201,">="&$A24,'入力する'!$G$2:$G$201,"<"&DATE(YEAR($A24),MONTH($A24)+1,1))
A25: =DATE(YEAR(A24),MONTH(A24)+1,1) | B25: =COUNTIFS('入力する'!$G$2:$G$201,">="&$A25,'入力する'!$G$2:$G$201,"<"&DATE(YEAR($A25),MONTH($A25)+1,1)) | C25: =SUMIFS('入力する'!$L$2:$L$201,'入力する'!$G$2:$G$201,">="&$A25,'入力する'!$G$2:$G$201,"<"&DATE(YEAR($A25),MONTH($A25)+1,1))
A26: =DATE(YEAR(A25),MONTH(A25)+1,1) | B26: =COUNTIFS('入力する'!$G$2:$G$201,">="&$A26,'入力する'!$G$2:$G$201,"<"&DATE(YEAR($A26),MONTH($A26)+1,1)) | C26: =SUMIFS('入力する'!$L$2:$L$201,'入力する'!$G$2:$G$201,">="&$A26,'入力する'!$G$2:$G$201,"<"&DATE(YEAR($A26),MONTH($A26)+1,1))
A27: =DATE(YEAR(A26),MONTH(A26)+1,1) | B27: =COUNTIFS('入力する'!$G$2:$G$201,">="&$A27,'入力する'!$G$2:$G$201,"<"&DATE(YEAR($A27),MONTH($A27)+1,1)) | C27: =SUMIFS('入力する'!$L$2:$L$201,'入力する'!$G$2:$G$201,">="&$A27,'入力する'!$G$2:$G$201,"<"&DATE(YEAR($A27),MONTH($A27)+1,1))
A29: ※ 「期限を過ぎている件数」が0のままなら、連絡もれはありません。
A31: このテンプレートは自由に使ってかまいません。改変・再配布も可です。
A32: 配布元: 副業ポートフォリオ https://satoru-log.jp

Sheet 使い方と注意
A1: 顧客リスト — 使い方と注意
A2: 次回連絡日を入れて並べ替えるだけで、次に連絡すべき相手が一番上に来る一覧です。
A4: 使い方（3ステップ）
A5: 1. 「入力する」シートの2行目から、1行に1件ずつ顧客を入れます。
A6: A列に顧客名、B列に会社・団体名、C列に種別（新規・既存・紹介・休眠）、D列に連絡先、E列に自分側の担当者を入れます。
A7: 2. F列に最後に連絡した日、G列に次に連絡する予定の日を「2026/9/1」の形で入れます。
A8: J列で優先度（高・中・低）、K列で対応状況（未着手・対応中・完了・保留）を選び、L列に想定金額、M列にメモを入れます。
A9: 3. G列（次回連絡日）のどこかのセルを選び、[データ]→[昇順で並べ替え]を押します。日付が近い順に並びます。
A11: 自動で計算される場所
A12: H列「残日数」… 次回連絡日まであと何日かを出します。マイナスなら過ぎています。
A13: I列「状態」… 期限超過・本日・7日以内・予定の4つに自動で分かれます。
A14: 「集計を見る」シート … 件数・構成比・想定金額・月ごとの予定件数と、グラフ2つが自動で出ます。
... A30: 配布元: 副業ポートフォリオ https://satoru-log.jp
