Workbook

Sheet 入力する
A1: 書類の種類 | B1: 発注書
A2: 書類番号
A3: 発行日
A4: 件名
A5: 発注者（自社）名
A6: 発注者 住所
A7: 発注者 担当者・連絡先
A8: 発注者 インボイス登録番号 | D8: =IF(B8="","未入力です",IF(AND(LEFT(B8,1)="T",LEN(B8)=14,ISNUMBER(VALUE(MID(B8,2,13)))),"OK（T＋数字13桁）","形式を確認（T＋数字13桁）"))
A9: 受注者（相手先）名
A10: 受注者 住所
A11: 受注者 担当者
A12: 受注者 インボイス登録番号 | D12: =IF(B12="","未入力です",IF(AND(LEFT(B12,1)="T",LEN(B12)=14,ISNUMBER(VALUE(MID(B12,2,13)))),"OK（T＋数字13桁）","形式を確認（T＋数字13桁）"))
A13: 納品場所
A14: 納期（全体）
A15: 支払条件 | B15: 月末締め翌月末払い
A16: 支払期日
A17: 源泉徴収の対象 | B17: しない
A18: 値引き（税抜・円） | B18: 0
A19: 備考
A21: 明細（薄い黄色のセルに入力すると、金額は自動で出ます）
A22: No. | B22: 品目・内容 | C22: 数量 | D22: 単位 | E22: 単価 | F22: 税区分 | G22: 納品予定日 | H22: 金額（自動）
A23: 1 | H23: =C23*E23
A24: 2 | H24: =C24*E24
A25: 3 | H25: =C25*E25
A26: 4 | H26: =C26*E26
A27: 5 | H27: =C27*E27
A28: 6 | H28: =C28*E28
A29: 7 | H29: =C29*E29
A30: 8 | H30: =C30*E30
A31: 9 | H31: =C31*E31
A32: 10 | H32: =C32*E32
A33: 11 | H33: =C33*E33
A34: 12 | H34: =C34*E34
... A42: 20 | H42: =C42*E42
A44: 黄色のセル＝入力欄 ／ 薄い青のセル＝自動計算（編集しない）

Sheet 集計を見る
A1: 発注書・注文請書（消費税・源泉徴収まで自動計算）
A3: 金額サマリー（入力するだけで自動）
A4: 明細の件数（件） | B4: =COUNTA(入力する!$B$23:$B$42)
A5: 小計（税抜） | B5: =SUM(入力する!$H$23:$H$42)
A6: 値引き（税抜） | B6: =入力する!B18
A7: 値引き後の小計（税抜） | B7: =B5-B6
A8: うち 10%対象（税抜） | B8: =IF($B$5=0,0,ROUND(SUMIF(入力する!$F$23:$F$42,"10%（標準）",入力する!$H$23:$H$42)*$B$7/$B$5,0))
A9: うち 8%対象・軽減（税抜） | B9: =IF($B$5=0,0,ROUND(SUMIF(入力する!$F$23:$F$42,"8%（軽減）",入力する!$H$23:$H$42)*$B$7/$B$5,0))
A10: 消費税（10%分） | B10: =ROUND(B8*0.1,0)
A11: 消費税（8%分） | B11: =ROUND(B9*0.08,0)
A12: 消費税 合計 | B12: =B10+B11
A13: 合計（税込） | B13: =B7+B12
A14: 源泉徴収税（10.21%） | B14: =IF(入力する!$B$17<>"する",0,IF(B7<=1000000,ROUNDDOWN(B7*0.1021,0),ROUNDDOWN(1000000*0.1021+(B7-1000000)*0.2042,0)))
A15: お支払金額（税込−源泉） | B15: =B13-B14
A17: 書類チェック（空欄と形式の確認）
A18: 書類番号 | B18: =IF(入力する!B2="","未入力です","OK")
A19: 発行日 | B19: =IF(入力する!B3="","未入力です","OK")
A20: 受注者（相手先）名 | B20: =IF(入力する!B9="","未入力です","OK")
A21: 納期（全体） | B21: =IF(入力する!B14="","未入力です","OK")
A22: 支払期日 | B22: =IF(入力する!B16="","未入力です","OK")
A23: 受注者のインボイス登録番号 | B23: =IF(入力する!B12="","未入力です",IF(AND(LEFT(入力する!B12,1)="T",LEN(入力する!B12)=14,ISNUMBER(VALUE(MID(入力する!B12,2,13)))),"OK（T＋数字13桁）","形式を確認（T＋数字13桁）"))
A24: 明細の入力 | B24: =IF($B$4=0,"明細が未入力です","OK")
A25: 税区分の設定 | B25: =IF(ABS($B$8+$B$9-$B$7)<=1,"OK","税区分が空の行があります")
A27: 税区分べつの内訳
A28: 区分 | B28: 件数 | C28: 金額（税抜） | D28: 構成比
A29: 10%（標準） | B29: =COUNTIF(入力する!$F$23:$F$42,"10%（標準）") | C29: =SUMIF(入力する!$F$23:$F$42,"10%（標準）",入力する!$H$23:$H$42) | D29: =IF($B$5=0,0,C29/$B$5)
A30: 8%（軽減） | B30: =COUNTIF(入力する!$F$23:$F$42,"8%（軽減）") | C30: =SUMIF(入力する!$F$23:$F$42,"8%（軽減）",入力する!$H$23:$H$42) | D30: =IF($B$5=0,0,C30/$B$5)
A32: 収入印紙のめやす（注文請書のとき）
A33: 記載金額（税抜） | B33: =B7
A34: 印紙税額のめやす（円） | B34: =IF(入力する!$B$1<>"注文請書","発注書は課税文書ではありません",IF(B33<10000,"非課税",IF(B33<=1000000,200,IF(B33<=2000000,400,IF(B33<=3000000,1000,IF(B33<=5000000,2000,IF(B33<=10000000,10000,IF(B33<=50000000,20000,"国税庁の一覧表で確認"))))))))
A35: ※請負契約（第2号文書）の本則税率をもとにした目安です。最終確認は国税庁の印紙税額一覧表でお願いします。
A37: 品目べつの内訳（構成比・順位つき）
A38: 品目・内容 | B38: 納品予定月 | C38: 金額（税抜） | D38: 構成比 | E38: 順位
A39: =IF(入力する!B23="","",入力する!B23) | B39: =IF(入力する!G23="","",TEXT(入力する!G23,"yyyy年m月")) | C39: =入力する!H23 | D39: =IF($B$5=0,0,C39/$B$5) | E39: =IF(C39=0,"",RANK(C39,$C$39:$C$58))
A40: =IF(入力する!B24="","",入力する!B24) | B40: =IF(入力する!G24="","",TEXT(入力する!G24,"yyyy年m月")) | C40: =入力する!H24 | D40: =IF($B$5=0,0,C40/$B$5) | E40: =IF(C40=0,"",RANK(C40,$C$39:$C$58))
A41: =IF(入力する!B25="","",入力する!B25) | B41: =IF(入力する!G25="","",TEXT(入力する!G25,"yyyy年m月")) | C41: =入力する!H25 | D41: =IF($B$5=0,0,C41/$B$5) | E41: =IF(C41=0,"",RANK(C41,$C$39:$C$58))
A42: =IF(入力する!B26="","",入力する!B26) | B42: =IF(入力する!G26="","",TEXT(入力する!G26,"yyyy年m月")) | C42: =入力する!H26 | D42: =IF($B$5=0,0,C42/$B$5) | E42: =IF(C42=0,"",RANK(C42,$C$39:$C$58))
A43: =IF(入力する!B27="","",入力する!B27) | B43: =IF(入力する!G27="","",TEXT(入力する!G27,"yyyy年m月")) | C43: =入力する!H27 | D43: =IF($B$5=0,0,C43/$B$5) | E43: =IF(C43=0,"",RANK(C43,$C$39:$C$58))
A44: =IF(入力する!B28="","",入力する!B28) | B44: =IF(入力する!G28="","",TEXT(入力する!G28,"yyyy年m月")) | C44: =入力する!H28 | D44: =IF($B$5=0,0,C44/$B$5) | E44: =IF(C44=0,"",RANK(C44,$C$39:$C$58))
A45: =IF(入力する!B29="","",入力する!B29) | B45: =IF(入力する!G29="","",TEXT(入力する!G29,"yyyy年m月")) | C45: =入力する!H29 | D45: =IF($B$5=0,0,C45/$B$5) | E45: =IF(C45=0,"",RANK(C45,$C$39:$C$58))
...

Sheet 使い方と注意
A1: 使い方と注意
A3: 1. 「入力する」シートの薄い黄色のセルにだけ入力してください。
A4: 2. B1の「書類の種類」で発注書と注文請書を切り替えられます（同じ内容を両方に使えます）。
A5: 3. 上のフォームに書類番号・発行日・件名・発注者と受注者の情報・納期・支払条件を入れます。
A6: 4. 日付は 2026/9/12 のように入力してください（表示は自動で整います）。
A7: 5. インボイス登録番号を入れると、右側に「T＋数字13桁」かどうかの判定が出ます。
A8: 6. 明細は23行目から20行あります。品目・数量・単位・単価・税区分・納品予定日を入れると、
A9: 金額（数量×単価）が自動で計算されます。
A10: 7. 税区分はプルダウンで「10%（標準）」か「8%（軽減）」を選びます。空のままだと消費税に
A11: 反映されないので、「集計を見る」シートの書類チェックで気づけるようにしています。
A12: 8. 源泉徴収の対象を「する」にすると、税抜の金額から10.21%（100万円を超える部分は20.42%）を
A13: 差し引いた「お支払金額」が自動で出ます。
... A27: 配布元: 副業ポートフォリオ https://satoru-log.jp
