Workbook

Sheet 入力する
A1: 見積番号
A2: 発行日
A3: 有効期限
A4: 宛名（会社名）
A5: 宛名（担当者）
A6: 自社名
A7: 自社住所
A8: 自社電話・メール
A9: 消費税率（%） | B9: 10
A10: 値引き（円） | B10: 0
A11: 備考
A13: 明細（薄い黄色のセルに入力すると金額は自動計算）
A14: No. | B14: 品目 | C14: 数量 | D14: 単位 | E14: 単価 | F14: 金額（自動）
A15: 1 | B15: ← この行は記入例です。消して使ってください | C15: 1 | D15: 式 | F15: =C15*E15
A16: 2 | F16: =C16*E16
A17: 3 | F17: =C17*E17
A18: 4 | F18: =C18*E18
A19: 5 | F19: =C19*E19
A20: 6 | F20: =C20*E20
A21: 7 | F21: =C21*E21
A22: 8 | F22: =C22*E22
A23: 9 | F23: =C23*E23
A24: 10 | F24: =C24*E24
A25: 11 | F25: =C25*E25
A26: 12 | F26: =C26*E26
A27: 13 | F27: =C27*E27
... A29: 15 | F29: =C29*E29
A31: 黄色のセル＝入力欄 ／ 薄い青のセル＝自動計算（編集しない）

Sheet 集計を見る
A1: 見積書（自動計算・消費税対応）
A3: 金額サマリー
A4: 明細件数（件） | B4: =COUNTA(入力する!B15:B29)
A5: 小計（税抜） | B5: =SUM(入力する!F15:F29)
A6: 値引き | B6: =入力する!B10
A7: 値引き後小計 | B7: =B5-B6
A8: 消費税 | B8: =ROUND(B7*入力する!B9/100,0)
A9: 合計（税込） | B9: =B7+B8
A10: 値引き率 | B10: =IF(B5=0,0,B6/B5)
A12: 品目別の内訳（構成比・順位つき）
A13: 品目 | B13: 金額 | C13: 構成比 | D13: 順位
A14: =IF(入力する!B15="","",入力する!B15) | B14: =入力する!F15 | C14: =IF($B$5=0,0,B14/$B$5) | D14: =IF(B14=0,"",RANK(B14,$B$14:$B$28))
A15: =IF(入力する!B16="","",入力する!B16) | B15: =入力する!F16 | C15: =IF($B$5=0,0,B15/$B$5) | D15: =IF(B15=0,"",RANK(B15,$B$14:$B$28))
A16: =IF(入力する!B17="","",入力する!B17) | B16: =入力する!F17 | C16: =IF($B$5=0,0,B16/$B$5) | D16: =IF(B16=0,"",RANK(B16,$B$14:$B$28))
A17: =IF(入力する!B18="","",入力する!B18) | B17: =入力する!F18 | C17: =IF($B$5=0,0,B17/$B$5) | D17: =IF(B17=0,"",RANK(B17,$B$14:$B$28))
A18: =IF(入力する!B19="","",入力する!B19) | B18: =入力する!F19 | C18: =IF($B$5=0,0,B18/$B$5) | D18: =IF(B18=0,"",RANK(B18,$B$14:$B$28))
A19: =IF(入力する!B20="","",入力する!B20) | B19: =入力する!F20 | C19: =IF($B$5=0,0,B19/$B$5) | D19: =IF(B19=0,"",RANK(B19,$B$14:$B$28))
A20: =IF(入力する!B21="","",入力する!B21) | B20: =入力する!F21 | C20: =IF($B$5=0,0,B20/$B$5) | D20: =IF(B20=0,"",RANK(B20,$B$14:$B$28))
A21: =IF(入力する!B22="","",入力する!B22) | B21: =入力する!F22 | C21: =IF($B$5=0,0,B21/$B$5) | D21: =IF(B21=0,"",RANK(B21,$B$14:$B$28))
A22: =IF(入力する!B23="","",入力する!B23) | B22: =入力する!F23 | C22: =IF($B$5=0,0,B22/$B$5) | D22: =IF(B22=0,"",RANK(B22,$B$14:$B$28))
A23: =IF(入力する!B24="","",入力する!B24) | B23: =入力する!F24 | C23: =IF($B$5=0,0,B23/$B$5) | D23: =IF(B23=0,"",RANK(B23,$B$14:$B$28))
A24: =IF(入力する!B25="","",入力する!B25) | B24: =入力する!F25 | C24: =IF($B$5=0,0,B24/$B$5) | D24: =IF(B24=0,"",RANK(B24,$B$14:$B$28))
A25: =IF(入力する!B26="","",入力する!B26) | B25: =入力する!F26 | C25: =IF($B$5=0,0,B25/$B$5) | D25: =IF(B25=0,"",RANK(B25,$B$14:$B$28))
... A28: =IF(入力する!B29="","",入力する!B29) | B28: =入力する!F29 | C28: =IF($B$5=0,0,B28/$B$5) | D28: =IF(B28=0,"",RANK(B28,$B$14:$B$28))

Sheet 使い方と注意
A1: 使い方と注意
A3: 1. 「入力する」シートの薄い黄色のセルにだけ入力してください。
A4: 2. 上のフォームに見積番号・発行日・有効期限・宛名・自社情報を入力します。
A5: 3. 日付は 2026/9/1 のように入力してください（表示は自動で整います）。
A6: 4. 明細は品目・数量・単位・単価を入力すると金額が自動計算されます（最大15行）。
A7: 5. 単位はプルダウンから選べます（式・個・台・件・点・回・時間・人日・か月・セット）。
A8: 6. 消費税率（%）はプルダウンで 10 か 8 を選べます（軽減税率にも対応）。
A9: 7. 値引きがある場合は「値引き（円）」に税抜の値引き額を入力してください。
A10: 8. 「集計を見る」シートに小計・消費税・合計（税込）・値引き率・品目別の構成比と順位、
A11: グラフ2種（横棒・円）が自動で表示されます。
A12: 9. 薄い青のセルは自動計算です。数式を消さないよう注意してください。
A13: 10. 最初に入っている明細はサンプルです。上書きして使ってください。
... A16: 配布元: 副業ポートフォリオ https://satoru-log.jp
