Workbook

Sheet 入力する
A1: 手順書名 | B1: 分類 | C1: 対象部署 | D1: 担当者 | E1: 最終更新日 | F1: 更新周期(月) | G1: 状態 | H1: 次回見直し日（自動） | I1: 残り日数（自動） | J1: 見直し判定（自動） | K1: 進捗率(%)（自動）
H2: =IF(OR($E2="",$F2=""),"",DATE(YEAR($E2),MONTH($E2)+$F2,DAY($E2))) | I2: =IF($H2="","",$H2-TODAY()) | J2: =IF($G2="","",IF($G2="廃止","対象外",IF($H2="","周期を入力",IF($I2<0,"期限切れ",IF($I2<='集計を見る'!$B$6,"要見直し","OK"))))) | K2: =IF($G2="","",IF($G2="公開中",100,IF($G2="レビュー中",80,IF($G2="作成中",40,IF($G2="未着手",0,"")))))
H3: =IF(OR($E3="",$F3=""),"",DATE(YEAR($E3),MONTH($E3)+$F3,DAY($E3))) | I3: =IF($H3="","",$H3-TODAY()) | J3: =IF($G3="","",IF($G3="廃止","対象外",IF($H3="","周期を入力",IF($I3<0,"期限切れ",IF($I3<='集計を見る'!$B$6,"要見直し","OK"))))) | K3: =IF($G3="","",IF($G3="公開中",100,IF($G3="レビュー中",80,IF($G3="作成中",40,IF($G3="未着手",0,"")))))
H4: =IF(OR($E4="",$F4=""),"",DATE(YEAR($E4),MONTH($E4)+$F4,DAY($E4))) | I4: =IF($H4="","",$H4-TODAY()) | J4: =IF($G4="","",IF($G4="廃止","対象外",IF($H4="","周期を入力",IF($I4<0,"期限切れ",IF($I4<='集計を見る'!$B$6,"要見直し","OK"))))) | K4: =IF($G4="","",IF($G4="公開中",100,IF($G4="レビュー中",80,IF($G4="作成中",40,IF($G4="未着手",0,"")))))
H5: =IF(OR($E5="",$F5=""),"",DATE(YEAR($E5),MONTH($E5)+$F5,DAY($E5))) | I5: =IF($H5="","",$H5-TODAY()) | J5: =IF($G5="","",IF($G5="廃止","対象外",IF($H5="","周期を入力",IF($I5<0,"期限切れ",IF($I5<='集計を見る'!$B$6,"要見直し","OK"))))) | K5: =IF($G5="","",IF($G5="公開中",100,IF($G5="レビュー中",80,IF($G5="作成中",40,IF($G5="未着手",0,"")))))
H6: =IF(OR($E6="",$F6=""),"",DATE(YEAR($E6),MONTH($E6)+$F6,DAY($E6))) | I6: =IF($H6="","",$H6-TODAY()) | J6: =IF($G6="","",IF($G6="廃止","対象外",IF($H6="","周期を入力",IF($I6<0,"期限切れ",IF($I6<='集計を見る'!$B$6,"要見直し","OK"))))) | K6: =IF($G6="","",IF($G6="公開中",100,IF($G6="レビュー中",80,IF($G6="作成中",40,IF($G6="未着手",0,"")))))
H7: =IF(OR($E7="",$F7=""),"",DATE(YEAR($E7),MONTH($E7)+$F7,DAY($E7))) | I7: =IF($H7="","",$H7-TODAY()) | J7: =IF($G7="","",IF($G7="廃止","対象外",IF($H7="","周期を入力",IF($I7<0,"期限切れ",IF($I7<='集計を見る'!$B$6,"要見直し","OK"))))) | K7: =IF($G7="","",IF($G7="公開中",100,IF($G7="レビュー中",80,IF($G7="作成中",40,IF($G7="未着手",0,"")))))
H8: =IF(OR($E8="",$F8=""),"",DATE(YEAR($E8),MONTH($E8)+$F8,DAY($E8))) | I8: =IF($H8="","",$H8-TODAY()) | J8: =IF($G8="","",IF($G8="廃止","対象外",IF($H8="","周期を入力",IF($I8<0,"期限切れ",IF($I8<='集計を見る'!$B$6,"要見直し","OK"))))) | K8: =IF($G8="","",IF($G8="公開中",100,IF($G8="レビュー中",80,IF($G8="作成中",40,IF($G8="未着手",0,"")))))
H9: =IF(OR($E9="",$F9=""),"",DATE(YEAR($E9),MONTH($E9)+$F9,DAY($E9))) | I9: =IF($H9="","",$H9-TODAY()) | J9: =IF($G9="","",IF($G9="廃止","対象外",IF($H9="","周期を入力",IF($I9<0,"期限切れ",IF($I9<='集計を見る'!$B$6,"要見直し","OK"))))) | K9: =IF($G9="","",IF($G9="公開中",100,IF($G9="レビュー中",80,IF($G9="作成中",40,IF($G9="未着手",0,"")))))
H10: =IF(OR($E10="",$F10=""),"",DATE(YEAR($E10),MONTH($E10)+$F10,DAY($E10))) | I10: =IF($H10="","",$H10-TODAY()) | J10: =IF($G10="","",IF($G10="廃止","対象外",IF($H10="","周期を入力",IF($I10<0,"期限切れ",IF($I10<='集計を見る'!$B$6,"要見直し","OK"))))) | K10: =IF($G10="","",IF($G10="公開中",100,IF($G10="レビュー中",80,IF($G10="作成中",40,IF($G10="未着手",0,"")))))
H11: =IF(OR($E11="",$F11=""),"",DATE(YEAR($E11),MONTH($E11)+$F11,DAY($E11))) | I11: =IF($H11="","",$H11-TODAY()) | J11: =IF($G11="","",IF($G11="廃止","対象外",IF($H11="","周期を入力",IF($I11<0,"期限切れ",IF($I11<='集計を見る'!$B$6,"要見直し","OK"))))) | K11: =IF($G11="","",IF($G11="公開中",100,IF($G11="レビュー中",80,IF($G11="作成中",40,IF($G11="未着手",0,"")))))
H12: =IF(OR($E12="",$F12=""),"",DATE(YEAR($E12),MONTH($E12)+$F12,DAY($E12))) | I12: =IF($H12="","",$H12-TODAY()) | J12: =IF($G12="","",IF($G12="廃止","対象外",IF($H12="","周期を入力",IF($I12<0,"期限切れ",IF($I12<='集計を見る'!$B$6,"要見直し","OK"))))) | K12: =IF($G12="","",IF($G12="公開中",100,IF($G12="レビュー中",80,IF($G12="作成中",40,IF($G12="未着手",0,"")))))
H13: =IF(OR($E13="",$F13=""),"",DATE(YEAR($E13),MONTH($E13)+$F13,DAY($E13))) | I13: =IF($H13="","",$H13-TODAY()) | J13: =IF($G13="","",IF($G13="廃止","対象外",IF($H13="","周期を入力",IF($I13<0,"期限切れ",IF($I13<='集計を見る'!$B$6,"要見直し","OK"))))) | K13: =IF($G13="","",IF($G13="公開中",100,IF($G13="レビュー中",80,IF($G13="作成中",40,IF($G13="未着手",0,"")))))
... H201: =IF(OR($E201="",$F201=""),"",DATE(YEAR($E201),MONTH($E201)+$F201,DAY($E201))) | I201: =IF($H201="","",$H201-TODAY()) | J201: =IF($G201="","",IF($G201="廃止","対象外",IF($H201="","周期を入力",IF($I201<0,"期限切れ",IF($I201<='集計を見る'!$B$6,"要見直し","OK"))))) | K201: =IF($G201="","",IF($G201="公開中",100,IF($G201="レビュー中",80,IF($G201="作成中",40,IF($G201="未着手",0,"")))))

Sheet 集計を見る
A1: 手順書・マニュアル台帳
A2: 更新日管理つき ｜ 配布元: 副業ポートフォリオ https://satoru-log.jp
A4: この台帳の設定（うすい黄色のセルだけ手で入力します）
A5: 台帳の名前 | C5: 例: 2026年度 業務手順書台帳
A6: 見直しアラート日数 | B6: 30 | C6: 次回見直し日まで何日を切ったら「要見直し」にするか
A7: 目標整備率（%） | B7: 80 | C7: 公開中の手順書をどれだけの割合にしたいか
A9: 全体サマリー（入力するだけで自動で出ます）
A10: 登録件数 | B10: =COUNTA(入力する!$A$2:$A$201) | C10: A列に手順書名が入っている行の数
A11: 公開中の件数 | B11: =COUNTIF(入力する!$G$2:$G$201,"公開中")
A12: 期限切れの件数 | B12: =COUNTIF(入力する!$J$2:$J$201,"期限切れ") | C12: 次回見直し日を過ぎたもの
A13: 要見直しの件数 | B13: =COUNTIF(入力する!$J$2:$J$201,"要見直し") | C13: アラート日数の中に入ったもの
A14: 平均進捗率（%） | B14: =IFERROR(ROUND(AVERAGE(入力する!$K$2:$K$201),1),0)
A15: 整備率（公開中の割合・%） | B15: =IFERROR(ROUND($B$11/$B$10*100,1),0)
A16: 目標整備率との差（pt） | B16: =ROUND($B$15-$B$7,1) | C16: プラスなら目標より進んでいます
A17: 最終更新から180日を超えた件数 | B17: =COUNTIF(入力する!$E$2:$E$201,"<"&TODAY()-180)
A19: 分類別の件数と構成比
A20: 分類 | B20: 件数 | C20: 構成比(%) | D20: 順位 | E20: 期限切れ
A21: 業務手順 | B21: =COUNTIF(入力する!$B$2:$B$201,$A21) | C21: =IFERROR(ROUND($B21/SUM($B$21:$B$26)*100,1),0) | D21: =IF($B21=0,"",RANK($B21,$B$21:$B$26)) | E21: =COUNTIFS(入力する!$B$2:$B$201,$A21,入力する!$J$2:$J$201,"期限切れ")
A22: システム操作 | B22: =COUNTIF(入力する!$B$2:$B$201,$A22) | C22: =IFERROR(ROUND($B22/SUM($B$21:$B$26)*100,1),0) | D22: =IF($B22=0,"",RANK($B22,$B$21:$B$26)) | E22: =COUNTIFS(入力する!$B$2:$B$201,$A22,入力する!$J$2:$J$201,"期限切れ")
A23: 接客・販売 | B23: =COUNTIF(入力する!$B$2:$B$201,$A23) | C23: =IFERROR(ROUND($B23/SUM($B$21:$B$26)*100,1),0) | D23: =IF($B23=0,"",RANK($B23,$B$21:$B$26)) | E23: =COUNTIFS(入力する!$B$2:$B$201,$A23,入力する!$J$2:$J$201,"期限切れ")
A24: 安全・衛生 | B24: =COUNTIF(入力する!$B$2:$B$201,$A24) | C24: =IFERROR(ROUND($B24/SUM($B$21:$B$26)*100,1),0) | D24: =IF($B24=0,"",RANK($B24,$B$21:$B$26)) | E24: =COUNTIFS(入力する!$B$2:$B$201,$A24,入力する!$J$2:$J$201,"期限切れ")
A25: 経理・総務 | B25: =COUNTIF(入力する!$B$2:$B$201,$A25) | C25: =IFERROR(ROUND($B25/SUM($B$21:$B$26)*100,1),0) | D25: =IF($B25=0,"",RANK($B25,$B$21:$B$26)) | E25: =COUNTIFS(入力する!$B$2:$B$201,$A25,入力する!$J$2:$J$201,"期限切れ")
A26: その他 | B26: =COUNTIF(入力する!$B$2:$B$201,$A26) | C26: =IFERROR(ROUND($B26/SUM($B$21:$B$26)*100,1),0) | D26: =IF($B26=0,"",RANK($B26,$B$21:$B$26)) | E26: =COUNTIFS(入力する!$B$2:$B$201,$A26,入力する!$J$2:$J$201,"期限切れ")
A28: 対象部署別の整備状況
A29: 対象部署 | B29: 件数 | C29: 公開中 | D29: 整備率(%) | E29: 平均進捗(%)
A30: 全社 | B30: =COUNTIF(入力する!$C$2:$C$201,$A30) | C30: =COUNTIFS(入力する!$C$2:$C$201,$A30,入力する!$G$2:$G$201,"公開中") | D30: =IFERROR(ROUND($C30/$B30*100,1),0) | E30: =IFERROR(ROUND(AVERAGEIF(入力する!$C$2:$C$201,$A30,入力する!$K$2:$K$201),1),0)
A31: 営業部 | B31: =COUNTIF(入力する!$C$2:$C$201,$A31) | C31: =COUNTIFS(入力する!$C$2:$C$201,$A31,入力する!$G$2:$G$201,"公開中") | D31: =IFERROR(ROUND($C31/$B31*100,1),0) | E31: =IFERROR(ROUND(AVERAGEIF(入力する!$C$2:$C$201,$A31,入力する!$K$2:$K$201),1),0)
A32: 製造部 | B32: =COUNTIF(入力する!$C$2:$C$201,$A32) | C32: =COUNTIFS(入力する!$C$2:$C$201,$A32,入力する!$G$2:$G$201,"公開中") | D32: =IFERROR(ROUND($C32/$B32*100,1),0) | E32: =IFERROR(ROUND(AVERAGEIF(入力する!$C$2:$C$201,$A32,入力する!$K$2:$K$201),1),0)
A33: 店舗 | B33: =COUNTIF(入力する!$C$2:$C$201,$A33) | C33: =COUNTIFS(入力する!$C$2:$C$201,$A33,入力する!$G$2:$G$201,"公開中") | D33: =IFERROR(ROUND($C33/$B33*100,1),0) | E33: =IFERROR(ROUND(AVERAGEIF(入力する!$C$2:$C$201,$A33,入力する!$K$2:$K$201),1),0)
A34: 管理部 | B34: =COUNTIF(入力する!$C$2:$C$201,$A34) | C34: =COUNTIFS(入力する!$C$2:$C$201,$A34,入力する!$G$2:$G$201,"公開中") | D34: =IFERROR(ROUND($C34/$B34*100,1),0) | E34: =IFERROR(ROUND(AVERAGEIF(入力する!$C$2:$C$201,$A34,入力する!$K$2:$K$201),1),0)
A36: 状態別の内訳
A37: 状態 | B37: 件数 | C37: 構成比(%)
A38: 未着手 | B38: =COUNTIF(入力する!$G$2:$G$201,$A38) | C38: =IFERROR(ROUND($B38/SUM($B$38:$B$42)*100,1),0)
A39: 作成中 | B39: =COUNTIF(入力する!$G$2:$G$201,$A39) | C39: =IFERROR(ROUND($B39/SUM($B$38:$B$42)*100,1),0)
A40: レビュー中 | B40: =COUNTIF(入力する!$G$2:$G$201,$A40) | C40: =IFERROR(ROUND($B40/SUM($B$38:$B$42)*100,1),0)
A41: 公開中 | B41: =COUNTIF(入力する!$G$2:$G$201,$A41) | C41: =IFERROR(ROUND($B41/SUM($B$38:$B$42)*100,1),0)
A42: 廃止 | B42: =COUNTIF(入力する!$G$2:$G$201,$A42) | C42: =IFERROR(ROUND($B42/SUM($B$38:$B$42)*100,1),0)
A44: 最終更新からの経過日数
A45: 区分 | B45: 件数 | C45: 構成比(%)
A46: 90日以内 | B46: =COUNTIF(入力する!$E$2:$E$201,">="&TODAY()-90) | C46: =IFERROR(ROUND($B46/SUM($B$46:$B$49)*100,1),0)
...

Sheet 使い方と注意
A1: 手順書・マニュアル台帳 ─ 使い方と注意
B2: 手順書やマニュアルを1行ずつ登録すると、次に見直す日・残り日数・見直しの判定・進捗率が自動で出ます。
A3: 使い方（3ステップ）
B4: 1. 「入力する」シートのA列に手順書名、B列で分類、C列で対象部署、D列に担当者を入れます。B列とC列はプルダウンから選べます。
B5: 2. E列に最終更新日（例: 2026/6/25）、F列に更新周期の月数（3・6・12・24から選択）、G列に状態（未着手／作成中／レビュー中／公開中／廃止）を入れます。
B6: 3. 「集計を見る」シートを開くと、件数・構成比・順位・グラフが自動で出ます。B5〜B7の設定だけ、必要に応じて書き換えてください。
A7: 自動で入る列（うすい青の見出しの4列）
B8: H列 次回見直し日 … 最終更新日に更新周期の月数を足した日付です。
B9: I列 残り日数 … 次回見直し日から今日を引いた日数です。マイナスなら期限を過ぎています。
B10: J列 見直し判定 … 「期限切れ」「要見直し」「OK」「対象外（廃止）」の4つで出ます。期限切れの行は赤、要見直しの行はオレンジに自動で色が付きます。
B11: K列 進捗率(%) … 状態から自動で決まります（未着手0／作成中40／レビュー中80／公開中100）。
A12: 注意
B13: うすい黄色のセルだけ入力してください。青みがかった列には数式が入っているので、上書きすると自動計算が止まります。
B14: 日付は「2026/6/25」のように日付として入力してください。文字として入れると次回見直し日が出ません。
B15: 行は200行まで用意しています。足りないときは201行目までの範囲をコピーして下に貼り付け、集計シート側の数式の範囲も同じだけ広げてください。
B16: 判定は今日の日付を使うので、ファイルを開いた日によって残り日数が変わります。
A17: よくある質問
B18: Q. 使わなくなった手順書は消したほうがいい？ … A. 行を消さずにG列の状態を「廃止」にすると、判定が「対象外」になって期限切れの件数から外れます。記録は残せます。
B19: Q. 更新周期が決まっていないものは？ … A. F列を空のままにすると「周期を入力」と表示されます。迷うときは12（年1回）を入れておくと管理しやすくなります。
A20: ライセンス
B21: このテンプレートは自由に使ってかまいません。改変・再配布も可です。
B22: 配布元: 副業ポートフォリオ https://satoru-log.jp
