Workbook

Sheet 入力する
A1: 最終締切日 | B1: =TODAY()+30 | D1: ※ いちばん後ろの締切です。はじめは今日から30日後が入っています。自分の締切に書きかえてください。
A2: 1日に使える時間（h） | B2: 2 | D2: ※ このやることにあてられる1日ぶんの時間です。少なめに見ておくほど計画が崩れません。
A3: 土日も作業する | B3: いいえ | D3: ※ 「いいえ」なら土日をとばして逆算します。「はい」なら休まず毎日進める前提になります。
A4: 工程 | B4: タスク名 | C4: 担当 | D4: 予定工数（h） | E4: 進捗率（%） | F4: メモ | G4: 所要日数（自動） | H4: 着手日（自動） | I4: 期限（自動） | J4: 残り日数（自動） | K4: 残り工数（自動） | L4: 予定の進捗（自動） | M4: 進み具合（自動） | N4: 状態（自動） | O4: 月（自動） | P4: =IF('集計を見る'!$B$30="","",'集計を見る'!$B$30+0*'集計を見る'!$B$31) | Q4: =IF('集計を見る'!$B$30="","",'集計を見る'!$B$30+1*'集計を見る'!$B$31) | R4: =IF('集計を見る'!$B$30="","",'集計を見る'!$B$30+2*'集計を見る'!$B$31) | S4: =IF('集計を見る'!$B$30="","",'集計を見る'!$B$30+3*'集計を見る'!$B$31) | T4: =IF('集計を見る'!$B$30="","",'集計を見る'!$B$30+4*'集計を見る'!$B$31) | U4: =IF('集計を見る'!$B$30="","",'集計を見る'!$B$30+5*'集計を見る'!$B$31) | V4: =IF('集計を見る'!$B$30="","",'集計を見る'!$B$30+6*'集計を見る'!$B$31) | W4: =IF('集計を見る'!$B$30="","",'集計を見る'!$B$30+7*'集計を見る'!$B$31) | X4: =IF('集計を見る'!$B$30="","",'集計を見る'!$B$30+8*'集計を見る'!$B$31) | Y4: =IF('集計を見る'!$B$30="","",'集計を見る'!$B$30+9*'集計を見る'!$B$31) | Z4: =IF('集計を見る'!$B$30="","",'集計を見る'!$B$30+10*'集計を見る'!$B$31) | AA4: =IF('集計を見る'!$B$30="","",'集計を見る'!$B$30+11*'集計を見る'!$B$31)
G5: =IF(OR($B5="",$D5=""),"",MAX(1,ROUNDUP($D5/IF(OR($B$2="",$B$2<=0),1,$B$2),0))) | H5: =IF(OR($G5="",'集計を見る'!$B$10=""),"",IF($B$3="はい",'集計を見る'!$B$10+SUM($G$5:$G5)-$G5,IF(SUM($G$5:$G5)-$G5=0,'集計を見る'!$B$10,WORKDAY('集計を見る'!$B$10,SUM($G$5:$G5)-$G5)))) | I5: =IF(OR($G5="",'集計を見る'!$B$10=""),"",IF($B$3="はい",'集計を見る'!$B$10+SUM($G$5:$G5)-1,IF(SUM($G$5:$G5)-1=0,'集計を見る'!$B$10,WORKDAY('集計を見る'!$B$10,SUM($G$5:$G5)-1)))) | J5: =IF($I5="","",$I5-TODAY()) | K5: =IF($D5="","",ROUND($D5*(100-IF($E5="",0,$E5))/100,1)) | L5: =IF(OR($H5="",$I5=""),"",IF(TODAY()>=$I5,100,IF(TODAY()<$H5,0,ROUND((TODAY()-$H5+1)/($I5-$H5+1)*100,0)))) | M5: =IF(OR($L5="",$E5=""),"",$E5-$L5) | N5: =IF($B5="","",IF($D5="","入力が足りません",IF($E5>=100,"完了",IF($I5="","日程が出ません",IF($I5<TODAY(),"遅れています",IF($H5>TODAY(),"これから","いま進める")))))) | O5: =IF($I5="","",TEXT($I5,"yyyy/mm")) | P5: =IF(OR($H5="",$I5="",P$4=""),"",IF(AND($H5<=P$4+'集計を見る'!$B$31-1,$I5>=P$4),"■","")) | Q5: =IF(OR($H5="",$I5="",Q$4=""),"",IF(AND($H5<=Q$4+'集計を見る'!$B$31-1,$I5>=Q$4),"■","")) | R5: =IF(OR($H5="",$I5="",R$4=""),"",IF(AND($H5<=R$4+'集計を見る'!$B$31-1,$I5>=R$4),"■","")) | S5: =IF(OR($H5="",$I5="",S$4=""),"",IF(AND($H5<=S$4+'集計を見る'!$B$31-1,$I5>=S$4),"■","")) | T5: =IF(OR($H5="",$I5="",T$4=""),"",IF(AND($H5<=T$4+'集計を見る'!$B$31-1,$I5>=T$4),"■","")) | U5: =IF(OR($H5="",$I5="",U$4=""),"",IF(AND($H5<=U$4+'集計を見る'!$B$31-1,$I5>=U$4),"■","")) | V5: =IF(OR($H5="",$I5="",V$4=""),"",IF(AND($H5<=V$4+'集計を見る'!$B$31-1,$I5>=V$4),"■","")) | W5: =IF(OR($H5="",$I5="",W$4=""),"",IF(AND($H5<=W$4+'集計を見る'!$B$31-1,$I5>=W$4),"■","")) | ... AA5: =IF(OR($H5="",$I5="",AA$4=""),"",IF(AND($H5<=AA$4+'集計を見る'!$B$31-1,$I5>=AA$4),"■",""))
G6: =IF(OR($B6="",$D6=""),"",MAX(1,ROUNDUP($D6/IF(OR($B$2="",$B$2<=0),1,$B$2),0))) | H6: =IF(OR($G6="",'集計を見る'!$B$10=""),"",IF($B$3="はい",'集計を見る'!$B$10+SUM($G$5:$G6)-$G6,IF(SUM($G$5:$G6)-$G6=0,'集計を見る'!$B$10,WORKDAY('集計を見る'!$B$10,SUM($G$5:$G6)-$G6)))) | I6: =IF(OR($G6="",'集計を見る'!$B$10=""),"",IF($B$3="はい",'集計を見る'!$B$10+SUM($G$5:$G6)-1,IF(SUM($G$5:$G6)-1=0,'集計を見る'!$B$10,WORKDAY('集計を見る'!$B$10,SUM($G$5:$G6)-1)))) | J6: =IF($I6="","",$I6-TODAY()) | K6: =IF($D6="","",ROUND($D6*(100-IF($E6="",0,$E6))/100,1)) | L6: =IF(OR($H6="",$I6=""),"",IF(TODAY()>=$I6,100,IF(TODAY()<$H6,0,ROUND((TODAY()-$H6+1)/($I6-$H6+1)*100,0)))) | M6: =IF(OR($L6="",$E6=""),"",$E6-$L6) | N6: =IF($B6="","",IF($D6="","入力が足りません",IF($E6>=100,"完了",IF($I6="","日程が出ません",IF($I6<TODAY(),"遅れています",IF($H6>TODAY(),"これから","いま進める")))))) | O6: =IF($I6="","",TEXT($I6,"yyyy/mm")) | P6: =IF(OR($H6="",$I6="",P$4=""),"",IF(AND($H6<=P$4+'集計を見る'!$B$31-1,$I6>=P$4),"■","")) | Q6: =IF(OR($H6="",$I6="",Q$4=""),"",IF(AND($H6<=Q$4+'集計を見る'!$B$31-1,$I6>=Q$4),"■","")) | R6: =IF(OR($H6="",$I6="",R$4=""),"",IF(AND($H6<=R$4+'集計を見る'!$B$31-1,$I6>=R$4),"■","")) | S6: =IF(OR($H6="",$I6="",S$4=""),"",IF(AND($H6<=S$4+'集計を見る'!$B$31-1,$I6>=S$4),"■","")) | T6: =IF(OR($H6="",$I6="",T$4=""),"",IF(AND($H6<=T$4+'集計を見る'!$B$31-1,$I6>=T$4),"■","")) | U6: =IF(OR($H6="",$I6="",U$4=""),"",IF(AND($H6<=U$4+'集計を見る'!$B$31-1,$I6>=U$4),"■","")) | V6: =IF(OR($H6="",$I6="",V$4=""),"",IF(AND($H6<=V$4+'集計を見る'!$B$31-1,$I6>=V$4),"■","")) | W6: =IF(OR($H6="",$I6="",W$4=""),"",IF(AND($H6<=W$4+'集計を見る'!$B$31-1,$I6>=W$4),"■","")) | ... AA6: =IF(OR($H6="",$I6="",AA$4=""),"",IF(AND($H6<=AA$4+'集計を見る'!$B$31-1,$I6>=AA$4),"■",""))
G7: =IF(OR($B7="",$D7=""),"",MAX(1,ROUNDUP($D7/IF(OR($B$2="",$B$2<=0),1,$B$2),0))) | H7: =IF(OR($G7="",'集計を見る'!$B$10=""),"",IF($B$3="はい",'集計を見る'!$B$10+SUM($G$5:$G7)-$G7,IF(SUM($G$5:$G7)-$G7=0,'集計を見る'!$B$10,WORKDAY('集計を見る'!$B$10,SUM($G$5:$G7)-$G7)))) | I7: =IF(OR($G7="",'集計を見る'!$B$10=""),"",IF($B$3="はい",'集計を見る'!$B$10+SUM($G$5:$G7)-1,IF(SUM($G$5:$G7)-1=0,'集計を見る'!$B$10,WORKDAY('集計を見る'!$B$10,SUM($G$5:$G7)-1)))) | J7: =IF($I7="","",$I7-TODAY()) | K7: =IF($D7="","",ROUND($D7*(100-IF($E7="",0,$E7))/100,1)) | L7: =IF(OR($H7="",$I7=""),"",IF(TODAY()>=$I7,100,IF(TODAY()<$H7,0,ROUND((TODAY()-$H7+1)/($I7-$H7+1)*100,0)))) | M7: =IF(OR($L7="",$E7=""),"",$E7-$L7) | N7: =IF($B7="","",IF($D7="","入力が足りません",IF($E7>=100,"完了",IF($I7="","日程が出ません",IF($I7<TODAY(),"遅れています",IF($H7>TODAY(),"これから","いま進める")))))) | O7: =IF($I7="","",TEXT($I7,"yyyy/mm")) | P7: =IF(OR($H7="",$I7="",P$4=""),"",IF(AND($H7<=P$4+'集計を見る'!$B$31-1,$I7>=P$4),"■","")) | Q7: =IF(OR($H7="",$I7="",Q$4=""),"",IF(AND($H7<=Q$4+'集計を見る'!$B$31-1,$I7>=Q$4),"■","")) | R7: =IF(OR($H7="",$I7="",R$4=""),"",IF(AND($H7<=R$4+'集計を見る'!$B$31-1,$I7>=R$4),"■","")) | S7: =IF(OR($H7="",$I7="",S$4=""),"",IF(AND($H7<=S$4+'集計を見る'!$B$31-1,$I7>=S$4),"■","")) | T7: =IF(OR($H7="",$I7="",T$4=""),"",IF(AND($H7<=T$4+'集計を見る'!$B$31-1,$I7>=T$4),"■","")) | U7: =IF(OR($H7="",$I7="",U$4=""),"",IF(AND($H7<=U$4+'集計を見る'!$B$31-1,$I7>=U$4),"■","")) | V7: =IF(OR($H7="",$I7="",V$4=""),"",IF(AND($H7<=V$4+'集計を見る'!$B$31-1,$I7>=V$4),"■","")) | W7: =IF(OR($H7="",$I7="",W$4=""),"",IF(AND($H7<=W$4+'集計を見る'!$B$31-1,$I7>=W$4),"■","")) | ... AA7: =IF(OR($H7="",$I7="",AA$4=""),"",IF(AND($H7<=AA$4+'集計を見る'!$B$31-1,$I7>=AA$4),"■",""))
G8: =IF(OR($B8="",$D8=""),"",MAX(1,ROUNDUP($D8/IF(OR($B$2="",$B$2<=0),1,$B$2),0))) | H8: =IF(OR($G8="",'集計を見る'!$B$10=""),"",IF($B$3="はい",'集計を見る'!$B$10+SUM($G$5:$G8)-$G8,IF(SUM($G$5:$G8)-$G8=0,'集計を見る'!$B$10,WORKDAY('集計を見る'!$B$10,SUM($G$5:$G8)-$G8)))) | I8: =IF(OR($G8="",'集計を見る'!$B$10=""),"",IF($B$3="はい",'集計を見る'!$B$10+SUM($G$5:$G8)-1,IF(SUM($G$5:$G8)-1=0,'集計を見る'!$B$10,WORKDAY('集計を見る'!$B$10,SUM($G$5:$G8)-1)))) | J8: =IF($I8="","",$I8-TODAY()) | K8: =IF($D8="","",ROUND($D8*(100-IF($E8="",0,$E8))/100,1)) | L8: =IF(OR($H8="",$I8=""),"",IF(TODAY()>=$I8,100,IF(TODAY()<$H8,0,ROUND((TODAY()-$H8+1)/($I8-$H8+1)*100,0)))) | M8: =IF(OR($L8="",$E8=""),"",$E8-$L8) | N8: =IF($B8="","",IF($D8="","入力が足りません",IF($E8>=100,"完了",IF($I8="","日程が出ません",IF($I8<TODAY(),"遅れています",IF($H8>TODAY(),"これから","いま進める")))))) | O8: =IF($I8="","",TEXT($I8,"yyyy/mm")) | P8: =IF(OR($H8="",$I8="",P$4=""),"",IF(AND($H8<=P$4+'集計を見る'!$B$31-1,$I8>=P$4),"■","")) | Q8: =IF(OR($H8="",$I8="",Q$4=""),"",IF(AND($H8<=Q$4+'集計を見る'!$B$31-1,$I8>=Q$4),"■","")) | R8: =IF(OR($H8="",$I8="",R$4=""),"",IF(AND($H8<=R$4+'集計を見る'!$B$31-1,$I8>=R$4),"■","")) | S8: =IF(OR($H8="",$I8="",S$4=""),"",IF(AND($H8<=S$4+'集計を見る'!$B$31-1,$I8>=S$4),"■","")) | T8: =IF(OR($H8="",$I8="",T$4=""),"",IF(AND($H8<=T$4+'集計を見る'!$B$31-1,$I8>=T$4),"■","")) | U8: =IF(OR($H8="",$I8="",U$4=""),"",IF(AND($H8<=U$4+'集計を見る'!$B$31-1,$I8>=U$4),"■","")) | V8: =IF(OR($H8="",$I8="",V$4=""),"",IF(AND($H8<=V$4+'集計を見る'!$B$31-1,$I8>=V$4),"■","")) | W8: =IF(OR($H8="",$I8="",W$4=""),"",IF(AND($H8<=W$4+'集計を見る'!$B$31-1,$I8>=W$4),"■","")) | ... AA8: =IF(OR($H8="",$I8="",AA$4=""),"",IF(AND($H8<=AA$4+'集計を見る'!$B$31-1,$I8>=AA$4),"■",""))
G9: =IF(OR($B9="",$D9=""),"",MAX(1,ROUNDUP($D9/IF(OR($B$2="",$B$2<=0),1,$B$2),0))) | H9: =IF(OR($G9="",'集計を見る'!$B$10=""),"",IF($B$3="はい",'集計を見る'!$B$10+SUM($G$5:$G9)-$G9,IF(SUM($G$5:$G9)-$G9=0,'集計を見る'!$B$10,WORKDAY('集計を見る'!$B$10,SUM($G$5:$G9)-$G9)))) | I9: =IF(OR($G9="",'集計を見る'!$B$10=""),"",IF($B$3="はい",'集計を見る'!$B$10+SUM($G$5:$G9)-1,IF(SUM($G$5:$G9)-1=0,'集計を見る'!$B$10,WORKDAY('集計を見る'!$B$10,SUM($G$5:$G9)-1)))) | J9: =IF($I9="","",$I9-TODAY()) | K9: =IF($D9="","",ROUND($D9*(100-IF($E9="",0,$E9))/100,1)) | L9: =IF(OR($H9="",$I9=""),"",IF(TODAY()>=$I9,100,IF(TODAY()<$H9,0,ROUND((TODAY()-$H9+1)/($I9-$H9+1)*100,0)))) | M9: =IF(OR($L9="",$E9=""),"",$E9-$L9) | N9: =IF($B9="","",IF($D9="","入力が足りません",IF($E9>=100,"完了",IF($I9="","日程が出ません",IF($I9<TODAY(),"遅れています",IF($H9>TODAY(),"これから","いま進める")))))) | O9: =IF($I9="","",TEXT($I9,"yyyy/mm")) | P9: =IF(OR($H9="",$I9="",P$4=""),"",IF(AND($H9<=P$4+'集計を見る'!$B$31-1,$I9>=P$4),"■","")) | Q9: =IF(OR($H9="",$I9="",Q$4=""),"",IF(AND($H9<=Q$4+'集計を見る'!$B$31-1,$I9>=Q$4),"■","")) | R9: =IF(OR($H9="",$I9="",R$4=""),"",IF(AND($H9<=R$4+'集計を見る'!$B$31-1,$I9>=R$4),"■","")) | S9: =IF(OR($H9="",$I9="",S$4=""),"",IF(AND($H9<=S$4+'集計を見る'!$B$31-1,$I9>=S$4),"■","")) | T9: =IF(OR($H9="",$I9="",T$4=""),"",IF(AND($H9<=T$4+'集計を見る'!$B$31-1,$I9>=T$4),"■","")) | U9: =IF(OR($H9="",$I9="",U$4=""),"",IF(AND($H9<=U$4+'集計を見る'!$B$31-1,$I9>=U$4),"■","")) | V9: =IF(OR($H9="",$I9="",V$4=""),"",IF(AND($H9<=V$4+'集計を見る'!$B$31-1,$I9>=V$4),"■","")) | W9: =IF(OR($H9="",$I9="",W$4=""),"",IF(AND($H9<=W$4+'集計を見る'!$B$31-1,$I9>=W$4),"■","")) | ... AA9: =IF(OR($H9="",$I9="",AA$4=""),"",IF(AND($H9<=AA$4+'集計を見る'!$B$31-1,$I9>=AA$4),"■",""))
G10: =IF(OR($B10="",$D10=""),"",MAX(1,ROUNDUP($D10/IF(OR($B$2="",$B$2<=0),1,$B$2),0))) | H10: =IF(OR($G10="",'集計を見る'!$B$10=""),"",IF($B$3="はい",'集計を見る'!$B$10+SUM($G$5:$G10)-$G10,IF(SUM($G$5:$G10)-$G10=0,'集計を見る'!$B$10,WORKDAY('集計を見る'!$B$10,SUM($G$5:$G10)-$G10)))) | I10: =IF(OR($G10="",'集計を見る'!$B$10=""),"",IF($B$3="はい",'集計を見る'!$B$10+SUM($G$5:$G10)-1,IF(SUM($G$5:$G10)-1=0,'集計を見る'!$B$10,WORKDAY('集計を見る'!$B$10,SUM($G$5:$G10)-1)))) | J10: =IF($I10="","",$I10-TODAY()) | K10: =IF($D10="","",ROUND($D10*(100-IF($E10="",0,$E10))/100,1)) | L10: =IF(OR($H10="",$I10=""),"",IF(TODAY()>=$I10,100,IF(TODAY()<$H10,0,ROUND((TODAY()-$H10+1)/($I10-$H10+1)*100,0)))) | M10: =IF(OR($L10="",$E10=""),"",$E10-$L10) | N10: =IF($B10="","",IF($D10="","入力が足りません",IF($E10>=100,"完了",IF($I10="","日程が出ません",IF($I10<TODAY(),"遅れています",IF($H10>TODAY(),"これから","いま進める")))))) | O10: =IF($I10="","",TEXT($I10,"yyyy/mm")) | P10: =IF(OR($H10="",$I10="",P$4=""),"",IF(AND($H10<=P$4+'集計を見る'!$B$31-1,$I10>=P$4),"■","")) | Q10: =IF(OR($H10="",$I10="",Q$4=""),"",IF(AND($H10<=Q$4+'集計を見る'!$B$31-1,$I10>=Q$4),"■","")) | R10: =IF(OR($H10="",$I10="",R$4=""),"",IF(AND($H10<=R$4+'集計を見る'!$B$31-1,$I10>=R$4),"■","")) | S10: =IF(OR($H10="",$I10="",S$4=""),"",IF(AND($H10<=S$4+'集計を見る'!$B$31-1,$I10>=S$4),"■","")) | T10: =IF(OR($H10="",$I10="",T$4=""),"",IF(AND($H10<=T$4+'集計を見る'!$B$31-1,$I10>=T$4),"■","")) | U10: =IF(OR($H10="",$I10="",U$4=""),"",IF(AND($H10<=U$4+'集計を見る'!$B$31-1,$I10>=U$4),"■","")) | V10: =IF(OR($H10="",$I10="",V$4=""),"",IF(AND($H10<=V$4+'集計を見る'!$B$31-1,$I10>=V$4),"■","")) | W10: =IF(OR($H10="",$I10="",W$4=""),"",IF(AND($H10<=W$4+'集計を見る'!$B$31-1,$I10>=W$4),"■","")) | ... AA10: =IF(OR($H10="",$I10="",AA$4=""),"",IF(AND($H10<=AA$4+'集計を見る'!$B$31-1,$I10>=AA$4),"■",""))
G11: =IF(OR($B11="",$D11=""),"",MAX(1,ROUNDUP($D11/IF(OR($B$2="",$B$2<=0),1,$B$2),0))) | H11: =IF(OR($G11="",'集計を見る'!$B$10=""),"",IF($B$3="はい",'集計を見る'!$B$10+SUM($G$5:$G11)-$G11,IF(SUM($G$5:$G11)-$G11=0,'集計を見る'!$B$10,WORKDAY('集計を見る'!$B$10,SUM($G$5:$G11)-$G11)))) | I11: =IF(OR($G11="",'集計を見る'!$B$10=""),"",IF($B$3="はい",'集計を見る'!$B$10+SUM($G$5:$G11)-1,IF(SUM($G$5:$G11)-1=0,'集計を見る'!$B$10,WORKDAY('集計を見る'!$B$10,SUM($G$5:$G11)-1)))) | J11: =IF($I11="","",$I11-TODAY()) | K11: =IF($D11="","",ROUND($D11*(100-IF($E11="",0,$E11))/100,1)) | L11: =IF(OR($H11="",$I11=""),"",IF(TODAY()>=$I11,100,IF(TODAY()<$H11,0,ROUND((TODAY()-$H11+1)/($I11-$H11+1)*100,0)))) | M11: =IF(OR($L11="",$E11=""),"",$E11-$L11) | N11: =IF($B11="","",IF($D11="","入力が足りません",IF($E11>=100,"完了",IF($I11="","日程が出ません",IF($I11<TODAY(),"遅れています",IF($H11>TODAY(),"これから","いま進める")))))) | O11: =IF($I11="","",TEXT($I11,"yyyy/mm")) | P11: =IF(OR($H11="",$I11="",P$4=""),"",IF(AND($H11<=P$4+'集計を見る'!$B$31-1,$I11>=P$4),"■","")) | Q11: =IF(OR($H11="",$I11="",Q$4=""),"",IF(AND($H11<=Q$4+'集計を見る'!$B$31-1,$I11>=Q$4),"■","")) | R11: =IF(OR($H11="",$I11="",R$4=""),"",IF(AND($H11<=R$4+'集計を見る'!$B$31-1,$I11>=R$4),"■","")) | S11: =IF(OR($H11="",$I11="",S$4=""),"",IF(AND($H11<=S$4+'集計を見る'!$B$31-1,$I11>=S$4),"■","")) | T11: =IF(OR($H11="",$I11="",T$4=""),"",IF(AND($H11<=T$4+'集計を見る'!$B$31-1,$I11>=T$4),"■","")) | U11: =IF(OR($H11="",$I11="",U$4=""),"",IF(AND($H11<=U$4+'集計を見る'!$B$31-1,$I11>=U$4),"■","")) | V11: =IF(OR($H11="",$I11="",V$4=""),"",IF(AND($H11<=V$4+'集計を見る'!$B$31-1,$I11>=V$4),"■","")) | W11: =IF(OR($H11="",$I11="",W$4=""),"",IF(AND($H11<=W$4+'集計を見る'!$B$31-1,$I11>=W$4),"■","")) | ... AA11: =IF(OR($H11="",$I11="",AA$4=""),"",IF(AND($H11<=AA$4+'集計を見る'!$B$31-1,$I11>=AA$4),"■",""))
G12: =IF(OR($B12="",$D12=""),"",MAX(1,ROUNDUP($D12/IF(OR($B$2="",$B$2<=0),1,$B$2),0))) | H12: =IF(OR($G12="",'集計を見る'!$B$10=""),"",IF($B$3="はい",'集計を見る'!$B$10+SUM($G$5:$G12)-$G12,IF(SUM($G$5:$G12)-$G12=0,'集計を見る'!$B$10,WORKDAY('集計を見る'!$B$10,SUM($G$5:$G12)-$G12)))) | I12: =IF(OR($G12="",'集計を見る'!$B$10=""),"",IF($B$3="はい",'集計を見る'!$B$10+SUM($G$5:$G12)-1,IF(SUM($G$5:$G12)-1=0,'集計を見る'!$B$10,WORKDAY('集計を見る'!$B$10,SUM($G$5:$G12)-1)))) | J12: =IF($I12="","",$I12-TODAY()) | K12: =IF($D12="","",ROUND($D12*(100-IF($E12="",0,$E12))/100,1)) | L12: =IF(OR($H12="",$I12=""),"",IF(TODAY()>=$I12,100,IF(TODAY()<$H12,0,ROUND((TODAY()-$H12+1)/($I12-$H12+1)*100,0)))) | M12: =IF(OR($L12="",$E12=""),"",$E12-$L12) | N12: =IF($B12="","",IF($D12="","入力が足りません",IF($E12>=100,"完了",IF($I12="","日程が出ません",IF($I12<TODAY(),"遅れています",IF($H12>TODAY(),"これから","いま進める")))))) | O12: =IF($I12="","",TEXT($I12,"yyyy/mm")) | P12: =IF(OR($H12="",$I12="",P$4=""),"",IF(AND($H12<=P$4+'集計を見る'!$B$31-1,$I12>=P$4),"■","")) | Q12: =IF(OR($H12="",$I12="",Q$4=""),"",IF(AND($H12<=Q$4+'集計を見る'!$B$31-1,$I12>=Q$4),"■","")) | R12: =IF(OR($H12="",$I12="",R$4=""),"",IF(AND($H12<=R$4+'集計を見る'!$B$31-1,$I12>=R$4),"■","")) | S12: =IF(OR($H12="",$I12="",S$4=""),"",IF(AND($H12<=S$4+'集計を見る'!$B$31-1,$I12>=S$4),"■","")) | T12: =IF(OR($H12="",$I12="",T$4=""),"",IF(AND($H12<=T$4+'集計を見る'!$B$31-1,$I12>=T$4),"■","")) | U12: =IF(OR($H12="",$I12="",U$4=""),"",IF(AND($H12<=U$4+'集計を見る'!$B$31-1,$I12>=U$4),"■","")) | V12: =IF(OR($H12="",$I12="",V$4=""),"",IF(AND($H12<=V$4+'集計を見る'!$B$31-1,$I12>=V$4),"■","")) | W12: =IF(OR($H12="",$I12="",W$4=""),"",IF(AND($H12<=W$4+'集計を見る'!$B$31-1,$I12>=W$4),"■","")) | ... AA12: =IF(OR($H12="",$I12="",AA$4=""),"",IF(AND($H12<=AA$4+'集計を見る'!$B$31-1,$I12>=AA$4),"■",""))
G13: =IF(OR($B13="",$D13=""),"",MAX(1,ROUNDUP($D13/IF(OR($B$2="",$B$2<=0),1,$B$2),0))) | H13: =IF(OR($G13="",'集計を見る'!$B$10=""),"",IF($B$3="はい",'集計を見る'!$B$10+SUM($G$5:$G13)-$G13,IF(SUM($G$5:$G13)-$G13=0,'集計を見る'!$B$10,WORKDAY('集計を見る'!$B$10,SUM($G$5:$G13)-$G13)))) | I13: =IF(OR($G13="",'集計を見る'!$B$10=""),"",IF($B$3="はい",'集計を見る'!$B$10+SUM($G$5:$G13)-1,IF(SUM($G$5:$G13)-1=0,'集計を見る'!$B$10,WORKDAY('集計を見る'!$B$10,SUM($G$5:$G13)-1)))) | J13: =IF($I13="","",$I13-TODAY()) | K13: =IF($D13="","",ROUND($D13*(100-IF($E13="",0,$E13))/100,1)) | L13: =IF(OR($H13="",$I13=""),"",IF(TODAY()>=$I13,100,IF(TODAY()<$H13,0,ROUND((TODAY()-$H13+1)/($I13-$H13+1)*100,0)))) | M13: =IF(OR($L13="",$E13=""),"",$E13-$L13) | N13: =IF($B13="","",IF($D13="","入力が足りません",IF($E13>=100,"完了",IF($I13="","日程が出ません",IF($I13<TODAY(),"遅れています",IF($H13>TODAY(),"これから","いま進める")))))) | O13: =IF($I13="","",TEXT($I13,"yyyy/mm")) | P13: =IF(OR($H13="",$I13="",P$4=""),"",IF(AND($H13<=P$4+'集計を見る'!$B$31-1,$I13>=P$4),"■","")) | Q13: =IF(OR($H13="",$I13="",Q$4=""),"",IF(AND($H13<=Q$4+'集計を見る'!$B$31-1,$I13>=Q$4),"■","")) | R13: =IF(OR($H13="",$I13="",R$4=""),"",IF(AND($H13<=R$4+'集計を見る'!$B$31-1,$I13>=R$4),"■","")) | S13: =IF(OR($H13="",$I13="",S$4=""),"",IF(AND($H13<=S$4+'集計を見る'!$B$31-1,$I13>=S$4),"■","")) | T13: =IF(OR($H13="",$I13="",T$4=""),"",IF(AND($H13<=T$4+'集計を見る'!$B$31-1,$I13>=T$4),"■","")) | U13: =IF(OR($H13="",$I13="",U$4=""),"",IF(AND($H13<=U$4+'集計を見る'!$B$31-1,$I13>=U$4),"■","")) | V13: =IF(OR($H13="",$I13="",V$4=""),"",IF(AND($H13<=V$4+'集計を見る'!$B$31-1,$I13>=V$4),"■","")) | W13: =IF(OR($H13="",$I13="",W$4=""),"",IF(AND($H13<=W$4+'集計を見る'!$B$31-1,$I13>=W$4),"■","")) | ... AA13: =IF(OR($H13="",$I13="",AA$4=""),"",IF(AND($H13<=AA$4+'集計を見る'!$B$31-1,$I13>=AA$4),"■",""))
G14: =IF(OR($B14="",$D14=""),"",MAX(1,ROUNDUP($D14/IF(OR($B$2="",$B$2<=0),1,$B$2),0))) | H14: =IF(OR($G14="",'集計を見る'!$B$10=""),"",IF($B$3="はい",'集計を見る'!$B$10+SUM($G$5:$G14)-$G14,IF(SUM($G$5:$G14)-$G14=0,'集計を見る'!$B$10,WORKDAY('集計を見る'!$B$10,SUM($G$5:$G14)-$G14)))) | I14: =IF(OR($G14="",'集計を見る'!$B$10=""),"",IF($B$3="はい",'集計を見る'!$B$10+SUM($G$5:$G14)-1,IF(SUM($G$5:$G14)-1=0,'集計を見る'!$B$10,WORKDAY('集計を見る'!$B$10,SUM($G$5:$G14)-1)))) | J14: =IF($I14="","",$I14-TODAY()) | K14: =IF($D14="","",ROUND($D14*(100-IF($E14="",0,$E14))/100,1)) | L14: =IF(OR($H14="",$I14=""),"",IF(TODAY()>=$I14,100,IF(TODAY()<$H14,0,ROUND((TODAY()-$H14+1)/($I14-$H14+1)*100,0)))) | M14: =IF(OR($L14="",$E14=""),"",$E14-$L14) | N14: =IF($B14="","",IF($D14="","入力が足りません",IF($E14>=100,"完了",IF($I14="","日程が出ません",IF($I14<TODAY(),"遅れています",IF($H14>TODAY(),"これから","いま進める")))))) | O14: =IF($I14="","",TEXT($I14,"yyyy/mm")) | P14: =IF(OR($H14="",$I14="",P$4=""),"",IF(AND($H14<=P$4+'集計を見る'!$B$31-1,$I14>=P$4),"■","")) | Q14: =IF(OR($H14="",$I14="",Q$4=""),"",IF(AND($H14<=Q$4+'集計を見る'!$B$31-1,$I14>=Q$4),"■","")) | R14: =IF(OR($H14="",$I14="",R$4=""),"",IF(AND($H14<=R$4+'集計を見る'!$B$31-1,$I14>=R$4),"■","")) | S14: =IF(OR($H14="",$I14="",S$4=""),"",IF(AND($H14<=S$4+'集計を見る'!$B$31-1,$I14>=S$4),"■","")) | T14: =IF(OR($H14="",$I14="",T$4=""),"",IF(AND($H14<=T$4+'集計を見る'!$B$31-1,$I14>=T$4),"■","")) | U14: =IF(OR($H14="",$I14="",U$4=""),"",IF(AND($H14<=U$4+'集計を見る'!$B$31-1,$I14>=U$4),"■","")) | V14: =IF(OR($H14="",$I14="",V$4=""),"",IF(AND($H14<=V$4+'集計を見る'!$B$31-1,$I14>=V$4),"■","")) | W14: =IF(OR($H14="",$I14="",W$4=""),"",IF(AND($H14<=W$4+'集計を見る'!$B$31-1,$I14>=W$4),"■","")) | ... AA14: =IF(OR($H14="",$I14="",AA$4=""),"",IF(AND($H14<=AA$4+'集計を見る'!$B$31-1,$I14>=AA$4),"■",""))
G15: =IF(OR($B15="",$D15=""),"",MAX(1,ROUNDUP($D15/IF(OR($B$2="",$B$2<=0),1,$B$2),0))) | H15: =IF(OR($G15="",'集計を見る'!$B$10=""),"",IF($B$3="はい",'集計を見る'!$B$10+SUM($G$5:$G15)-$G15,IF(SUM($G$5:$G15)-$G15=0,'集計を見る'!$B$10,WORKDAY('集計を見る'!$B$10,SUM($G$5:$G15)-$G15)))) | I15: =IF(OR($G15="",'集計を見る'!$B$10=""),"",IF($B$3="はい",'集計を見る'!$B$10+SUM($G$5:$G15)-1,IF(SUM($G$5:$G15)-1=0,'集計を見る'!$B$10,WORKDAY('集計を見る'!$B$10,SUM($G$5:$G15)-1)))) | J15: =IF($I15="","",$I15-TODAY()) | K15: =IF($D15="","",ROUND($D15*(100-IF($E15="",0,$E15))/100,1)) | L15: =IF(OR($H15="",$I15=""),"",IF(TODAY()>=$I15,100,IF(TODAY()<$H15,0,ROUND((TODAY()-$H15+1)/($I15-$H15+1)*100,0)))) | M15: =IF(OR($L15="",$E15=""),"",$E15-$L15) | N15: =IF($B15="","",IF($D15="","入力が足りません",IF($E15>=100,"完了",IF($I15="","日程が出ません",IF($I15<TODAY(),"遅れています",IF($H15>TODAY(),"これから","いま進める")))))) | O15: =IF($I15="","",TEXT($I15,"yyyy/mm")) | P15: =IF(OR($H15="",$I15="",P$4=""),"",IF(AND($H15<=P$4+'集計を見る'!$B$31-1,$I15>=P$4),"■","")) | Q15: =IF(OR($H15="",$I15="",Q$4=""),"",IF(AND($H15<=Q$4+'集計を見る'!$B$31-1,$I15>=Q$4),"■","")) | R15: =IF(OR($H15="",$I15="",R$4=""),"",IF(AND($H15<=R$4+'集計を見る'!$B$31-1,$I15>=R$4),"■","")) | S15: =IF(OR($H15="",$I15="",S$4=""),"",IF(AND($H15<=S$4+'集計を見る'!$B$31-1,$I15>=S$4),"■","")) | T15: =IF(OR($H15="",$I15="",T$4=""),"",IF(AND($H15<=T$4+'集計を見る'!$B$31-1,$I15>=T$4),"■","")) | U15: =IF(OR($H15="",$I15="",U$4=""),"",IF(AND($H15<=U$4+'集計を見る'!$B$31-1,$I15>=U$4),"■","")) | V15: =IF(OR($H15="",$I15="",V$4=""),"",IF(AND($H15<=V$4+'集計を見る'!$B$31-1,$I15>=V$4),"■","")) | W15: =IF(OR($H15="",$I15="",W$4=""),"",IF(AND($H15<=W$4+'集計を見る'!$B$31-1,$I15>=W$4),"■","")) | ... AA15: =IF(OR($H15="",$I15="",AA$4=""),"",IF(AND($H15<=AA$4+'集計を見る'!$B$31-1,$I15>=AA$4),"■",""))
G16: =IF(OR($B16="",$D16=""),"",MAX(1,ROUNDUP($D16/IF(OR($B$2="",$B$2<=0),1,$B$2),0))) | H16: =IF(OR($G16="",'集計を見る'!$B$10=""),"",IF($B$3="はい",'集計を見る'!$B$10+SUM($G$5:$G16)-$G16,IF(SUM($G$5:$G16)-$G16=0,'集計を見る'!$B$10,WORKDAY('集計を見る'!$B$10,SUM($G$5:$G16)-$G16)))) | I16: =IF(OR($G16="",'集計を見る'!$B$10=""),"",IF($B$3="はい",'集計を見る'!$B$10+SUM($G$5:$G16)-1,IF(SUM($G$5:$G16)-1=0,'集計を見る'!$B$10,WORKDAY('集計を見る'!$B$10,SUM($G$5:$G16)-1)))) | J16: =IF($I16="","",$I16-TODAY()) | K16: =IF($D16="","",ROUND($D16*(100-IF($E16="",0,$E16))/100,1)) | L16: =IF(OR($H16="",$I16=""),"",IF(TODAY()>=$I16,100,IF(TODAY()<$H16,0,ROUND((TODAY()-$H16+1)/($I16-$H16+1)*100,0)))) | M16: =IF(OR($L16="",$E16=""),"",$E16-$L16) | N16: =IF($B16="","",IF($D16="","入力が足りません",IF($E16>=100,"完了",IF($I16="","日程が出ません",IF($I16<TODAY(),"遅れています",IF($H16>TODAY(),"これから","いま進める")))))) | O16: =IF($I16="","",TEXT($I16,"yyyy/mm")) | P16: =IF(OR($H16="",$I16="",P$4=""),"",IF(AND($H16<=P$4+'集計を見る'!$B$31-1,$I16>=P$4),"■","")) | Q16: =IF(OR($H16="",$I16="",Q$4=""),"",IF(AND($H16<=Q$4+'集計を見る'!$B$31-1,$I16>=Q$4),"■","")) | R16: =IF(OR($H16="",$I16="",R$4=""),"",IF(AND($H16<=R$4+'集計を見る'!$B$31-1,$I16>=R$4),"■","")) | S16: =IF(OR($H16="",$I16="",S$4=""),"",IF(AND($H16<=S$4+'集計を見る'!$B$31-1,$I16>=S$4),"■","")) | T16: =IF(OR($H16="",$I16="",T$4=""),"",IF(AND($H16<=T$4+'集計を見る'!$B$31-1,$I16>=T$4),"■","")) | U16: =IF(OR($H16="",$I16="",U$4=""),"",IF(AND($H16<=U$4+'集計を見る'!$B$31-1,$I16>=U$4),"■","")) | V16: =IF(OR($H16="",$I16="",V$4=""),"",IF(AND($H16<=V$4+'集計を見る'!$B$31-1,$I16>=V$4),"■","")) | W16: =IF(OR($H16="",$I16="",W$4=""),"",IF(AND($H16<=W$4+'集計を見る'!$B$31-1,$I16>=W$4),"■","")) | ... AA16: =IF(OR($H16="",$I16="",AA$4=""),"",IF(AND($H16<=AA$4+'集計を見る'!$B$31-1,$I16>=AA$4),"■",""))
... G204: =IF(OR($B204="",$D204=""),"",MAX(1,ROUNDUP($D204/IF(OR($B$2="",$B$2<=0),1,$B$2),0))) | H204: =IF(OR($G204="",'集計を見る'!$B$10=""),"",IF($B$3="はい",'集計を見る'!$B$10+SUM($G$5:$G204)-$G204,IF(SUM($G$5:$G204)-$G204=0,'集計を見る'!$B$10,WORKDAY('集計を見る'!$B$10,SUM($G$5:$G204)-$G204)))) | I204: =IF(OR($G204="",'集計を見る'!$B$10=""),"",IF($B$3="はい",'集計を見る'!$B$10+SUM($G$5:$G204)-1,IF(SUM($G$5:$G204)-1=0,'集計を見る'!$B$10,WORKDAY('集計を見る'!$B$10,SUM($G$5:$G204)-1)))) | J204: =IF($I204="","",$I204-TODAY()) | K204: =IF($D204="","",ROUND($D204*(100-IF($E204="",0,$E204))/100,1)) | L204: =IF(OR($H204="",$I204=""),"",IF(TODAY()>=$I204,100,IF(TODAY()<$H204,0,ROUND((TODAY()-$H204+1)/($I204-$H204+1)*100,0)))) | M204: =IF(OR($L204="",$E204=""),"",$E204-$L204) | N204: =IF($B204="","",IF($D204="","入力が足りません",IF($E204>=100,"完了",IF($I204="","日程が出ません",IF($I204<TODAY(),"遅れています",IF($H204>TODAY(),"これから","いま進める")))))) | O204: =IF($I204="","",TEXT($I204,"yyyy/mm")) | P204: =IF(OR($H204="",$I204="",P$4=""),"",IF(AND($H204<=P$4+'集計を見る'!$B$31-1,$I204>=P$4),"■","")) | Q204: =IF(OR($H204="",$I204="",Q$4=""),"",IF(AND($H204<=Q$4+'集計を見る'!$B$31-1,$I204>=Q$4),"■","")) | R204: =IF(OR($H204="",$I204="",R$4=""),"",IF(AND($H204<=R$4+'集計を見る'!$B$31-1,$I204>=R$4),"■","")) | S204: =IF(OR($H204="",$I204="",S$4=""),"",IF(AND($H204<=S$4+'集計を見る'!$B$31-1,$I204>=S$4),"■","")) | T204: =IF(OR($H204="",$I204="",T$4=""),"",IF(AND($H204<=T$4+'集計を見る'!$B$31-1,$I204>=T$4),"■","")) | U204: =IF(OR($H204="",$I204="",U$4=""),"",IF(AND($H204<=U$4+'集計を見る'!$B$31-1,$I204>=U$4),"■","")) | V204: =IF(OR($H204="",$I204="",V$4=""),"",IF(AND($H204<=V$4+'集計を見る'!$B$31-1,$I204>=V$4),"■","")) | W204: =IF(OR($H204="",$I204="",W$4=""),"",IF(AND($H204<=W$4+'集計を見る'!$B$31-1,$I204>=W$4),"■","")) | ... AA204: =IF(OR($H204="",$I204="",AA$4=""),"",IF(AND($H204<=AA$4+'集計を見る'!$B$31-1,$I204>=AA$4),"■",""))

Sheet 集計を見る
A1: 締切からの逆算シート
A2: 「入力する」に最終締切日とやることを打つだけで、タスクごとの着手日・期限・1日あたりに必要な時間と、間に合うかの判定が自動で出ます。
A3: 配布元: 副業ポートフォリオ https://satoru-log.jp
A5: 締切までの全体像
A6: 最終締切日（「入力する」B1） | B6: =IF('入力する'!$B$1="","",'入力する'!$B$1)
A7: 今日の日付 | B7: =TODAY()
A8: 締切まであと | B8: =IF($B$6="","",$B$6-$B$7)
A9: 締切までに使える日数（土日の設定を反映） | B9: =IF($B$6="","",IF('入力する'!$B$3="はい",$B$6-$B$7+1,NETWORKDAYS($B$7,$B$6)))
A10: 逆算のスタート日（この日から始めれば間に合う） | B10: =IF(OR($B$6="",$B$19=0),"",IF('入力する'!$B$3="はい",$B$6-$B$19+1,IF($B$19<=1,$B$6,WORKDAY($B$6,-($B$19-1)))))
A11: スタート日まであと | B11: =IF($B$10="","",$B$10-$B$7)
A12: スタート日の見かた | B12: =IF($B$10="","",IF($B$10<$B$7,"もう始めていないと間に合いません。",IF($B$10<=$B$7+3,"まもなく着手の時期です。必要なものをそろえておきます。","まだ時間に余裕があります。前倒しで削れるところを探します。")))
A13: タスクの件数 | B13: =COUNTIF('入力する'!$B$5:$B$204,"?*")
A14: 予定工数の合計 | B14: =SUM('入力する'!$D$5:$D$204)
A15: 終わった工数 | B15: =SUM('入力する'!$D$5:$D$204)-SUM('入力する'!$K$5:$K$204)
A16: 残っている工数 | B16: =SUM('入力する'!$K$5:$K$204)
A17: 全体の進捗率（工数ベース） | B17: =IF($B$14=0,"",$B$15/$B$14)
A18: 終わったタスクの割合（件数ベース） | B18: =IF($B$13=0,"",$B$27/$B$13)
A19: 全部を終えるのに必要な日数 | B19: =SUM('入力する'!$G$5:$G$204)
A20: 1日に使える時間（「入力する」B2） | B20: =IF(OR('入力する'!$B$2="",'入力する'!$B$2<=0),1,'入力する'!$B$2)
A21: いま必要な1日あたりの時間 | B21: =IF(OR($B$9="",$B$9<=0),"",IF($B$16=0,0,$B$16/$B$9))
A22: 使える時間との差（プラスなら余裕） | B22: =IF($B$21="","",$B$20-$B$21)
A23: 間に合うかの判定 | B23: =IF($B$6="","「入力する」B1に最終締切日を入れてください。",IF($B$14=0,"「入力する」にタスク名と予定工数を入れてください。",IF($B$16=0,"すべて終わりました。おつかれさまでした。",IF($B$9<=0,"締切をすぎています。締切の交渉か、やることの絞りこみが必要です。",IF($B$21<=$B$20*0.8,"余裕をもって間に合います。",IF($B$21<=$B$20,"ぎりぎり間に合います。予定どおり進めてください。","このままだと間に合いません。工数を減らすか、1日に使える時間をふやしてください。"))))))
A24: 遅れているタスクの件数 | B24: =COUNTIF('入力する'!$N$5:$N$204,"遅れています")
A25: いま進めるタスクの件数 | B25: =COUNTIF('入力する'!$N$5:$N$204,"いま進める")
A26: これから始めるタスクの件数 | B26: =COUNTIF('入力する'!$N$5:$N$204,"これから")
A27: 終わったタスクの件数 | B27: =COUNTIF('入力する'!$N$5:$N$204,"完了")
A28: 予定より進みが遅い件数（進み具合がマイナス） | B28: =COUNTIF('入力する'!$M$5:$M$204,"<0")
A29: 1件あたりの平均工数 | B29: =IF($B$13=0,"",ROUND($B$14/$B$13,1))
A30: ガントの左はしの日付（自動） | B30: =IF($B$10="","",MIN($B$10,$B$7))
A31: ガント1マスの日数（自動） | B31: =IF($B$30="","",MAX(1,ROUNDUP(($B$6-$B$30+1)/12,0)))
A32: ※ 「いま必要な1日あたりの時間」が「1日に使える時間」をこえたら、その差ぶんだけ毎日はみ出していきます。気づいた日に手を打つほど、選べる手がふえます。
A34: 工程べつの集計（予定工数の多い順に順位）
A35: 工程 | B35: 件数 | C35: 予定工数 | D35: 残り工数 | E35: 進捗率 | F35: 工数の構成比 | G35: 遅れ | H35: 順位
A36: 企画・準備 | B36: =COUNTIF('入力する'!$A$5:$A$204,$A36) | C36: =SUMIF('入力する'!$A$5:$A$204,$A36,'入力する'!$D$5:$D$204) | D36: =SUMIF('入力する'!$A$5:$A$204,$A36,'入力する'!$K$5:$K$204) | E36: =IF($C36=0,"",($C36-$D36)/$C36) | F36: =IF($C$43=0,"",$C36/$C$43) | G36: =COUNTIFS('入力する'!$A$5:$A$204,$A36,'入力する'!$N$5:$N$204,"遅れています") | H36: =IF($C36=0,"",RANK($C36,$C$36:$C$42))
A37: 情報あつめ | B37: =COUNTIF('入力する'!$A$5:$A$204,$A37) | C37: =SUMIF('入力する'!$A$5:$A$204,$A37,'入力する'!$D$5:$D$204) | D37: =SUMIF('入力する'!$A$5:$A$204,$A37,'入力する'!$K$5:$K$204) | E37: =IF($C37=0,"",($C37-$D37)/$C37) | F37: =IF($C$43=0,"",$C37/$C$43) | G37: =COUNTIFS('入力する'!$A$5:$A$204,$A37,'入力する'!$N$5:$N$204,"遅れています") | H37: =IF($C37=0,"",RANK($C37,$C$36:$C$42))
A38: 制作・作業 | B38: =COUNTIF('入力する'!$A$5:$A$204,$A38) | C38: =SUMIF('入力する'!$A$5:$A$204,$A38,'入力する'!$D$5:$D$204) | D38: =SUMIF('入力する'!$A$5:$A$204,$A38,'入力する'!$K$5:$K$204) | E38: =IF($C38=0,"",($C38-$D38)/$C38) | F38: =IF($C$43=0,"",$C38/$C$43) | G38: =COUNTIFS('入力する'!$A$5:$A$204,$A38,'入力する'!$N$5:$N$204,"遅れています") | H38: =IF($C38=0,"",RANK($C38,$C$36:$C$42))
A39: 確認・レビュー | B39: =COUNTIF('入力する'!$A$5:$A$204,$A39) | C39: =SUMIF('入力する'!$A$5:$A$204,$A39,'入力する'!$D$5:$D$204) | D39: =SUMIF('入力する'!$A$5:$A$204,$A39,'入力する'!$K$5:$K$204) | E39: =IF($C39=0,"",($C39-$D39)/$C39) | F39: =IF($C$43=0,"",$C39/$C$43) | G39: =COUNTIFS('入力する'!$A$5:$A$204,$A39,'入力する'!$N$5:$N$204,"遅れています") | H39: =IF($C39=0,"",RANK($C39,$C$36:$C$42))
A40: 手直し | B40: =COUNTIF('入力する'!$A$5:$A$204,$A40) | C40: =SUMIF('入力する'!$A$5:$A$204,$A40,'入力する'!$D$5:$D$204) | D40: =SUMIF('入力する'!$A$5:$A$204,$A40,'入力する'!$K$5:$K$204) | E40: =IF($C40=0,"",($C40-$D40)/$C40) | F40: =IF($C$43=0,"",$C40/$C$43) | G40: =COUNTIFS('入力する'!$A$5:$A$204,$A40,'入力する'!$N$5:$N$204,"遅れています") | H40: =IF($C40=0,"",RANK($C40,$C$36:$C$42))
A41: 提出・公開 | B41: =COUNTIF('入力する'!$A$5:$A$204,$A41) | C41: =SUMIF('入力する'!$A$5:$A$204,$A41,'入力する'!$D$5:$D$204) | D41: =SUMIF('入力する'!$A$5:$A$204,$A41,'入力する'!$K$5:$K$204) | E41: =IF($C41=0,"",($C41-$D41)/$C41) | F41: =IF($C$43=0,"",$C41/$C$43) | G41: =COUNTIFS('入力する'!$A$5:$A$204,$A41,'入力する'!$N$5:$N$204,"遅れています") | H41: =IF($C41=0,"",RANK($C41,$C$36:$C$42))
A42: 予備日 | B42: =COUNTIF('入力する'!$A$5:$A$204,$A42) | C42: =SUMIF('入力する'!$A$5:$A$204,$A42,'入力する'!$D$5:$D$204) | D42: =SUMIF('入力する'!$A$5:$A$204,$A42,'入力する'!$K$5:$K$204) | E42: =IF($C42=0,"",($C42-$D42)/$C42) | F42: =IF($C$43=0,"",$C42/$C$43) | G42: =COUNTIFS('入力する'!$A$5:$A$204,$A42,'入力する'!$N$5:$N$204,"遅れています") | H42: =IF($C42=0,"",RANK($C42,$C$36:$C$42))
A43: 合計 | B43: =SUM(B36:B42) | C43: =SUM(C36:C42) | D43: =SUM(D36:D42) | E43: =IF($C$43=0,"",($C$43-$D$43)/$C$43) | F43: =IF($C$43=0,"",1) | G43: =SUM(G36:G42)
A44: ※ 工程は「入力する」A列のプルダウンと同じ並びです。削るところを探すときは、ここの上から見ます。
A46: 担当べつの集計（薄い黄色の名前は書きかえられます）
A47: 担当 | B47: 件数 | C47: 予定工数 | D47: 残り工数 | E47: 進捗率 | F47: 工数の構成比 | G47: 遅れ | H47: 順位
A48: 自分 | B48: =COUNTIF('入力する'!$C$5:$C$204,$A48) | C48: =SUMIF('入力する'!$C$5:$C$204,$A48,'入力する'!$D$5:$D$204) | D48: =SUMIF('入力する'!$C$5:$C$204,$A48,'入力する'!$K$5:$K$204) | E48: =IF($C48=0,"",($C48-$D48)/$C48) | F48: =IF($C$54=0,"",$C48/$C$54) | G48: =COUNTIFS('入力する'!$C$5:$C$204,$A48,'入力する'!$N$5:$N$204,"遅れています") | H48: =IF($C48=0,"",RANK($C48,$C$48:$C$53))
A49: 同僚A | B49: =COUNTIF('入力する'!$C$5:$C$204,$A49) | C49: =SUMIF('入力する'!$C$5:$C$204,$A49,'入力する'!$D$5:$D$204) | D49: =SUMIF('入力する'!$C$5:$C$204,$A49,'入力する'!$K$5:$K$204) | E49: =IF($C49=0,"",($C49-$D49)/$C49) | F49: =IF($C$54=0,"",$C49/$C$54) | G49: =COUNTIFS('入力する'!$C$5:$C$204,$A49,'入力する'!$N$5:$N$204,"遅れています") | H49: =IF($C49=0,"",RANK($C49,$C$48:$C$53))
A50: 同僚B | B50: =COUNTIF('入力する'!$C$5:$C$204,$A50) | C50: =SUMIF('入力する'!$C$5:$C$204,$A50,'入力する'!$D$5:$D$204) | D50: =SUMIF('入力する'!$C$5:$C$204,$A50,'入力する'!$K$5:$K$204) | E50: =IF($C50=0,"",($C50-$D50)/$C50) | F50: =IF($C$54=0,"",$C50/$C$54) | G50: =COUNTIFS('入力する'!$C$5:$C$204,$A50,'入力する'!$N$5:$N$204,"遅れています") | H50: =IF($C50=0,"",RANK($C50,$C$48:$C$53))
A51: 家族・パートナー | B51: =COUNTIF('入力する'!$C$5:$C$204,$A51) | C51: =SUMIF('入力する'!$C$5:$C$204,$A51,'入力する'!$D$5:$D$204) | D51: =SUMIF('入力する'!$C$5:$C$204,$A51,'入力する'!$K$5:$K$204) | E51: =IF($C51=0,"",($C51-$D51)/$C51) | F51: =IF($C$54=0,"",$C51/$C$54) | G51: =COUNTIFS('入力する'!$C$5:$C$204,$A51,'入力する'!$N$5:$N$204,"遅れています") | H51: =IF($C51=0,"",RANK($C51,$C$48:$C$53))
A52: 外注さん | B52: =COUNTIF('入力する'!$C$5:$C$204,$A52) | C52: =SUMIF('入力する'!$C$5:$C$204,$A52,'入力する'!$D$5:$D$204) | D52: =SUMIF('入力する'!$C$5:$C$204,$A52,'入力する'!$K$5:$K$204) | E52: =IF($C52=0,"",($C52-$D52)/$C52) | F52: =IF($C$54=0,"",$C52/$C$54) | G52: =COUNTIFS('入力する'!$C$5:$C$204,$A52,'入力する'!$N$5:$N$204,"遅れています") | H52: =IF($C52=0,"",RANK($C52,$C$48:$C$53))
A53: その他 | B53: =COUNTIF('入力する'!$C$5:$C$204,$A53) | C53: =SUMIF('入力する'!$C$5:$C$204,$A53,'入力する'!$D$5:$D$204) | D53: =SUMIF('入力する'!$C$5:$C$204,$A53,'入力する'!$K$5:$K$204) | E53: =IF($C53=0,"",($C53-$D53)/$C53) | F53: =IF($C$54=0,"",$C53/$C$54) | G53: =COUNTIFS('入力する'!$C$5:$C$204,$A53,'入力する'!$N$5:$N$204,"遅れています") | H53: =IF($C53=0,"",RANK($C53,$C$48:$C$53))
A54: 合計 | B54: =SUM(B48:B53) | C54: =SUM(C48:C53) | D54: =SUM(D48:D53) | E54: =IF($C$54=0,"",($C$54-$D$54)/$C$54) | F54: =IF($C$54=0,"",1) | G54: =SUM(G48:G53)
A55: ※ ここで書きかえた名前が、そのまま「入力する」C列のプルダウンになります。
A57: 状態べつの内訳
A58: 状態 | B58: 件数 | C58: 件数の構成比 | D58: 予定工数 | E58: 残り工数 | F58: 見かた
A59: 完了 | B59: =COUNTIF('入力する'!$N$5:$N$204,$A59) | C59: =IF($B$13=0,"",$B59/$B$13) | D59: =SUMIF('入力する'!$N$5:$N$204,$A59,'入力する'!$D$5:$D$204) | E59: =SUMIF('入力する'!$N$5:$N$204,$A59,'入力する'!$K$5:$K$204) | F59: 進捗率が100%の行です。ここがふえるほど残り工数が減ります。
A60: 遅れています | B60: =COUNTIF('入力する'!$N$5:$N$204,$A60) | C60: =IF($B$13=0,"",$B60/$B$13) | D60: =SUMIF('入力する'!$N$5:$N$204,$A60,'入力する'!$D$5:$D$204) | E60: =SUMIF('入力する'!$N$5:$N$204,$A60,'入力する'!$K$5:$K$204) | F60: 期限をすぎたのに終わっていない行です。今日いちばんに片づけます。
A61: いま進める | B61: =COUNTIF('入力する'!$N$5:$N$204,$A61) | C61: =IF($B$13=0,"",$B61/$B$13) | D61: =SUMIF('入力する'!$N$5:$N$204,$A61,'入力する'!$D$5:$D$204) | E61: =SUMIF('入力する'!$N$5:$N$204,$A61,'入力する'!$K$5:$K$204) | F61: 今日が着手日から期限のあいだにある行です。今日の作業はここから選びます。
A62: これから | B62: =COUNTIF('入力する'!$N$5:$N$204,$A62) | C62: =IF($B$13=0,"",$B62/$B$13) | D62: =SUMIF('入力する'!$N$5:$N$204,$A62,'入力する'!$D$5:$D$204) | E62: =SUMIF('入力する'!$N$5:$N$204,$A62,'入力する'!$K$5:$K$204) | F62: 着手日がまだ先の行です。前倒しできると後半が楽になります。
A63: 入力が足りません | B63: =COUNTIF('入力する'!$N$5:$N$204,$A63) | C63: =IF($B$13=0,"",$B63/$B$13) | D63: =SUMIF('入力する'!$N$5:$N$204,$A63,'入力する'!$D$5:$D$204) | E63: =SUMIF('入力する'!$N$5:$N$204,$A63,'入力する'!$K$5:$K$204) | F63: タスク名はあるのに予定工数が空の行です。
A64: 日程が出ません | B64: =COUNTIF('入力する'!$N$5:$N$204,$A64) | C64: =IF($B$13=0,"",$B64/$B$13) | D64: =SUMIF('入力する'!$N$5:$N$204,$A64,'入力する'!$D$5:$D$204) | E64: =SUMIF('入力する'!$N$5:$N$204,$A64,'入力する'!$K$5:$K$204) | F64: 締切日が空か、工数が入っていないため着手日と期限を出せません。
A66: 月べつの推移（期限の月で数えています）
A67: 月 | B67: 件数 | C67: 予定工数 | D67: 残り工数 | E67: 終わった工数 | F67: 進捗率 | G67: 遅れ
A68: =IF($B$30="","",TEXT(DATE(YEAR($B$30),MONTH($B$30)+0,1),"yyyy/mm")) | B68: =IF($A68="","",COUNTIF('入力する'!$O$5:$O$204,$A68)) | C68: =IF($A68="","",SUMIF('入力する'!$O$5:$O$204,$A68,'入力する'!$D$5:$D$204)) | D68: =IF($A68="","",SUMIF('入力する'!$O$5:$O$204,$A68,'入力する'!$K$5:$K$204)) | E68: =IF($A68="","",$C68-$D68) | F68: =IF($A68="","",IF($C68=0,"",$E68/$C68)) | G68: =IF($A68="","",COUNTIFS('入力する'!$O$5:$O$204,$A68,'入力する'!$N$5:$N$204,"遅れています"))
A69: =IF($B$30="","",TEXT(DATE(YEAR($B$30),MONTH($B$30)+1,1),"yyyy/mm")) | B69: =IF($A69="","",COUNTIF('入力する'!$O$5:$O$204,$A69)) | C69: =IF($A69="","",SUMIF('入力する'!$O$5:$O$204,$A69,'入力する'!$D$5:$D$204)) | D69: =IF($A69="","",SUMIF('入力する'!$O$5:$O$204,$A69,'入力する'!$K$5:$K$204)) | E69: =IF($A69="","",$C69-$D69) | F69: =IF($A69="","",IF($C69=0,"",$E69/$C69)) | G69: =IF($A69="","",COUNTIFS('入力する'!$O$5:$O$204,$A69,'入力する'!$N$5:$N$204,"遅れています"))
A70: =IF($B$30="","",TEXT(DATE(YEAR($B$30),MONTH($B$30)+2,1),"yyyy/mm")) | B70: =IF($A70="","",COUNTIF('入力する'!$O$5:$O$204,$A70)) | C70: =IF($A70="","",SUMIF('入力する'!$O$5:$O$204,$A70,'入力する'!$D$5:$D$204)) | D70: =IF($A70="","",SUMIF('入力する'!$O$5:$O$204,$A70,'入力する'!$K$5:$K$204)) | E70: =IF($A70="","",$C70-$D70) | F70: =IF($A70="","",IF($C70=0,"",$E70/$C70)) | G70: =IF($A70="","",COUNTIFS('入力する'!$O$5:$O$204,$A70,'入力する'!$N$5:$N$204,"遅れています"))
A71: =IF($B$30="","",TEXT(DATE(YEAR($B$30),MONTH($B$30)+3,1),"yyyy/mm")) | B71: =IF($A71="","",COUNTIF('入力する'!$O$5:$O$204,$A71)) | C71: =IF($A71="","",SUMIF('入力する'!$O$5:$O$204,$A71,'入力する'!$D$5:$D$204)) | D71: =IF($A71="","",SUMIF('入力する'!$O$5:$O$204,$A71,'入力する'!$K$5:$K$204)) | E71: =IF($A71="","",$C71-$D71) | F71: =IF($A71="","",IF($C71=0,"",$E71/$C71)) | G71: =IF($A71="","",COUNTIFS('入力する'!$O$5:$O$204,$A71,'入力する'!$N$5:$N$204,"遅れています"))
A72: =IF($B$30="","",TEXT(DATE(YEAR($B$30),MONTH($B$30)+4,1),"yyyy/mm")) | B72: =IF($A72="","",COUNTIF('入力する'!$O$5:$O$204,$A72)) | C72: =IF($A72="","",SUMIF('入力する'!$O$5:$O$204,$A72,'入力する'!$D$5:$D$204)) | D72: =IF($A72="","",SUMIF('入力する'!$O$5:$O$204,$A72,'入力する'!$K$5:$K$204)) | E72: =IF($A72="","",$C72-$D72) | F72: =IF($A72="","",IF($C72=0,"",$E72/$C72)) | G72: =IF($A72="","",COUNTIFS('入力する'!$O$5:$O$204,$A72,'入力する'!$N$5:$N$204,"遅れています"))
A73: =IF($B$30="","",TEXT(DATE(YEAR($B$30),MONTH($B$30)+5,1),"yyyy/mm")) | B73: =IF($A73="","",COUNTIF('入力する'!$O$5:$O$204,$A73)) | C73: =IF($A73="","",SUMIF('入力する'!$O$5:$O$204,$A73,'入力する'!$D$5:$D$204)) | D73: =IF($A73="","",SUMIF('入力する'!$O$5:$O$204,$A73,'入力する'!$K$5:$K$204)) | E73: =IF($A73="","",$C73-$D73) | F73: =IF($A73="","",IF($C73=0,"",$E73/$C73)) | G73: =IF($A73="","",COUNTIFS('入力する'!$O$5:$O$204,$A73,'入力する'!$N$5:$N$204,"遅れています"))
A74: =IF($B$30="","",TEXT(DATE(YEAR($B$30),MONTH($B$30)+6,1),"yyyy/mm")) | B74: =IF($A74="","",COUNTIF('入力する'!$O$5:$O$204,$A74)) | C74: =IF($A74="","",SUMIF('入力する'!$O$5:$O$204,$A74,'入力する'!$D$5:$D$204)) | D74: =IF($A74="","",SUMIF('入力する'!$O$5:$O$204,$A74,'入力する'!$K$5:$K$204)) | E74: =IF($A74="","",$C74-$D74) | F74: =IF($A74="","",IF($C74=0,"",$E74/$C74)) | G74: =IF($A74="","",COUNTIFS('入力する'!$O$5:$O$204,$A74,'入力する'!$N$5:$N$204,"遅れています"))
A75: =IF($B$30="","",TEXT(DATE(YEAR($B$30),MONTH($B$30)+7,1),"yyyy/mm")) | B75: =IF($A75="","",COUNTIF('入力する'!$O$5:$O$204,$A75)) | C75: =IF($A75="","",SUMIF('入力する'!$O$5:$O$204,$A75,'入力する'!$D$5:$D$204)) | D75: =IF($A75="","",SUMIF('入力する'!$O$5:$O$204,$A75,'入力する'!$K$5:$K$204)) | E75: =IF($A75="","",$C75-$D75) | F75: =IF($A75="","",IF($C75=0,"",$E75/$C75)) | G75: =IF($A75="","",COUNTIFS('入力する'!$O$5:$O$204,$A75,'入力する'!$N$5:$N$204,"遅れています"))
A76: =IF($B$30="","",TEXT(DATE(YEAR($B$30),MONTH($B$30)+8,1),"yyyy/mm")) | B76: =IF($A76="","",COUNTIF('入力する'!$O$5:$O$204,$A76)) | C76: =IF($A76="","",SUMIF('入力する'!$O$5:$O$204,$A76,'入力する'!$D$5:$D$204)) | D76: =IF($A76="","",SUMIF('入力する'!$O$5:$O$204,$A76,'入力する'!$K$5:$K$204)) | E76: =IF($A76="","",$C76-$D76) | F76: =IF($A76="","",IF($C76=0,"",$E76/$C76)) | G76: =IF($A76="","",COUNTIFS('入力する'!$O$5:$O$204,$A76,'入力する'!$N$5:$N$204,"遅れています"))
A77: =IF($B$30="","",TEXT(DATE(YEAR($B$30),MONTH($B$30)+9,1),"yyyy/mm")) | B77: =IF($A77="","",COUNTIF('入力する'!$O$5:$O$204,$A77)) | C77: =IF($A77="","",SUMIF('入力する'!$O$5:$O$204,$A77,'入力する'!$D$5:$D$204)) | D77: =IF($A77="","",SUMIF('入力する'!$O$5:$O$204,$A77,'入力する'!$K$5:$K$204)) | E77: =IF($A77="","",$C77-$D77) | F77: =IF($A77="","",IF($C77=0,"",$E77/$C77)) | G77: =IF($A77="","",COUNTIFS('入力する'!$O$5:$O$204,$A77,'入力する'!$N$5:$N$204,"遅れています"))
A78: =IF($B$30="","",TEXT(DATE(YEAR($B$30),MONTH($B$30)+10,1),"yyyy/mm")) | B78: =IF($A78="","",COUNTIF('入力する'!$O$5:$O$204,$A78)) | C78: =IF($A78="","",SUMIF('入力する'!$O$5:$O$204,$A78,'入力する'!$D$5:$D$204)) | D78: =IF($A78="","",SUMIF('入力する'!$O$5:$O$204,$A78,'入力する'!$K$5:$K$204)) | E78: =IF($A78="","",$C78-$D78) | F78: =IF($A78="","",IF($C78=0,"",$E78/$C78)) | G78: =IF($A78="","",COUNTIFS('入力する'!$O$5:$O$204,$A78,'入力する'!$N$5:$N$204,"遅れています"))
A79: =IF($B$30="","",TEXT(DATE(YEAR($B$30),MONTH($B$30)+11,1),"yyyy/mm")) | B79: =IF($A79="","",COUNTIF('入力する'!$O$5:$O$204,$A79)) | C79: =IF($A79="","",SUMIF('入力する'!$O$5:$O$204,$A79,'入力する'!$D$5:$D$204)) | D79: =IF($A79="","",SUMIF('入力する'!$O$5:$O$204,$A79,'入力する'!$K$5:$K$204)) | E79: =IF($A79="","",$C79-$D79) | F79: =IF($A79="","",IF($C79=0,"",$E79/$C79)) | G79: =IF($A79="","",COUNTIFS('入力する'!$O$5:$O$204,$A79,'入力する'!$N$5:$N$204,"遅れています"))
A80: 12か月の合計 | B80: =SUM(B68:B79) | C80: =SUM(C68:C79) | D80: =SUM(D68:D79) | E80: =SUM(E68:E79) | F80: =IF($C$80=0,"",$E$80/$C$80) | G80: =SUM(G68:G79)
A81: ※ 12か月はガントの左はしの月から数えています。締切が先の計画でも、工数が山になっている月がひと目で分かります。

Sheet 使い方と注意
A1: 締切からの逆算シート｜使い方と注意
A3: このシートについて
A4: 「いつまでに」しか決まっていない仕事を、「いつ・何を・何時間」に置きかえるためのシートです。
A5: 最終締切日とやることの工数を入れると、締切から順に逆算して、
A6: タスクごとの着手日と期限、1日あたりに必要な時間、間に合うかどうかの判定が出ます。
A7: 前から足していく計画とちがって後ろから割りつけるので、「気づいたら日がない」が起きにくくなります。
A9: 使い方（4ステップ）
A10: 1. 「入力する」のB1に最終締切日、B2に1日に使える時間、B3に土日も作業するかどうかを入れます。
A11: B2は少なめに見るほうが安全です。毎日2時間とれるときでも1.5と入れておくと、計画が崩れにくくなります。
A12: 2. 5行目から下に、やることを「やる順番どおり」に1行ずつ書きます。
A13: 工程・タスク名・担当・予定工数・進捗率の5つを入れれば、日程は自動で出ます。
A14: 3. H列の着手日とI列の期限を見ます。N列が「いま進める」の行が、今日手をつけるタスクです。
... A73: 配布元: 副業ポートフォリオ https://satoru-log.jp
