Workbook

Sheet 入力する
A1: 対象の年 | B1: 2026 | D1: ※ 「集計を見る」の月べつ推移は、この年の12か月で作ります。
A2: 基準日（きょう） | B2: =TODAY() | D2: ※ 残り日数と遅れの判定に使う日です。ふだんは開いた日が自動で入ります。
A3: まもなく期限とする日数 | B3: 3 | D3: ※ 期限までこの日数以内になると「まもなく期限」になり、行にオレンジの色が付きます。
A4: タスク名 | B4: 区分 | C4: 担当 | D4: 状態 | E4: 進捗率(%) | F4: 期限日 | G4: 次にやること | H4: 相談・共有したいこと | I4: 残り日数（自動） | J4: 期限の状況（自動） | K4: 1日の必要ペース（自動） | L4: 月（自動） | M4: 入力チェック（自動）
I5: =IF($F5="","",$F5-$B$2) | J5: =IF(AND($A5="",$D5=""),"",IF($D5="完了","完了",IF($F5="","期限なし",IF($I5<0,"遅延",IF($I5<=$B$3,"まもなく期限","余裕あり"))))) | K5: =IF(OR($A5="",$D5="完了",$F5="",$E5=""),"",IF($I5<=0,"",ROUND((100-$E5)/$I5,0))) | L5: =IF($F5="","",TEXT($F5,"yyyy/mm")) | M5: =IF(AND($A5="",$C5="",$D5="",$F5=""),"",IF($A5="","タスク名が未入力",IF($C5="","担当が未入力",IF(COUNTIF('集計を見る'!$A$25:$A$32,$C5)=0,"担当が一覧にない",IF($D5="","状態が未入力",IF($E5="","進捗率が未入力",IF(AND($D5="完了",$E5<>100),"完了なのに100%でない",IF(AND($E5=100,$D5<>"完了"),"100%なのに完了でない",IF(AND($D5="進行中",$E5=0),"進行中なのに0%",IF($F5="","期限が未入力",IF($J5="遅延","遅延（対応が必要）",IF(AND($G5="",$D5<>"完了"),"次の一手が空","OK"))))))))))))
I6: =IF($F6="","",$F6-$B$2) | J6: =IF(AND($A6="",$D6=""),"",IF($D6="完了","完了",IF($F6="","期限なし",IF($I6<0,"遅延",IF($I6<=$B$3,"まもなく期限","余裕あり"))))) | K6: =IF(OR($A6="",$D6="完了",$F6="",$E6=""),"",IF($I6<=0,"",ROUND((100-$E6)/$I6,0))) | L6: =IF($F6="","",TEXT($F6,"yyyy/mm")) | M6: =IF(AND($A6="",$C6="",$D6="",$F6=""),"",IF($A6="","タスク名が未入力",IF($C6="","担当が未入力",IF(COUNTIF('集計を見る'!$A$25:$A$32,$C6)=0,"担当が一覧にない",IF($D6="","状態が未入力",IF($E6="","進捗率が未入力",IF(AND($D6="完了",$E6<>100),"完了なのに100%でない",IF(AND($E6=100,$D6<>"完了"),"100%なのに完了でない",IF(AND($D6="進行中",$E6=0),"進行中なのに0%",IF($F6="","期限が未入力",IF($J6="遅延","遅延（対応が必要）",IF(AND($G6="",$D6<>"完了"),"次の一手が空","OK"))))))))))))
I7: =IF($F7="","",$F7-$B$2) | J7: =IF(AND($A7="",$D7=""),"",IF($D7="完了","完了",IF($F7="","期限なし",IF($I7<0,"遅延",IF($I7<=$B$3,"まもなく期限","余裕あり"))))) | K7: =IF(OR($A7="",$D7="完了",$F7="",$E7=""),"",IF($I7<=0,"",ROUND((100-$E7)/$I7,0))) | L7: =IF($F7="","",TEXT($F7,"yyyy/mm")) | M7: =IF(AND($A7="",$C7="",$D7="",$F7=""),"",IF($A7="","タスク名が未入力",IF($C7="","担当が未入力",IF(COUNTIF('集計を見る'!$A$25:$A$32,$C7)=0,"担当が一覧にない",IF($D7="","状態が未入力",IF($E7="","進捗率が未入力",IF(AND($D7="完了",$E7<>100),"完了なのに100%でない",IF(AND($E7=100,$D7<>"完了"),"100%なのに完了でない",IF(AND($D7="進行中",$E7=0),"進行中なのに0%",IF($F7="","期限が未入力",IF($J7="遅延","遅延（対応が必要）",IF(AND($G7="",$D7<>"完了"),"次の一手が空","OK"))))))))))))
I8: =IF($F8="","",$F8-$B$2) | J8: =IF(AND($A8="",$D8=""),"",IF($D8="完了","完了",IF($F8="","期限なし",IF($I8<0,"遅延",IF($I8<=$B$3,"まもなく期限","余裕あり"))))) | K8: =IF(OR($A8="",$D8="完了",$F8="",$E8=""),"",IF($I8<=0,"",ROUND((100-$E8)/$I8,0))) | L8: =IF($F8="","",TEXT($F8,"yyyy/mm")) | M8: =IF(AND($A8="",$C8="",$D8="",$F8=""),"",IF($A8="","タスク名が未入力",IF($C8="","担当が未入力",IF(COUNTIF('集計を見る'!$A$25:$A$32,$C8)=0,"担当が一覧にない",IF($D8="","状態が未入力",IF($E8="","進捗率が未入力",IF(AND($D8="完了",$E8<>100),"完了なのに100%でない",IF(AND($E8=100,$D8<>"完了"),"100%なのに完了でない",IF(AND($D8="進行中",$E8=0),"進行中なのに0%",IF($F8="","期限が未入力",IF($J8="遅延","遅延（対応が必要）",IF(AND($G8="",$D8<>"完了"),"次の一手が空","OK"))))))))))))
I9: =IF($F9="","",$F9-$B$2) | J9: =IF(AND($A9="",$D9=""),"",IF($D9="完了","完了",IF($F9="","期限なし",IF($I9<0,"遅延",IF($I9<=$B$3,"まもなく期限","余裕あり"))))) | K9: =IF(OR($A9="",$D9="完了",$F9="",$E9=""),"",IF($I9<=0,"",ROUND((100-$E9)/$I9,0))) | L9: =IF($F9="","",TEXT($F9,"yyyy/mm")) | M9: =IF(AND($A9="",$C9="",$D9="",$F9=""),"",IF($A9="","タスク名が未入力",IF($C9="","担当が未入力",IF(COUNTIF('集計を見る'!$A$25:$A$32,$C9)=0,"担当が一覧にない",IF($D9="","状態が未入力",IF($E9="","進捗率が未入力",IF(AND($D9="完了",$E9<>100),"完了なのに100%でない",IF(AND($E9=100,$D9<>"完了"),"100%なのに完了でない",IF(AND($D9="進行中",$E9=0),"進行中なのに0%",IF($F9="","期限が未入力",IF($J9="遅延","遅延（対応が必要）",IF(AND($G9="",$D9<>"完了"),"次の一手が空","OK"))))))))))))
I10: =IF($F10="","",$F10-$B$2) | J10: =IF(AND($A10="",$D10=""),"",IF($D10="完了","完了",IF($F10="","期限なし",IF($I10<0,"遅延",IF($I10<=$B$3,"まもなく期限","余裕あり"))))) | K10: =IF(OR($A10="",$D10="完了",$F10="",$E10=""),"",IF($I10<=0,"",ROUND((100-$E10)/$I10,0))) | L10: =IF($F10="","",TEXT($F10,"yyyy/mm")) | M10: =IF(AND($A10="",$C10="",$D10="",$F10=""),"",IF($A10="","タスク名が未入力",IF($C10="","担当が未入力",IF(COUNTIF('集計を見る'!$A$25:$A$32,$C10)=0,"担当が一覧にない",IF($D10="","状態が未入力",IF($E10="","進捗率が未入力",IF(AND($D10="完了",$E10<>100),"完了なのに100%でない",IF(AND($E10=100,$D10<>"完了"),"100%なのに完了でない",IF(AND($D10="進行中",$E10=0),"進行中なのに0%",IF($F10="","期限が未入力",IF($J10="遅延","遅延（対応が必要）",IF(AND($G10="",$D10<>"完了"),"次の一手が空","OK"))))))))))))
I11: =IF($F11="","",$F11-$B$2) | J11: =IF(AND($A11="",$D11=""),"",IF($D11="完了","完了",IF($F11="","期限なし",IF($I11<0,"遅延",IF($I11<=$B$3,"まもなく期限","余裕あり"))))) | K11: =IF(OR($A11="",$D11="完了",$F11="",$E11=""),"",IF($I11<=0,"",ROUND((100-$E11)/$I11,0))) | L11: =IF($F11="","",TEXT($F11,"yyyy/mm")) | M11: =IF(AND($A11="",$C11="",$D11="",$F11=""),"",IF($A11="","タスク名が未入力",IF($C11="","担当が未入力",IF(COUNTIF('集計を見る'!$A$25:$A$32,$C11)=0,"担当が一覧にない",IF($D11="","状態が未入力",IF($E11="","進捗率が未入力",IF(AND($D11="完了",$E11<>100),"完了なのに100%でない",IF(AND($E11=100,$D11<>"完了"),"100%なのに完了でない",IF(AND($D11="進行中",$E11=0),"進行中なのに0%",IF($F11="","期限が未入力",IF($J11="遅延","遅延（対応が必要）",IF(AND($G11="",$D11<>"完了"),"次の一手が空","OK"))))))))))))
I12: =IF($F12="","",$F12-$B$2) | J12: =IF(AND($A12="",$D12=""),"",IF($D12="完了","完了",IF($F12="","期限なし",IF($I12<0,"遅延",IF($I12<=$B$3,"まもなく期限","余裕あり"))))) | K12: =IF(OR($A12="",$D12="完了",$F12="",$E12=""),"",IF($I12<=0,"",ROUND((100-$E12)/$I12,0))) | L12: =IF($F12="","",TEXT($F12,"yyyy/mm")) | M12: =IF(AND($A12="",$C12="",$D12="",$F12=""),"",IF($A12="","タスク名が未入力",IF($C12="","担当が未入力",IF(COUNTIF('集計を見る'!$A$25:$A$32,$C12)=0,"担当が一覧にない",IF($D12="","状態が未入力",IF($E12="","進捗率が未入力",IF(AND($D12="完了",$E12<>100),"完了なのに100%でない",IF(AND($E12=100,$D12<>"完了"),"100%なのに完了でない",IF(AND($D12="進行中",$E12=0),"進行中なのに0%",IF($F12="","期限が未入力",IF($J12="遅延","遅延（対応が必要）",IF(AND($G12="",$D12<>"完了"),"次の一手が空","OK"))))))))))))
I13: =IF($F13="","",$F13-$B$2) | J13: =IF(AND($A13="",$D13=""),"",IF($D13="完了","完了",IF($F13="","期限なし",IF($I13<0,"遅延",IF($I13<=$B$3,"まもなく期限","余裕あり"))))) | K13: =IF(OR($A13="",$D13="完了",$F13="",$E13=""),"",IF($I13<=0,"",ROUND((100-$E13)/$I13,0))) | L13: =IF($F13="","",TEXT($F13,"yyyy/mm")) | M13: =IF(AND($A13="",$C13="",$D13="",$F13=""),"",IF($A13="","タスク名が未入力",IF($C13="","担当が未入力",IF(COUNTIF('集計を見る'!$A$25:$A$32,$C13)=0,"担当が一覧にない",IF($D13="","状態が未入力",IF($E13="","進捗率が未入力",IF(AND($D13="完了",$E13<>100),"完了なのに100%でない",IF(AND($E13=100,$D13<>"完了"),"100%なのに完了でない",IF(AND($D13="進行中",$E13=0),"進行中なのに0%",IF($F13="","期限が未入力",IF($J13="遅延","遅延（対応が必要）",IF(AND($G13="",$D13<>"完了"),"次の一手が空","OK"))))))))))))
I14: =IF($F14="","",$F14-$B$2) | J14: =IF(AND($A14="",$D14=""),"",IF($D14="完了","完了",IF($F14="","期限なし",IF($I14<0,"遅延",IF($I14<=$B$3,"まもなく期限","余裕あり"))))) | K14: =IF(OR($A14="",$D14="完了",$F14="",$E14=""),"",IF($I14<=0,"",ROUND((100-$E14)/$I14,0))) | L14: =IF($F14="","",TEXT($F14,"yyyy/mm")) | M14: =IF(AND($A14="",$C14="",$D14="",$F14=""),"",IF($A14="","タスク名が未入力",IF($C14="","担当が未入力",IF(COUNTIF('集計を見る'!$A$25:$A$32,$C14)=0,"担当が一覧にない",IF($D14="","状態が未入力",IF($E14="","進捗率が未入力",IF(AND($D14="完了",$E14<>100),"完了なのに100%でない",IF(AND($E14=100,$D14<>"完了"),"100%なのに完了でない",IF(AND($D14="進行中",$E14=0),"進行中なのに0%",IF($F14="","期限が未入力",IF($J14="遅延","遅延（対応が必要）",IF(AND($G14="",$D14<>"完了"),"次の一手が空","OK"))))))))))))
I15: =IF($F15="","",$F15-$B$2) | J15: =IF(AND($A15="",$D15=""),"",IF($D15="完了","完了",IF($F15="","期限なし",IF($I15<0,"遅延",IF($I15<=$B$3,"まもなく期限","余裕あり"))))) | K15: =IF(OR($A15="",$D15="完了",$F15="",$E15=""),"",IF($I15<=0,"",ROUND((100-$E15)/$I15,0))) | L15: =IF($F15="","",TEXT($F15,"yyyy/mm")) | M15: =IF(AND($A15="",$C15="",$D15="",$F15=""),"",IF($A15="","タスク名が未入力",IF($C15="","担当が未入力",IF(COUNTIF('集計を見る'!$A$25:$A$32,$C15)=0,"担当が一覧にない",IF($D15="","状態が未入力",IF($E15="","進捗率が未入力",IF(AND($D15="完了",$E15<>100),"完了なのに100%でない",IF(AND($E15=100,$D15<>"完了"),"100%なのに完了でない",IF(AND($D15="進行中",$E15=0),"進行中なのに0%",IF($F15="","期限が未入力",IF($J15="遅延","遅延（対応が必要）",IF(AND($G15="",$D15<>"完了"),"次の一手が空","OK"))))))))))))
I16: =IF($F16="","",$F16-$B$2) | J16: =IF(AND($A16="",$D16=""),"",IF($D16="完了","完了",IF($F16="","期限なし",IF($I16<0,"遅延",IF($I16<=$B$3,"まもなく期限","余裕あり"))))) | K16: =IF(OR($A16="",$D16="完了",$F16="",$E16=""),"",IF($I16<=0,"",ROUND((100-$E16)/$I16,0))) | L16: =IF($F16="","",TEXT($F16,"yyyy/mm")) | M16: =IF(AND($A16="",$C16="",$D16="",$F16=""),"",IF($A16="","タスク名が未入力",IF($C16="","担当が未入力",IF(COUNTIF('集計を見る'!$A$25:$A$32,$C16)=0,"担当が一覧にない",IF($D16="","状態が未入力",IF($E16="","進捗率が未入力",IF(AND($D16="完了",$E16<>100),"完了なのに100%でない",IF(AND($E16=100,$D16<>"完了"),"100%なのに完了でない",IF(AND($D16="進行中",$E16=0),"進行中なのに0%",IF($F16="","期限が未入力",IF($J16="遅延","遅延（対応が必要）",IF(AND($G16="",$D16<>"完了"),"次の一手が空","OK"))))))))))))
... I204: =IF($F204="","",$F204-$B$2) | J204: =IF(AND($A204="",$D204=""),"",IF($D204="完了","完了",IF($F204="","期限なし",IF($I204<0,"遅延",IF($I204<=$B$3,"まもなく期限","余裕あり"))))) | K204: =IF(OR($A204="",$D204="完了",$F204="",$E204=""),"",IF($I204<=0,"",ROUND((100-$E204)/$I204,0))) | L204: =IF($F204="","",TEXT($F204,"yyyy/mm")) | M204: =IF(AND($A204="",$C204="",$D204="",$F204=""),"",IF($A204="","タスク名が未入力",IF($C204="","担当が未入力",IF(COUNTIF('集計を見る'!$A$25:$A$32,$C204)=0,"担当が一覧にない",IF($D204="","状態が未入力",IF($E204="","進捗率が未入力",IF(AND($D204="完了",$E204<>100),"完了なのに100%でない",IF(AND($E204=100,$D204<>"完了"),"100%なのに完了でない",IF(AND($D204="進行中",$E204=0),"進行中なのに0%",IF($F204="","期限が未入力",IF($J204="遅延","遅延（対応が必要）",IF(AND($G204="",$D204<>"完了"),"次の一手が空","OK"))))))))))))

Sheet 集計を見る
A1: 進捗共有シート
A2: 「入力する」にタスク名・担当・状態・進捗率・期限を打つだけで、担当者べつの進みぐあい、遅れているタスク、月べつの推移が自動で出ます。
A3: 配布元: 副業ポートフォリオ https://satoru-log.jp
A5: 全体のまとめ（この数字を見せれば、進捗確認の会議はいりません）
A6: タスクの件数 | B6: =COUNTA('入力する'!$A$5:$A$204)
A7: 完了 | B7: =COUNTIF('入力する'!$D$5:$D$204,"完了")
A8: 進行中 | B8: =COUNTIF('入力する'!$D$5:$D$204,"進行中")
A9: 確認待ち | B9: =COUNTIF('入力する'!$D$5:$D$204,"確認待ち")
A10: 保留 | B10: =COUNTIF('入力する'!$D$5:$D$204,"保留")
A11: 未着手 | B11: =COUNTIF('入力する'!$D$5:$D$204,"未着手")
A12: 完了率 | B12: =IF($B$6=0,"",$B$7/$B$6)
A13: 全体の進捗率（平均） | B13: =IF(COUNT('入力する'!$E$5:$E$204)=0,"",ROUND(SUM('入力する'!$E$5:$E$204)/COUNT('入力する'!$E$5:$E$204),0))
A14: 遅延（期限ぎれ） | B14: =COUNTIF('入力する'!$J$5:$J$204,"遅延")
A15: まもなく期限（B3日以内） | B15: =COUNTIF('入力する'!$J$5:$J$204,"まもなく期限")
A16: 7日以内に期限がくる（未完了） | B16: =COUNTIFS('入力する'!$I$5:$I$204,">=0",'入力する'!$I$5:$I$204,"<=7",'入力する'!$D$5:$D$204,"<>完了")
A17: 期限が未設定 | B17: =COUNTIF('入力する'!$J$5:$J$204,"期限なし")
A18: 相談・共有ごとが書かれている | B18: =COUNTIF('入力する'!$H$5:$H$204,"?*")
A19: 次の一手が空のまま | B19: =COUNTIF('入力する'!$M$5:$M$204,"次の一手が空")
A20: 直したほうがよい行 | B20: =COUNTIF('入力する'!$M$5:$M$204,"タスク名が未入力")+COUNTIF('入力する'!$M$5:$M$204,"担当が未入力")+COUNTIF('入力する'!$M$5:$M$204,"担当が一覧にない")+COUNTIF('入力する'!$M$5:$M$204,"状態が未入力")+COUNTIF('入力する'!$M$5:$M$204,"進捗率が未入力")+COUNTIF('入力する'!$M$5:$M$204,"完了なのに100%でない")+COUNTIF('入力する'!$M$5:$M$204,"100%なのに完了でない")+COUNTIF('入力する'!$M$5:$M$204,"進行中なのに0%")+COUNTIF('入力する'!$M$5:$M$204,"期限が未入力")
A21: 基準日（「入力する」B2） | B21: ='入力する'!$B$2
A23: 担当者べつの進みぐあい（A列の名前は書きかえられます）
A24: 担当者（書きかえ可） | B24: 持っている件数 | C24: 完了 | D24: 未完了 | E24: 遅延 | F24: 平均の進捗率 | G24: 完了率 | H24: 構成比 | I24: 順位
A25: 自分 | B25: =IF($A25="","",COUNTIF('入力する'!$C$5:$C$204,$A25)) | C25: =IF($A25="","",COUNTIFS('入力する'!$C$5:$C$204,$A25,'入力する'!$D$5:$D$204,"完了")) | D25: =IF($A25="","",$B25-$C25) | E25: =IF($A25="","",COUNTIFS('入力する'!$C$5:$C$204,$A25,'入力する'!$J$5:$J$204,"遅延")) | F25: =IF(OR($A25="",$B25=0),"",ROUND(SUMIF('入力する'!$C$5:$C$204,$A25,'入力する'!$E$5:$E$204)/$B25,0)) | G25: =IF(OR($A25="",$B25=0),"",$C25/$B25) | H25: =IF(OR($A25="",$B$33=0),"",$B25/$B$33) | I25: =IF(OR($A25="",$B25=0),"",RANK($B25,$B$25:$B$32))
A26: メンバー2 | B26: =IF($A26="","",COUNTIF('入力する'!$C$5:$C$204,$A26)) | C26: =IF($A26="","",COUNTIFS('入力する'!$C$5:$C$204,$A26,'入力する'!$D$5:$D$204,"完了")) | D26: =IF($A26="","",$B26-$C26) | E26: =IF($A26="","",COUNTIFS('入力する'!$C$5:$C$204,$A26,'入力する'!$J$5:$J$204,"遅延")) | F26: =IF(OR($A26="",$B26=0),"",ROUND(SUMIF('入力する'!$C$5:$C$204,$A26,'入力する'!$E$5:$E$204)/$B26,0)) | G26: =IF(OR($A26="",$B26=0),"",$C26/$B26) | H26: =IF(OR($A26="",$B$33=0),"",$B26/$B$33) | I26: =IF(OR($A26="",$B26=0),"",RANK($B26,$B$25:$B$32))
A27: メンバー3 | B27: =IF($A27="","",COUNTIF('入力する'!$C$5:$C$204,$A27)) | C27: =IF($A27="","",COUNTIFS('入力する'!$C$5:$C$204,$A27,'入力する'!$D$5:$D$204,"完了")) | D27: =IF($A27="","",$B27-$C27) | E27: =IF($A27="","",COUNTIFS('入力する'!$C$5:$C$204,$A27,'入力する'!$J$5:$J$204,"遅延")) | F27: =IF(OR($A27="",$B27=0),"",ROUND(SUMIF('入力する'!$C$5:$C$204,$A27,'入力する'!$E$5:$E$204)/$B27,0)) | G27: =IF(OR($A27="",$B27=0),"",$C27/$B27) | H27: =IF(OR($A27="",$B$33=0),"",$B27/$B$33) | I27: =IF(OR($A27="",$B27=0),"",RANK($B27,$B$25:$B$32))
A28: メンバー4 | B28: =IF($A28="","",COUNTIF('入力する'!$C$5:$C$204,$A28)) | C28: =IF($A28="","",COUNTIFS('入力する'!$C$5:$C$204,$A28,'入力する'!$D$5:$D$204,"完了")) | D28: =IF($A28="","",$B28-$C28) | E28: =IF($A28="","",COUNTIFS('入力する'!$C$5:$C$204,$A28,'入力する'!$J$5:$J$204,"遅延")) | F28: =IF(OR($A28="",$B28=0),"",ROUND(SUMIF('入力する'!$C$5:$C$204,$A28,'入力する'!$E$5:$E$204)/$B28,0)) | G28: =IF(OR($A28="",$B28=0),"",$C28/$B28) | H28: =IF(OR($A28="",$B$33=0),"",$B28/$B$33) | I28: =IF(OR($A28="",$B28=0),"",RANK($B28,$B$25:$B$32))
A29: メンバー5 | B29: =IF($A29="","",COUNTIF('入力する'!$C$5:$C$204,$A29)) | C29: =IF($A29="","",COUNTIFS('入力する'!$C$5:$C$204,$A29,'入力する'!$D$5:$D$204,"完了")) | D29: =IF($A29="","",$B29-$C29) | E29: =IF($A29="","",COUNTIFS('入力する'!$C$5:$C$204,$A29,'入力する'!$J$5:$J$204,"遅延")) | F29: =IF(OR($A29="",$B29=0),"",ROUND(SUMIF('入力する'!$C$5:$C$204,$A29,'入力する'!$E$5:$E$204)/$B29,0)) | G29: =IF(OR($A29="",$B29=0),"",$C29/$B29) | H29: =IF(OR($A29="",$B$33=0),"",$B29/$B$33) | I29: =IF(OR($A29="",$B29=0),"",RANK($B29,$B$25:$B$32))
A30: メンバー6 | B30: =IF($A30="","",COUNTIF('入力する'!$C$5:$C$204,$A30)) | C30: =IF($A30="","",COUNTIFS('入力する'!$C$5:$C$204,$A30,'入力する'!$D$5:$D$204,"完了")) | D30: =IF($A30="","",$B30-$C30) | E30: =IF($A30="","",COUNTIFS('入力する'!$C$5:$C$204,$A30,'入力する'!$J$5:$J$204,"遅延")) | F30: =IF(OR($A30="",$B30=0),"",ROUND(SUMIF('入力する'!$C$5:$C$204,$A30,'入力する'!$E$5:$E$204)/$B30,0)) | G30: =IF(OR($A30="",$B30=0),"",$C30/$B30) | H30: =IF(OR($A30="",$B$33=0),"",$B30/$B$33) | I30: =IF(OR($A30="",$B30=0),"",RANK($B30,$B$25:$B$32))
A31: メンバー7 | B31: =IF($A31="","",COUNTIF('入力する'!$C$5:$C$204,$A31)) | C31: =IF($A31="","",COUNTIFS('入力する'!$C$5:$C$204,$A31,'入力する'!$D$5:$D$204,"完了")) | D31: =IF($A31="","",$B31-$C31) | E31: =IF($A31="","",COUNTIFS('入力する'!$C$5:$C$204,$A31,'入力する'!$J$5:$J$204,"遅延")) | F31: =IF(OR($A31="",$B31=0),"",ROUND(SUMIF('入力する'!$C$5:$C$204,$A31,'入力する'!$E$5:$E$204)/$B31,0)) | G31: =IF(OR($A31="",$B31=0),"",$C31/$B31) | H31: =IF(OR($A31="",$B$33=0),"",$B31/$B$33) | I31: =IF(OR($A31="",$B31=0),"",RANK($B31,$B$25:$B$32))
A32: メンバー8 | B32: =IF($A32="","",COUNTIF('入力する'!$C$5:$C$204,$A32)) | C32: =IF($A32="","",COUNTIFS('入力する'!$C$5:$C$204,$A32,'入力する'!$D$5:$D$204,"完了")) | D32: =IF($A32="","",$B32-$C32) | E32: =IF($A32="","",COUNTIFS('入力する'!$C$5:$C$204,$A32,'入力する'!$J$5:$J$204,"遅延")) | F32: =IF(OR($A32="",$B32=0),"",ROUND(SUMIF('入力する'!$C$5:$C$204,$A32,'入力する'!$E$5:$E$204)/$B32,0)) | G32: =IF(OR($A32="",$B32=0),"",$C32/$B32) | H32: =IF(OR($A32="",$B$33=0),"",$B32/$B$33) | I32: =IF(OR($A32="",$B32=0),"",RANK($B32,$B$25:$B$32))
A33: 合計 | B33: =SUM(B25:B32) | C33: =SUM(C25:C32) | D33: =SUM(D25:D32) | E33: =SUM(E25:E32) | G33: =IF($B$33=0,"",$C$33/$B$33) | H33: =IF($B$33=0,"",1)
A34: ※ うすい黄色の名前を書きかえると、「入力する」C列のプルダウンもいっしょに変わります。
A36: 区分べつの進みぐあい（何に時間を取られているか）
A37: 区分 | B37: 件数 | C37: 完了 | D37: 未完了 | E37: 遅延 | F37: 平均の進捗率 | G37: 完了率 | H37: 構成比 | I37: 順位
A38: 開発・制作 | B38: =COUNTIF('入力する'!$B$5:$B$204,$A38) | C38: =COUNTIFS('入力する'!$B$5:$B$204,$A38,'入力する'!$D$5:$D$204,"完了") | D38: =$B38-$C38 | E38: =COUNTIFS('入力する'!$B$5:$B$204,$A38,'入力する'!$J$5:$J$204,"遅延") | F38: =IF($B38=0,"",ROUND(SUMIF('入力する'!$B$5:$B$204,$A38,'入力する'!$E$5:$E$204)/$B38,0)) | G38: =IF($B38=0,"",$C38/$B38) | H38: =IF($B$47=0,"",$B38/$B$47) | I38: =IF($B38=0,"",RANK($B38,$B$38:$B$46))
A39: 資料作成 | B39: =COUNTIF('入力する'!$B$5:$B$204,$A39) | C39: =COUNTIFS('入力する'!$B$5:$B$204,$A39,'入力する'!$D$5:$D$204,"完了") | D39: =$B39-$C39 | E39: =COUNTIFS('入力する'!$B$5:$B$204,$A39,'入力する'!$J$5:$J$204,"遅延") | F39: =IF($B39=0,"",ROUND(SUMIF('入力する'!$B$5:$B$204,$A39,'入力する'!$E$5:$E$204)/$B39,0)) | G39: =IF($B39=0,"",$C39/$B39) | H39: =IF($B$47=0,"",$B39/$B$47) | I39: =IF($B39=0,"",RANK($B39,$B$38:$B$46))
A40: 営業・提案 | B40: =COUNTIF('入力する'!$B$5:$B$204,$A40) | C40: =COUNTIFS('入力する'!$B$5:$B$204,$A40,'入力する'!$D$5:$D$204,"完了") | D40: =$B40-$C40 | E40: =COUNTIFS('入力する'!$B$5:$B$204,$A40,'入力する'!$J$5:$J$204,"遅延") | F40: =IF($B40=0,"",ROUND(SUMIF('入力する'!$B$5:$B$204,$A40,'入力する'!$E$5:$E$204)/$B40,0)) | G40: =IF($B40=0,"",$C40/$B40) | H40: =IF($B$47=0,"",$B40/$B$47) | I40: =IF($B40=0,"",RANK($B40,$B$38:$B$46))
A41: 打合せ・調整 | B41: =COUNTIF('入力する'!$B$5:$B$204,$A41) | C41: =COUNTIFS('入力する'!$B$5:$B$204,$A41,'入力する'!$D$5:$D$204,"完了") | D41: =$B41-$C41 | E41: =COUNTIFS('入力する'!$B$5:$B$204,$A41,'入力する'!$J$5:$J$204,"遅延") | F41: =IF($B41=0,"",ROUND(SUMIF('入力する'!$B$5:$B$204,$A41,'入力する'!$E$5:$E$204)/$B41,0)) | G41: =IF($B41=0,"",$C41/$B41) | H41: =IF($B$47=0,"",$B41/$B$47) | I41: =IF($B41=0,"",RANK($B41,$B$38:$B$46))
A42: 事務・経理 | B42: =COUNTIF('入力する'!$B$5:$B$204,$A42) | C42: =COUNTIFS('入力する'!$B$5:$B$204,$A42,'入力する'!$D$5:$D$204,"完了") | D42: =$B42-$C42 | E42: =COUNTIFS('入力する'!$B$5:$B$204,$A42,'入力する'!$J$5:$J$204,"遅延") | F42: =IF($B42=0,"",ROUND(SUMIF('入力する'!$B$5:$B$204,$A42,'入力する'!$E$5:$E$204)/$B42,0)) | G42: =IF($B42=0,"",$C42/$B42) | H42: =IF($B$47=0,"",$B42/$B$47) | I42: =IF($B42=0,"",RANK($B42,$B$38:$B$46))
A43: 調査・検討 | B43: =COUNTIF('入力する'!$B$5:$B$204,$A43) | C43: =COUNTIFS('入力する'!$B$5:$B$204,$A43,'入力する'!$D$5:$D$204,"完了") | D43: =$B43-$C43 | E43: =COUNTIFS('入力する'!$B$5:$B$204,$A43,'入力する'!$J$5:$J$204,"遅延") | F43: =IF($B43=0,"",ROUND(SUMIF('入力する'!$B$5:$B$204,$A43,'入力する'!$E$5:$E$204)/$B43,0)) | G43: =IF($B43=0,"",$C43/$B43) | H43: =IF($B$47=0,"",$B43/$B$47) | I43: =IF($B43=0,"",RANK($B43,$B$38:$B$46))
A44: サポート・問い合わせ | B44: =COUNTIF('入力する'!$B$5:$B$204,$A44) | C44: =COUNTIFS('入力する'!$B$5:$B$204,$A44,'入力する'!$D$5:$D$204,"完了") | D44: =$B44-$C44 | E44: =COUNTIFS('入力する'!$B$5:$B$204,$A44,'入力する'!$J$5:$J$204,"遅延") | F44: =IF($B44=0,"",ROUND(SUMIF('入力する'!$B$5:$B$204,$A44,'入力する'!$E$5:$E$204)/$B44,0)) | G44: =IF($B44=0,"",$C44/$B44) | H44: =IF($B$47=0,"",$B44/$B$47) | I44: =IF($B44=0,"",RANK($B44,$B$38:$B$46))
A45: 改善・仕込み | B45: =COUNTIF('入力する'!$B$5:$B$204,$A45) | C45: =COUNTIFS('入力する'!$B$5:$B$204,$A45,'入力する'!$D$5:$D$204,"完了") | D45: =$B45-$C45 | E45: =COUNTIFS('入力する'!$B$5:$B$204,$A45,'入力する'!$J$5:$J$204,"遅延") | F45: =IF($B45=0,"",ROUND(SUMIF('入力する'!$B$5:$B$204,$A45,'入力する'!$E$5:$E$204)/$B45,0)) | G45: =IF($B45=0,"",$C45/$B45) | H45: =IF($B$47=0,"",$B45/$B$47) | I45: =IF($B45=0,"",RANK($B45,$B$38:$B$46))
A46: その他 | B46: =COUNTIF('入力する'!$B$5:$B$204,$A46) | C46: =COUNTIFS('入力する'!$B$5:$B$204,$A46,'入力する'!$D$5:$D$204,"完了") | D46: =$B46-$C46 | E46: =COUNTIFS('入力する'!$B$5:$B$204,$A46,'入力する'!$J$5:$J$204,"遅延") | F46: =IF($B46=0,"",ROUND(SUMIF('入力する'!$B$5:$B$204,$A46,'入力する'!$E$5:$E$204)/$B46,0)) | G46: =IF($B46=0,"",$C46/$B46) | H46: =IF($B$47=0,"",$B46/$B$47) | I46: =IF($B46=0,"",RANK($B46,$B$38:$B$46))
A47: 合計 | B47: =SUM(B38:B46) | C47: =SUM(C38:C46) | D47: =SUM(D38:D46) | E47: =SUM(E38:E46) | G47: =IF($B$47=0,"",$C$47/$B$47) | H47: =IF($B$47=0,"",1)
A49: 状態べつの内訳
A50: 状態 | B50: 件数 | C50: 構成比 | D50: 平均の進捗率 | E50: そのうち遅延
A51: 未着手 | B51: =COUNTIF('入力する'!$D$5:$D$204,$A51) | C51: =IF($B$6=0,"",$B51/$B$6) | D51: =IF($B51=0,"",ROUND(SUMIF('入力する'!$D$5:$D$204,$A51,'入力する'!$E$5:$E$204)/$B51,0)) | E51: =COUNTIFS('入力する'!$D$5:$D$204,$A51,'入力する'!$J$5:$J$204,"遅延")
A52: 進行中 | B52: =COUNTIF('入力する'!$D$5:$D$204,$A52) | C52: =IF($B$6=0,"",$B52/$B$6) | D52: =IF($B52=0,"",ROUND(SUMIF('入力する'!$D$5:$D$204,$A52,'入力する'!$E$5:$E$204)/$B52,0)) | E52: =COUNTIFS('入力する'!$D$5:$D$204,$A52,'入力する'!$J$5:$J$204,"遅延")
A53: 確認待ち | B53: =COUNTIF('入力する'!$D$5:$D$204,$A53) | C53: =IF($B$6=0,"",$B53/$B$6) | D53: =IF($B53=0,"",ROUND(SUMIF('入力する'!$D$5:$D$204,$A53,'入力する'!$E$5:$E$204)/$B53,0)) | E53: =COUNTIFS('入力する'!$D$5:$D$204,$A53,'入力する'!$J$5:$J$204,"遅延")
A54: 保留 | B54: =COUNTIF('入力する'!$D$5:$D$204,$A54) | C54: =IF($B$6=0,"",$B54/$B$6) | D54: =IF($B54=0,"",ROUND(SUMIF('入力する'!$D$5:$D$204,$A54,'入力する'!$E$5:$E$204)/$B54,0)) | E54: =COUNTIFS('入力する'!$D$5:$D$204,$A54,'入力する'!$J$5:$J$204,"遅延")
A55: 完了 | B55: =COUNTIF('入力する'!$D$5:$D$204,$A55) | C55: =IF($B$6=0,"",$B55/$B$6) | D55: =IF($B55=0,"",ROUND(SUMIF('入力する'!$D$5:$D$204,$A55,'入力する'!$E$5:$E$204)/$B55,0)) | E55: =COUNTIFS('入力する'!$D$5:$D$204,$A55,'入力する'!$J$5:$J$204,"遅延")
A57: 期限の状況べつ（いま手を打つ順番）
A58: 期限の状況 | B58: 件数 | C58: 構成比 | D58: 平均の進捗率
A59: 遅延 | B59: =COUNTIF('入力する'!$J$5:$J$204,$A59) | C59: =IF($B$6=0,"",$B59/$B$6) | D59: =IF($B59=0,"",ROUND(SUMIF('入力する'!$J$5:$J$204,$A59,'入力する'!$E$5:$E$204)/$B59,0))
A60: まもなく期限 | B60: =COUNTIF('入力する'!$J$5:$J$204,$A60) | C60: =IF($B$6=0,"",$B60/$B$6) | D60: =IF($B60=0,"",ROUND(SUMIF('入力する'!$J$5:$J$204,$A60,'入力する'!$E$5:$E$204)/$B60,0))
A61: 余裕あり | B61: =COUNTIF('入力する'!$J$5:$J$204,$A61) | C61: =IF($B$6=0,"",$B61/$B$6) | D61: =IF($B61=0,"",ROUND(SUMIF('入力する'!$J$5:$J$204,$A61,'入力する'!$E$5:$E$204)/$B61,0))
A62: 完了 | B62: =COUNTIF('入力する'!$J$5:$J$204,$A62) | C62: =IF($B$6=0,"",$B62/$B$6) | D62: =IF($B62=0,"",ROUND(SUMIF('入力する'!$J$5:$J$204,$A62,'入力する'!$E$5:$E$204)/$B62,0))
A63: 期限なし | B63: =COUNTIF('入力する'!$J$5:$J$204,$A63) | C63: =IF($B$6=0,"",$B63/$B$6) | D63: =IF($B63=0,"",ROUND(SUMIF('入力する'!$J$5:$J$204,$A63,'入力する'!$E$5:$E$204)/$B63,0))
A65: 期限の月べつ推移（「入力する」B1の年の12か月）
A66: 月 | B66: 期限がくる件数 | C66: 完了 | D66: 未完了 | E66: 遅延 | F66: 完了率
A67: =TEXT(DATE('入力する'!$B$1,1,1),"yyyy/mm") | B67: =COUNTIF('入力する'!$L$5:$L$204,$A67) | C67: =COUNTIFS('入力する'!$L$5:$L$204,$A67,'入力する'!$D$5:$D$204,"完了") | D67: =$B67-$C67 | E67: =COUNTIFS('入力する'!$L$5:$L$204,$A67,'入力する'!$J$5:$J$204,"遅延") | F67: =IF($B67=0,"",$C67/$B67)
A68: =TEXT(DATE('入力する'!$B$1,2,1),"yyyy/mm") | B68: =COUNTIF('入力する'!$L$5:$L$204,$A68) | C68: =COUNTIFS('入力する'!$L$5:$L$204,$A68,'入力する'!$D$5:$D$204,"完了") | D68: =$B68-$C68 | E68: =COUNTIFS('入力する'!$L$5:$L$204,$A68,'入力する'!$J$5:$J$204,"遅延") | F68: =IF($B68=0,"",$C68/$B68)
A69: =TEXT(DATE('入力する'!$B$1,3,1),"yyyy/mm") | B69: =COUNTIF('入力する'!$L$5:$L$204,$A69) | C69: =COUNTIFS('入力する'!$L$5:$L$204,$A69,'入力する'!$D$5:$D$204,"完了") | D69: =$B69-$C69 | E69: =COUNTIFS('入力する'!$L$5:$L$204,$A69,'入力する'!$J$5:$J$204,"遅延") | F69: =IF($B69=0,"",$C69/$B69)
A70: =TEXT(DATE('入力する'!$B$1,4,1),"yyyy/mm") | B70: =COUNTIF('入力する'!$L$5:$L$204,$A70) | C70: =COUNTIFS('入力する'!$L$5:$L$204,$A70,'入力する'!$D$5:$D$204,"完了") | D70: =$B70-$C70 | E70: =COUNTIFS('入力する'!$L$5:$L$204,$A70,'入力する'!$J$5:$J$204,"遅延") | F70: =IF($B70=0,"",$C70/$B70)
A71: =TEXT(DATE('入力する'!$B$1,5,1),"yyyy/mm") | B71: =COUNTIF('入力する'!$L$5:$L$204,$A71) | C71: =COUNTIFS('入力する'!$L$5:$L$204,$A71,'入力する'!$D$5:$D$204,"完了") | D71: =$B71-$C71 | E71: =COUNTIFS('入力する'!$L$5:$L$204,$A71,'入力する'!$J$5:$J$204,"遅延") | F71: =IF($B71=0,"",$C71/$B71)
A72: =TEXT(DATE('入力する'!$B$1,6,1),"yyyy/mm") | B72: =COUNTIF('入力する'!$L$5:$L$204,$A72) | C72: =COUNTIFS('入力する'!$L$5:$L$204,$A72,'入力する'!$D$5:$D$204,"完了") | D72: =$B72-$C72 | E72: =COUNTIFS('入力する'!$L$5:$L$204,$A72,'入力する'!$J$5:$J$204,"遅延") | F72: =IF($B72=0,"",$C72/$B72)
A73: =TEXT(DATE('入力する'!$B$1,7,1),"yyyy/mm") | B73: =COUNTIF('入力する'!$L$5:$L$204,$A73) | C73: =COUNTIFS('入力する'!$L$5:$L$204,$A73,'入力する'!$D$5:$D$204,"完了") | D73: =$B73-$C73 | E73: =COUNTIFS('入力する'!$L$5:$L$204,$A73,'入力する'!$J$5:$J$204,"遅延") | F73: =IF($B73=0,"",$C73/$B73)
A74: =TEXT(DATE('入力する'!$B$1,8,1),"yyyy/mm") | B74: =COUNTIF('入力する'!$L$5:$L$204,$A74) | C74: =COUNTIFS('入力する'!$L$5:$L$204,$A74,'入力する'!$D$5:$D$204,"完了") | D74: =$B74-$C74 | E74: =COUNTIFS('入力する'!$L$5:$L$204,$A74,'入力する'!$J$5:$J$204,"遅延") | F74: =IF($B74=0,"",$C74/$B74)
A75: =TEXT(DATE('入力する'!$B$1,9,1),"yyyy/mm") | B75: =COUNTIF('入力する'!$L$5:$L$204,$A75) | C75: =COUNTIFS('入力する'!$L$5:$L$204,$A75,'入力する'!$D$5:$D$204,"完了") | D75: =$B75-$C75 | E75: =COUNTIFS('入力する'!$L$5:$L$204,$A75,'入力する'!$J$5:$J$204,"遅延") | F75: =IF($B75=0,"",$C75/$B75)
A76: =TEXT(DATE('入力する'!$B$1,10,1),"yyyy/mm") | B76: =COUNTIF('入力する'!$L$5:$L$204,$A76) | C76: =COUNTIFS('入力する'!$L$5:$L$204,$A76,'入力する'!$D$5:$D$204,"完了") | D76: =$B76-$C76 | E76: =COUNTIFS('入力する'!$L$5:$L$204,$A76,'入力する'!$J$5:$J$204,"遅延") | F76: =IF($B76=0,"",$C76/$B76)
A77: =TEXT(DATE('入力する'!$B$1,11,1),"yyyy/mm") | B77: =COUNTIF('入力する'!$L$5:$L$204,$A77) | C77: =COUNTIFS('入力する'!$L$5:$L$204,$A77,'入力する'!$D$5:$D$204,"完了") | D77: =$B77-$C77 | E77: =COUNTIFS('入力する'!$L$5:$L$204,$A77,'入力する'!$J$5:$J$204,"遅延") | F77: =IF($B77=0,"",$C77/$B77)
A78: =TEXT(DATE('入力する'!$B$1,12,1),"yyyy/mm") | B78: =COUNTIF('入力する'!$L$5:$L$204,$A78) | C78: =COUNTIFS('入力する'!$L$5:$L$204,$A78,'入力する'!$D$5:$D$204,"完了") | D78: =$B78-$C78 | E78: =COUNTIFS('入力する'!$L$5:$L$204,$A78,'入力する'!$J$5:$J$204,"遅延") | F78: =IF($B78=0,"",$C78/$B78)
A79: 年の合計 | B79: =SUM(B67:B78) | C79: =SUM(C67:C78) | D79: =SUM(D67:D78) | E79: =SUM(E67:E78) | F79: =IF($B$79=0,"",$C$79/$B$79)
A80: ※ 月の並びは「入力する」B1の年から自動で作っています。年をまたぐときはB1を切りかえてください。
A82: 入力チェックの内訳
A83: チェックの内容 | B83: 件数 | C83: どうすればよいか
A84: タスク名が未入力 | B84: =COUNTIF('入力する'!$M$5:$M$204,"タスク名が未入力") | C84: 担当や状態だけ入っています。何をするのかを書いてください。
A85: 担当が未入力 | B85: =COUNTIF('入力する'!$M$5:$M$204,"担当が未入力") | C85: だれが持つ仕事かをプルダウンから選んでください。
A86: 担当が一覧にない | B86: =COUNTIF('入力する'!$M$5:$M$204,"担当が一覧にない") | C86: 「集計を見る」の担当者の名前とそろえると集計に入ります。
A87: 状態が未入力 | B87: =COUNTIF('入力する'!$M$5:$M$204,"状態が未入力") | C87: 未着手・進行中・確認待ち・保留・完了から選んでください。
A88: 進捗率が未入力 | B88: =COUNTIF('入力する'!$M$5:$M$204,"進捗率が未入力") | C88: 0〜100をプルダウンから選んでください。
A89: 完了なのに100%でない | B89: =COUNTIF('入力する'!$M$5:$M$204,"完了なのに100%でない") | C89: 状態が完了なら、進捗率も100にそろえます。
A90: 100%なのに完了でない | B90: =COUNTIF('入力する'!$M$5:$M$204,"100%なのに完了でない") | C90: 終わっているなら、状態を「完了」に変えます。
A91: 進行中なのに0% | B91: =COUNTIF('入力する'!$M$5:$M$204,"進行中なのに0%") | C91: 手をつけたなら進捗率を10以上に上げます。
A92: 期限が未入力 | B92: =COUNTIF('入力する'!$M$5:$M$204,"期限が未入力") | C92: 期限がないと遅れに気づけません。仮の日でも入れてください。
A93: 遅延（対応が必要） | B93: =COUNTIF('入力する'!$M$5:$M$204,"遅延（対応が必要）") | C93: 期限をすぎています。期限を引き直すか、相談欄に書いてください。
A94: 次の一手が空 | B94: =COUNTIF('入力する'!$M$5:$M$204,"次の一手が空") | C94: 「次にやること」が空だと、結局その場で聞かれます。一言でも入れます。
A95: OK | B95: =COUNTIF('入力する'!$M$5:$M$204,"OK") | C95: 問題は見つかりませんでした。
A97: このテンプレートは自由に使ってかまいません。改変・再配布も可です。
A98: 配布元: 副業ポートフォリオ https://satoru-log.jp

Sheet 使い方と注意
A1: 進捗共有シート｜使い方と注意
A3: このシートについて
A4: チームで動いている仕事を1枚にまとめて、進捗確認のための会議を減らすためのテンプレートです。
A5: 「入力する」に1行ずつ書いていくと、担当者べつの進みぐあい・遅れているタスク・
A6: 月べつの推移・入力もれのチェックまで、「集計を見る」に自動で出ます。
A8: 使い方（3ステップ）
A9: 1. 「集計を見る」の「担当者べつの進みぐあい」で、うすい黄色の名前を自分たちのメンバーに書きかえます。
A10: ここに書いた名前が、そのまま「入力する」C列のプルダウンになります。
A11: 2. 「入力する」の5行目から下に、タスク名・区分・担当・状態・進捗率・期限日を打ち込みます。
A12: 「次にやること」には次の一手を一言で、「相談・共有したいこと」には聞きたいことを書きます。
A13: 3. 「集計を見る」を開いて、そのまま画面共有します。会議はここで出た相談ごとだけにしぼれます。
A15: 色のきまり
... A62: 配布元: 副業ポートフォリオ https://satoru-log.jp
