Workbook

Sheet 入力する
A1: 起票日 | B1: 課題名 | C1: 分類 | D1: 優先度 | E1: 担当者 | F1: 期限 | G1: 状態 | H1: 完了日 | I1: 残日数 | J1: 期限判定 | K1: メモ
I2: =IF(OR($F2="",$G2="完了"),"",$F2-TODAY()) | J2: =IF($G2="完了","完了",IF($F2="","",IF($F2<TODAY(),"期限切れ",IF($F2=TODAY(),"本日",IF($F2<=TODAY()+3,"3日以内","余裕")))))
I3: =IF(OR($F3="",$G3="完了"),"",$F3-TODAY()) | J3: =IF($G3="完了","完了",IF($F3="","",IF($F3<TODAY(),"期限切れ",IF($F3=TODAY(),"本日",IF($F3<=TODAY()+3,"3日以内","余裕")))))
I4: =IF(OR($F4="",$G4="完了"),"",$F4-TODAY()) | J4: =IF($G4="完了","完了",IF($F4="","",IF($F4<TODAY(),"期限切れ",IF($F4=TODAY(),"本日",IF($F4<=TODAY()+3,"3日以内","余裕")))))
I5: =IF(OR($F5="",$G5="完了"),"",$F5-TODAY()) | J5: =IF($G5="完了","完了",IF($F5="","",IF($F5<TODAY(),"期限切れ",IF($F5=TODAY(),"本日",IF($F5<=TODAY()+3,"3日以内","余裕")))))
I6: =IF(OR($F6="",$G6="完了"),"",$F6-TODAY()) | J6: =IF($G6="完了","完了",IF($F6="","",IF($F6<TODAY(),"期限切れ",IF($F6=TODAY(),"本日",IF($F6<=TODAY()+3,"3日以内","余裕")))))
I7: =IF(OR($F7="",$G7="完了"),"",$F7-TODAY()) | J7: =IF($G7="完了","完了",IF($F7="","",IF($F7<TODAY(),"期限切れ",IF($F7=TODAY(),"本日",IF($F7<=TODAY()+3,"3日以内","余裕")))))
I8: =IF(OR($F8="",$G8="完了"),"",$F8-TODAY()) | J8: =IF($G8="完了","完了",IF($F8="","",IF($F8<TODAY(),"期限切れ",IF($F8=TODAY(),"本日",IF($F8<=TODAY()+3,"3日以内","余裕")))))
I9: =IF(OR($F9="",$G9="完了"),"",$F9-TODAY()) | J9: =IF($G9="完了","完了",IF($F9="","",IF($F9<TODAY(),"期限切れ",IF($F9=TODAY(),"本日",IF($F9<=TODAY()+3,"3日以内","余裕")))))
I10: =IF(OR($F10="",$G10="完了"),"",$F10-TODAY()) | J10: =IF($G10="完了","完了",IF($F10="","",IF($F10<TODAY(),"期限切れ",IF($F10=TODAY(),"本日",IF($F10<=TODAY()+3,"3日以内","余裕")))))
I11: =IF(OR($F11="",$G11="完了"),"",$F11-TODAY()) | J11: =IF($G11="完了","完了",IF($F11="","",IF($F11<TODAY(),"期限切れ",IF($F11=TODAY(),"本日",IF($F11<=TODAY()+3,"3日以内","余裕")))))
I12: =IF(OR($F12="",$G12="完了"),"",$F12-TODAY()) | J12: =IF($G12="完了","完了",IF($F12="","",IF($F12<TODAY(),"期限切れ",IF($F12=TODAY(),"本日",IF($F12<=TODAY()+3,"3日以内","余裕")))))
I13: =IF(OR($F13="",$G13="完了"),"",$F13-TODAY()) | J13: =IF($G13="完了","完了",IF($F13="","",IF($F13<TODAY(),"期限切れ",IF($F13=TODAY(),"本日",IF($F13<=TODAY()+3,"3日以内","余裕")))))
... I201: =IF(OR($F201="",$G201="完了"),"",$F201-TODAY()) | J201: =IF($G201="完了","完了",IF($F201="","",IF($F201<TODAY(),"期限切れ",IF($F201=TODAY(),"本日",IF($F201<=TODAY()+3,"3日以内","余裕")))))

Sheet 集計を見る
A1: 課題管理表
A2: このテンプレートは自由に使ってかまいません。改変・再配布も可です。
A3: 配布元: 副業ポートフォリオ https://satoru-log.jp
A5: 全体サマリー（自動計算）
A6: 課題の総件数 | B6: =COUNTA('入力する'!$B$2:$B$201)
A7: 完了した件数 | B7: =COUNTIF('入力する'!$G$2:$G$201,"完了")
A8: 未完了の件数 | B8: =B6-B7
A9: 完了率 | B9: =IF($B$6=0,0,B7/$B$6)
A10: 期限切れの件数 | B10: =COUNTIF('入力する'!$J$2:$J$201,"期限切れ")
A11: 期限が近い件数（本日〜3日以内） | B11: =COUNTIF('入力する'!$J$2:$J$201,"本日")+COUNTIF('入力する'!$J$2:$J$201,"3日以内")
A12: 優先度「高」の未完了件数 | B12: =COUNTIFS('入力する'!$D$2:$D$201,"高",'入力する'!$G$2:$G$201,"<>完了")
A13: 今日の日付 | B13: =TODAY()
A15: 状態別の件数と構成比
A16: 状態 | B16: 件数 | C16: 構成比
A17: 未着手 | B17: =COUNTIF('入力する'!$G$2:$G$201,$A17) | C17: =IF($B$6=0,0,B17/$B$6)
A18: 対応中 | B18: =COUNTIF('入力する'!$G$2:$G$201,$A18) | C18: =IF($B$6=0,0,B18/$B$6)
A19: 確認待ち | B19: =COUNTIF('入力する'!$G$2:$G$201,$A19) | C19: =IF($B$6=0,0,B19/$B$6)
A20: 保留 | B20: =COUNTIF('入力する'!$G$2:$G$201,$A20) | C20: =IF($B$6=0,0,B20/$B$6)
A21: 完了 | B21: =COUNTIF('入力する'!$G$2:$G$201,$A21) | C21: =IF($B$6=0,0,B21/$B$6)
A23: 優先度別の件数（未完了・期限切れも）
A24: 優先度 | B24: 件数 | C24: 未完了 | D24: 期限切れ
A25: 高 | B25: =COUNTIF('入力する'!$D$2:$D$201,$A25) | C25: =COUNTIFS('入力する'!$D$2:$D$201,$A25,'入力する'!$G$2:$G$201,"<>完了") | D25: =COUNTIFS('入力する'!$D$2:$D$201,$A25,'入力する'!$J$2:$J$201,"期限切れ")
A26: 中 | B26: =COUNTIF('入力する'!$D$2:$D$201,$A26) | C26: =COUNTIFS('入力する'!$D$2:$D$201,$A26,'入力する'!$G$2:$G$201,"<>完了") | D26: =COUNTIFS('入力する'!$D$2:$D$201,$A26,'入力する'!$J$2:$J$201,"期限切れ")
A27: 低 | B27: =COUNTIF('入力する'!$D$2:$D$201,$A27) | C27: =COUNTIFS('入力する'!$D$2:$D$201,$A27,'入力する'!$G$2:$G$201,"<>完了") | D27: =COUNTIFS('入力する'!$D$2:$D$201,$A27,'入力する'!$J$2:$J$201,"期限切れ")
A29: 分類別の件数
A30: 分類 | B30: 件数 | C30: 未完了 | D30: 構成比
A31: 仕様 | B31: =COUNTIF('入力する'!$C$2:$C$201,$A31) | C31: =COUNTIFS('入力する'!$C$2:$C$201,$A31,'入力する'!$G$2:$G$201,"<>完了") | D31: =IF($B$6=0,0,B31/$B$6)
A32: 不具合 | B32: =COUNTIF('入力する'!$C$2:$C$201,$A32) | C32: =COUNTIFS('入力する'!$C$2:$C$201,$A32,'入力する'!$G$2:$G$201,"<>完了") | D32: =IF($B$6=0,0,B32/$B$6)
A33: 調整 | B33: =COUNTIF('入力する'!$C$2:$C$201,$A33) | C33: =COUNTIFS('入力する'!$C$2:$C$201,$A33,'入力する'!$G$2:$G$201,"<>完了") | D33: =IF($B$6=0,0,B33/$B$6)
A34: 確認 | B34: =COUNTIF('入力する'!$C$2:$C$201,$A34) | C34: =COUNTIFS('入力する'!$C$2:$C$201,$A34,'入力する'!$G$2:$G$201,"<>完了") | D34: =IF($B$6=0,0,B34/$B$6)
A35: その他 | B35: =COUNTIF('入力する'!$C$2:$C$201,$A35) | C35: =COUNTIFS('入力する'!$C$2:$C$201,$A35,'入力する'!$G$2:$G$201,"<>完了") | D35: =IF($B$6=0,0,B35/$B$6)
A37: 担当者別の状況（担当者名は薄い黄色のセルに入力）
A38: 担当者 | B38: 件数 | C38: 未完了 | D38: 期限切れ | E38: 未完了の多い順
B39: =IF($A39="",0,COUNTIF('入力する'!$E$2:$E$201,$A39)) | C39: =IF($A39="",0,COUNTIFS('入力する'!$E$2:$E$201,$A39,'入力する'!$G$2:$G$201,"<>完了")) | D39: =IF($A39="",0,COUNTIFS('入力する'!$E$2:$E$201,$A39,'入力する'!$J$2:$J$201,"期限切れ")) | E39: =IF($A39="","",RANK(C39,$C$39:$C$46))
B40: =IF($A40="",0,COUNTIF('入力する'!$E$2:$E$201,$A40)) | C40: =IF($A40="",0,COUNTIFS('入力する'!$E$2:$E$201,$A40,'入力する'!$G$2:$G$201,"<>完了")) | D40: =IF($A40="",0,COUNTIFS('入力する'!$E$2:$E$201,$A40,'入力する'!$J$2:$J$201,"期限切れ")) | E40: =IF($A40="","",RANK(C40,$C$39:$C$46))
B41: =IF($A41="",0,COUNTIF('入力する'!$E$2:$E$201,$A41)) | C41: =IF($A41="",0,COUNTIFS('入力する'!$E$2:$E$201,$A41,'入力する'!$G$2:$G$201,"<>完了")) | D41: =IF($A41="",0,COUNTIFS('入力する'!$E$2:$E$201,$A41,'入力する'!$J$2:$J$201,"期限切れ")) | E41: =IF($A41="","",RANK(C41,$C$39:$C$46))
B42: =IF($A42="",0,COUNTIF('入力する'!$E$2:$E$201,$A42)) | C42: =IF($A42="",0,COUNTIFS('入力する'!$E$2:$E$201,$A42,'入力する'!$G$2:$G$201,"<>完了")) | D42: =IF($A42="",0,COUNTIFS('入力する'!$E$2:$E$201,$A42,'入力する'!$J$2:$J$201,"期限切れ")) | E42: =IF($A42="","",RANK(C42,$C$39:$C$46))
B43: =IF($A43="",0,COUNTIF('入力する'!$E$2:$E$201,$A43)) | C43: =IF($A43="",0,COUNTIFS('入力する'!$E$2:$E$201,$A43,'入力する'!$G$2:$G$201,"<>完了")) | D43: =IF($A43="",0,COUNTIFS('入力する'!$E$2:$E$201,$A43,'入力する'!$J$2:$J$201,"期限切れ")) | E43: =IF($A43="","",RANK(C43,$C$39:$C$46))
B44: =IF($A44="",0,COUNTIF('入力する'!$E$2:$E$201,$A44)) | C44: =IF($A44="",0,COUNTIFS('入力する'!$E$2:$E$201,$A44,'入力する'!$G$2:$G$201,"<>完了")) | D44: =IF($A44="",0,COUNTIFS('入力する'!$E$2:$E$201,$A44,'入力する'!$J$2:$J$201,"期限切れ")) | E44: =IF($A44="","",RANK(C44,$C$39:$C$46))
B45: =IF($A45="",0,COUNTIF('入力する'!$E$2:$E$201,$A45)) | C45: =IF($A45="",0,COUNTIFS('入力する'!$E$2:$E$201,$A45,'入力する'!$G$2:$G$201,"<>完了")) | D45: =IF($A45="",0,COUNTIFS('入力する'!$E$2:$E$201,$A45,'入力する'!$J$2:$J$201,"期限切れ")) | E45: =IF($A45="","",RANK(C45,$C$39:$C$46))
...

Sheet 使い方と注意
A1: 課題管理表の使い方
A2: 「入力する」シートに1行1課題で書き足していくだけで、「集計を見る」シートの数字とグラフが自動で更新されます。
A3: 1. 入力する（薄い黄色のセルだけ埋めます）
A4: A列 起票日 … 課題に気づいた日を入れます（例: 2026/9/1）。
A5: B列 課題名 … 「何が」「どうなっている」かを一行で。あとで探しやすい言葉にします。
A6: C列 分類 … プルダウンから選びます（仕様／不具合／調整／確認／その他）。
A7: D列 優先度 … プルダウンから 高・中・低 を選びます。迷ったら中にしておきます。
A8: E列 担当者 … 名前の表記をそろえると集計がきれいに出ます（例: 佐藤 千尋）。
A9: F列 期限 … 対応を終えたい日を入れます。ここが空だと期限の判定は出ません。
A10: G列 状態 … 未着手／対応中／確認待ち／保留／完了 から選びます。
A11: H列 完了日 … 終わった日を入れます。月ごとの完了件数の集計に使います。
A12: K列 メモ … 経緯や決まったことを短く残します。
... A26: 配布元: 副業ポートフォリオ https://satoru-log.jp
