Workbook

Sheet 入力する
A1: 大分類 | B1: タスク名 | C1: 担当 | D1: 開始日 | E1: 期限 | F1: 予定工数(h) | G1: 進捗率(%) | H1: 状態（自動） | I1: 残工数(h)（自動） | J1: 期間(日)（自動） | K1: 期限まで(日)（自動） | L1: 判定（自動）
H2: =IF($B2="","",IF($G2>=100,"完了",IF($G2>0,"進行中","未着手"))) | I2: =IF($B2="","",ROUND($F2*(1-$G2/100),1)) | J2: =IF(OR($D2="",$E2=""),"",$E2-$D2+1) | K2: =IF(OR($B2="",$E2=""),"",$E2-TODAY()) | L2: =IF($B2="","",IF($G2>=100,"完了",IF($E2="","",IF($E2<TODAY(),"遅延",IF($E2-TODAY()<=3,"まもなく","")))))
H3: =IF($B3="","",IF($G3>=100,"完了",IF($G3>0,"進行中","未着手"))) | I3: =IF($B3="","",ROUND($F3*(1-$G3/100),1)) | J3: =IF(OR($D3="",$E3=""),"",$E3-$D3+1) | K3: =IF(OR($B3="",$E3=""),"",$E3-TODAY()) | L3: =IF($B3="","",IF($G3>=100,"完了",IF($E3="","",IF($E3<TODAY(),"遅延",IF($E3-TODAY()<=3,"まもなく","")))))
H4: =IF($B4="","",IF($G4>=100,"完了",IF($G4>0,"進行中","未着手"))) | I4: =IF($B4="","",ROUND($F4*(1-$G4/100),1)) | J4: =IF(OR($D4="",$E4=""),"",$E4-$D4+1) | K4: =IF(OR($B4="",$E4=""),"",$E4-TODAY()) | L4: =IF($B4="","",IF($G4>=100,"完了",IF($E4="","",IF($E4<TODAY(),"遅延",IF($E4-TODAY()<=3,"まもなく","")))))
H5: =IF($B5="","",IF($G5>=100,"完了",IF($G5>0,"進行中","未着手"))) | I5: =IF($B5="","",ROUND($F5*(1-$G5/100),1)) | J5: =IF(OR($D5="",$E5=""),"",$E5-$D5+1) | K5: =IF(OR($B5="",$E5=""),"",$E5-TODAY()) | L5: =IF($B5="","",IF($G5>=100,"完了",IF($E5="","",IF($E5<TODAY(),"遅延",IF($E5-TODAY()<=3,"まもなく","")))))
H6: =IF($B6="","",IF($G6>=100,"完了",IF($G6>0,"進行中","未着手"))) | I6: =IF($B6="","",ROUND($F6*(1-$G6/100),1)) | J6: =IF(OR($D6="",$E6=""),"",$E6-$D6+1) | K6: =IF(OR($B6="",$E6=""),"",$E6-TODAY()) | L6: =IF($B6="","",IF($G6>=100,"完了",IF($E6="","",IF($E6<TODAY(),"遅延",IF($E6-TODAY()<=3,"まもなく","")))))
H7: =IF($B7="","",IF($G7>=100,"完了",IF($G7>0,"進行中","未着手"))) | I7: =IF($B7="","",ROUND($F7*(1-$G7/100),1)) | J7: =IF(OR($D7="",$E7=""),"",$E7-$D7+1) | K7: =IF(OR($B7="",$E7=""),"",$E7-TODAY()) | L7: =IF($B7="","",IF($G7>=100,"完了",IF($E7="","",IF($E7<TODAY(),"遅延",IF($E7-TODAY()<=3,"まもなく","")))))
H8: =IF($B8="","",IF($G8>=100,"完了",IF($G8>0,"進行中","未着手"))) | I8: =IF($B8="","",ROUND($F8*(1-$G8/100),1)) | J8: =IF(OR($D8="",$E8=""),"",$E8-$D8+1) | K8: =IF(OR($B8="",$E8=""),"",$E8-TODAY()) | L8: =IF($B8="","",IF($G8>=100,"完了",IF($E8="","",IF($E8<TODAY(),"遅延",IF($E8-TODAY()<=3,"まもなく","")))))
H9: =IF($B9="","",IF($G9>=100,"完了",IF($G9>0,"進行中","未着手"))) | I9: =IF($B9="","",ROUND($F9*(1-$G9/100),1)) | J9: =IF(OR($D9="",$E9=""),"",$E9-$D9+1) | K9: =IF(OR($B9="",$E9=""),"",$E9-TODAY()) | L9: =IF($B9="","",IF($G9>=100,"完了",IF($E9="","",IF($E9<TODAY(),"遅延",IF($E9-TODAY()<=3,"まもなく","")))))
H10: =IF($B10="","",IF($G10>=100,"完了",IF($G10>0,"進行中","未着手"))) | I10: =IF($B10="","",ROUND($F10*(1-$G10/100),1)) | J10: =IF(OR($D10="",$E10=""),"",$E10-$D10+1) | K10: =IF(OR($B10="",$E10=""),"",$E10-TODAY()) | L10: =IF($B10="","",IF($G10>=100,"完了",IF($E10="","",IF($E10<TODAY(),"遅延",IF($E10-TODAY()<=3,"まもなく","")))))
H11: =IF($B11="","",IF($G11>=100,"完了",IF($G11>0,"進行中","未着手"))) | I11: =IF($B11="","",ROUND($F11*(1-$G11/100),1)) | J11: =IF(OR($D11="",$E11=""),"",$E11-$D11+1) | K11: =IF(OR($B11="",$E11=""),"",$E11-TODAY()) | L11: =IF($B11="","",IF($G11>=100,"完了",IF($E11="","",IF($E11<TODAY(),"遅延",IF($E11-TODAY()<=3,"まもなく","")))))
H12: =IF($B12="","",IF($G12>=100,"完了",IF($G12>0,"進行中","未着手"))) | I12: =IF($B12="","",ROUND($F12*(1-$G12/100),1)) | J12: =IF(OR($D12="",$E12=""),"",$E12-$D12+1) | K12: =IF(OR($B12="",$E12=""),"",$E12-TODAY()) | L12: =IF($B12="","",IF($G12>=100,"完了",IF($E12="","",IF($E12<TODAY(),"遅延",IF($E12-TODAY()<=3,"まもなく","")))))
H13: =IF($B13="","",IF($G13>=100,"完了",IF($G13>0,"進行中","未着手"))) | I13: =IF($B13="","",ROUND($F13*(1-$G13/100),1)) | J13: =IF(OR($D13="",$E13=""),"",$E13-$D13+1) | K13: =IF(OR($B13="",$E13=""),"",$E13-TODAY()) | L13: =IF($B13="","",IF($G13>=100,"完了",IF($E13="","",IF($E13<TODAY(),"遅延",IF($E13-TODAY()<=3,"まもなく","")))))
... H201: =IF($B201="","",IF($G201>=100,"完了",IF($G201>0,"進行中","未着手"))) | I201: =IF($B201="","",ROUND($F201*(1-$G201/100),1)) | J201: =IF(OR($D201="",$E201=""),"",$E201-$D201+1) | K201: =IF(OR($B201="",$E201=""),"",$E201-TODAY()) | L201: =IF($B201="","",IF($G201>=100,"完了",IF($E201="","",IF($E201<TODAY(),"遅延",IF($E201-TODAY()<=3,"まもなく","")))))

Sheet 集計を見る
A1: WBSテンプレ
A2: 「入力する」に打ち込むだけで、下の集計とグラフがぜんぶ自動で動きます。
A4: プロジェクト名
A5: 目標総工数（h） | C5: ← 薄い黄色は手入力です
A7: 全体サマリー
A8: 総タスク数 | B8: =COUNTIF('入力する'!$B$2:$B$201,"?*") | D8: 予定工数の合計（h） | E8: =SUM('入力する'!$F$2:$F$201)
A9: 完了 | B9: =COUNTIF('入力する'!$H$2:$H$201,"完了") | D9: 残工数の合計（h） | E9: =SUM('入力する'!$I$2:$I$201)
A10: 進行中 | B10: =COUNTIF('入力する'!$H$2:$H$201,"進行中") | D10: 全体の進捗率（工数ベース） | E10: =IF($E$8=0,0,1-$E$9/$E$8)
A11: 未着手 | B11: =COUNTIF('入力する'!$H$2:$H$201,"未着手") | D11: 完了率（件数ベース） | E11: =IF($B$8=0,0,$B$9/$B$8)
A12: 遅延（期限ぎれ） | B12: =COUNTIF('入力する'!$L$2:$L$201,"遅延") | D12: 目標総工数との差（h） | E12: =IF($B$5="","",$E$8-$B$5)
A13: まもなく期限（3日以内） | B13: =COUNTIF('入力する'!$L$2:$L$201,"まもなく") | D13: 遅延タスクの残工数（h） | E13: =SUMIF('入力する'!$L$2:$L$201,"遅延",'入力する'!$I$2:$I$201)
A15: 大分類別の集計（構成比・順位つき）
A16: 大分類 | B16: タスク数 | C16: 予定工数(h) | D16: 残工数(h) | E16: 完了件数 | F16: 進捗率 | G16: 構成比 | H16: 残工数の順位
A17: 企画 | B17: =COUNTIF('入力する'!$A$2:$A$201,$A17) | C17: =SUMIF('入力する'!$A$2:$A$201,$A17,'入力する'!$F$2:$F$201) | D17: =SUMIF('入力する'!$A$2:$A$201,$A17,'入力する'!$I$2:$I$201) | E17: =COUNTIFS('入力する'!$A$2:$A$201,$A17,'入力する'!$H$2:$H$201,"完了") | F17: =IF(C17=0,0,1-D17/C17) | G17: =IF($C$24=0,0,C17/$C$24) | H17: =IF(C17=0,"",RANK(D17,$D$17:$D$23))
A18: 要件定義 | B18: =COUNTIF('入力する'!$A$2:$A$201,$A18) | C18: =SUMIF('入力する'!$A$2:$A$201,$A18,'入力する'!$F$2:$F$201) | D18: =SUMIF('入力する'!$A$2:$A$201,$A18,'入力する'!$I$2:$I$201) | E18: =COUNTIFS('入力する'!$A$2:$A$201,$A18,'入力する'!$H$2:$H$201,"完了") | F18: =IF(C18=0,0,1-D18/C18) | G18: =IF($C$24=0,0,C18/$C$24) | H18: =IF(C18=0,"",RANK(D18,$D$17:$D$23))
A19: 設計 | B19: =COUNTIF('入力する'!$A$2:$A$201,$A19) | C19: =SUMIF('入力する'!$A$2:$A$201,$A19,'入力する'!$F$2:$F$201) | D19: =SUMIF('入力する'!$A$2:$A$201,$A19,'入力する'!$I$2:$I$201) | E19: =COUNTIFS('入力する'!$A$2:$A$201,$A19,'入力する'!$H$2:$H$201,"完了") | F19: =IF(C19=0,0,1-D19/C19) | G19: =IF($C$24=0,0,C19/$C$24) | H19: =IF(C19=0,"",RANK(D19,$D$17:$D$23))
A20: 開発 | B20: =COUNTIF('入力する'!$A$2:$A$201,$A20) | C20: =SUMIF('入力する'!$A$2:$A$201,$A20,'入力する'!$F$2:$F$201) | D20: =SUMIF('入力する'!$A$2:$A$201,$A20,'入力する'!$I$2:$I$201) | E20: =COUNTIFS('入力する'!$A$2:$A$201,$A20,'入力する'!$H$2:$H$201,"完了") | F20: =IF(C20=0,0,1-D20/C20) | G20: =IF($C$24=0,0,C20/$C$24) | H20: =IF(C20=0,"",RANK(D20,$D$17:$D$23))
A21: テスト | B21: =COUNTIF('入力する'!$A$2:$A$201,$A21) | C21: =SUMIF('入力する'!$A$2:$A$201,$A21,'入力する'!$F$2:$F$201) | D21: =SUMIF('入力する'!$A$2:$A$201,$A21,'入力する'!$I$2:$I$201) | E21: =COUNTIFS('入力する'!$A$2:$A$201,$A21,'入力する'!$H$2:$H$201,"完了") | F21: =IF(C21=0,0,1-D21/C21) | G21: =IF($C$24=0,0,C21/$C$24) | H21: =IF(C21=0,"",RANK(D21,$D$17:$D$23))
A22: リリース | B22: =COUNTIF('入力する'!$A$2:$A$201,$A22) | C22: =SUMIF('入力する'!$A$2:$A$201,$A22,'入力する'!$F$2:$F$201) | D22: =SUMIF('入力する'!$A$2:$A$201,$A22,'入力する'!$I$2:$I$201) | E22: =COUNTIFS('入力する'!$A$2:$A$201,$A22,'入力する'!$H$2:$H$201,"完了") | F22: =IF(C22=0,0,1-D22/C22) | G22: =IF($C$24=0,0,C22/$C$24) | H22: =IF(C22=0,"",RANK(D22,$D$17:$D$23))
A23: 運用 | B23: =COUNTIF('入力する'!$A$2:$A$201,$A23) | C23: =SUMIF('入力する'!$A$2:$A$201,$A23,'入力する'!$F$2:$F$201) | D23: =SUMIF('入力する'!$A$2:$A$201,$A23,'入力する'!$I$2:$I$201) | E23: =COUNTIFS('入力する'!$A$2:$A$201,$A23,'入力する'!$H$2:$H$201,"完了") | F23: =IF(C23=0,0,1-D23/C23) | G23: =IF($C$24=0,0,C23/$C$24) | H23: =IF(C23=0,"",RANK(D23,$D$17:$D$23))
A24: 合計 | B24: =SUM(B17:B23) | C24: =SUM(C17:C23) | D24: =SUM(D17:D23) | E24: =SUM(E17:E23) | F24: =IF(C24=0,0,1-D24/C24) | G24: =IF(C24=0,0,SUM(G17:G23))
A26: 担当別の集計（担当名は手入力＝薄い黄色。入力シートのプルダウンにも出ます）
A27: 担当 | B27: タスク数 | C27: 予定工数(h) | D27: 残工数(h) | E27: 完了件数 | F27: 進捗率 | G27: 遅延件数 | H27: 残工数の順位
B28: =IF($A28="","",COUNTIF('入力する'!$C$2:$C$201,$A28)) | C28: =IF($A28="","",SUMIF('入力する'!$C$2:$C$201,$A28,'入力する'!$F$2:$F$201)) | D28: =IF($A28="","",SUMIF('入力する'!$C$2:$C$201,$A28,'入力する'!$I$2:$I$201)) | E28: =IF($A28="","",COUNTIFS('入力する'!$C$2:$C$201,$A28,'入力する'!$H$2:$H$201,"完了")) | F28: =IF($A28="","",IF(C28=0,0,1-D28/C28)) | G28: =IF($A28="","",COUNTIFS('入力する'!$C$2:$C$201,$A28,'入力する'!$L$2:$L$201,"遅延")) | H28: =IF($A28="","",RANK(D28,$D$28:$D$33))
B29: =IF($A29="","",COUNTIF('入力する'!$C$2:$C$201,$A29)) | C29: =IF($A29="","",SUMIF('入力する'!$C$2:$C$201,$A29,'入力する'!$F$2:$F$201)) | D29: =IF($A29="","",SUMIF('入力する'!$C$2:$C$201,$A29,'入力する'!$I$2:$I$201)) | E29: =IF($A29="","",COUNTIFS('入力する'!$C$2:$C$201,$A29,'入力する'!$H$2:$H$201,"完了")) | F29: =IF($A29="","",IF(C29=0,0,1-D29/C29)) | G29: =IF($A29="","",COUNTIFS('入力する'!$C$2:$C$201,$A29,'入力する'!$L$2:$L$201,"遅延")) | H29: =IF($A29="","",RANK(D29,$D$28:$D$33))
B30: =IF($A30="","",COUNTIF('入力する'!$C$2:$C$201,$A30)) | C30: =IF($A30="","",SUMIF('入力する'!$C$2:$C$201,$A30,'入力する'!$F$2:$F$201)) | D30: =IF($A30="","",SUMIF('入力する'!$C$2:$C$201,$A30,'入力する'!$I$2:$I$201)) | E30: =IF($A30="","",COUNTIFS('入力する'!$C$2:$C$201,$A30,'入力する'!$H$2:$H$201,"完了")) | F30: =IF($A30="","",IF(C30=0,0,1-D30/C30)) | G30: =IF($A30="","",COUNTIFS('入力する'!$C$2:$C$201,$A30,'入力する'!$L$2:$L$201,"遅延")) | H30: =IF($A30="","",RANK(D30,$D$28:$D$33))
B31: =IF($A31="","",COUNTIF('入力する'!$C$2:$C$201,$A31)) | C31: =IF($A31="","",SUMIF('入力する'!$C$2:$C$201,$A31,'入力する'!$F$2:$F$201)) | D31: =IF($A31="","",SUMIF('入力する'!$C$2:$C$201,$A31,'入力する'!$I$2:$I$201)) | E31: =IF($A31="","",COUNTIFS('入力する'!$C$2:$C$201,$A31,'入力する'!$H$2:$H$201,"完了")) | F31: =IF($A31="","",IF(C31=0,0,1-D31/C31)) | G31: =IF($A31="","",COUNTIFS('入力する'!$C$2:$C$201,$A31,'入力する'!$L$2:$L$201,"遅延")) | H31: =IF($A31="","",RANK(D31,$D$28:$D$33))
B32: =IF($A32="","",COUNTIF('入力する'!$C$2:$C$201,$A32)) | C32: =IF($A32="","",SUMIF('入力する'!$C$2:$C$201,$A32,'入力する'!$F$2:$F$201)) | D32: =IF($A32="","",SUMIF('入力する'!$C$2:$C$201,$A32,'入力する'!$I$2:$I$201)) | E32: =IF($A32="","",COUNTIFS('入力する'!$C$2:$C$201,$A32,'入力する'!$H$2:$H$201,"完了")) | F32: =IF($A32="","",IF(C32=0,0,1-D32/C32)) | G32: =IF($A32="","",COUNTIFS('入力する'!$C$2:$C$201,$A32,'入力する'!$L$2:$L$201,"遅延")) | H32: =IF($A32="","",RANK(D32,$D$28:$D$33))
B33: =IF($A33="","",COUNTIF('入力する'!$C$2:$C$201,$A33)) | C33: =IF($A33="","",SUMIF('入力する'!$C$2:$C$201,$A33,'入力する'!$F$2:$F$201)) | D33: =IF($A33="","",SUMIF('入力する'!$C$2:$C$201,$A33,'入力する'!$I$2:$I$201)) | E33: =IF($A33="","",COUNTIFS('入力する'!$C$2:$C$201,$A33,'入力する'!$H$2:$H$201,"完了")) | F33: =IF($A33="","",IF(C33=0,0,1-D33/C33)) | G33: =IF($A33="","",COUNTIFS('入力する'!$C$2:$C$201,$A33,'入力する'!$L$2:$L$201,"遅延")) | H33: =IF($A33="","",RANK(D33,$D$28:$D$33))
A34: 合計 | B34: =SUM(B28:B33) | C34: =SUM(C28:C33) | D34: =SUM(D28:D33) | E34: =SUM(E28:E33) | F34: =IF(C34=0,0,1-D34/C34) | G34: =SUM(G28:G33)
A36: 月別の推移（期限の月ごと）
A37: 月 | B37: 期限を迎える件数 | C37: 予定工数(h) | D37: 完了ずみ工数(h) | E37: 残り工数(h) | F37: 消化率
A38: =IF(COUNT('入力する'!$E$2:$E$201)=0,"",DATE(YEAR(MIN('入力する'!$E$2:$E$201)),MONTH(MIN('入力する'!$E$2:$E$201))+0,1)) | B38: =IF($A38="","",COUNTIFS('入力する'!$E$2:$E$201,">="&$A38,'入力する'!$E$2:$E$201,"<"&DATE(YEAR(MIN('入力する'!$E$2:$E$201)),MONTH(MIN('入力する'!$E$2:$E$201))+1,1))) | C38: =IF($A38="","",SUMIFS('入力する'!$F$2:$F$201,'入力する'!$E$2:$E$201,">="&$A38,'入力する'!$E$2:$E$201,"<"&DATE(YEAR(MIN('入力する'!$E$2:$E$201)),MONTH(MIN('入力する'!$E$2:$E$201))+1,1))) | D38: =IF($A38="","",SUMIFS('入力する'!$F$2:$F$201,'入力する'!$E$2:$E$201,">="&$A38,'入力する'!$E$2:$E$201,"<"&DATE(YEAR(MIN('入力する'!$E$2:$E$201)),MONTH(MIN('入力する'!$E$2:$E$201))+1,1),'入力する'!$H$2:$H$201,"完了")) | E38: =IF($A38="","",C38-D38) | F38: =IF($A38="","",IF(C38=0,0,D38/C38))
A39: =IF(COUNT('入力する'!$E$2:$E$201)=0,"",DATE(YEAR(MIN('入力する'!$E$2:$E$201)),MONTH(MIN('入力する'!$E$2:$E$201))+1,1)) | B39: =IF($A39="","",COUNTIFS('入力する'!$E$2:$E$201,">="&$A39,'入力する'!$E$2:$E$201,"<"&DATE(YEAR(MIN('入力する'!$E$2:$E$201)),MONTH(MIN('入力する'!$E$2:$E$201))+2,1))) | C39: =IF($A39="","",SUMIFS('入力する'!$F$2:$F$201,'入力する'!$E$2:$E$201,">="&$A39,'入力する'!$E$2:$E$201,"<"&DATE(YEAR(MIN('入力する'!$E$2:$E$201)),MONTH(MIN('入力する'!$E$2:$E$201))+2,1))) | D39: =IF($A39="","",SUMIFS('入力する'!$F$2:$F$201,'入力する'!$E$2:$E$201,">="&$A39,'入力する'!$E$2:$E$201,"<"&DATE(YEAR(MIN('入力する'!$E$2:$E$201)),MONTH(MIN('入力する'!$E$2:$E$201))+2,1),'入力する'!$H$2:$H$201,"完了")) | E39: =IF($A39="","",C39-D39) | F39: =IF($A39="","",IF(C39=0,0,D39/C39))
A40: =IF(COUNT('入力する'!$E$2:$E$201)=0,"",DATE(YEAR(MIN('入力する'!$E$2:$E$201)),MONTH(MIN('入力する'!$E$2:$E$201))+2,1)) | B40: =IF($A40="","",COUNTIFS('入力する'!$E$2:$E$201,">="&$A40,'入力する'!$E$2:$E$201,"<"&DATE(YEAR(MIN('入力する'!$E$2:$E$201)),MONTH(MIN('入力する'!$E$2:$E$201))+3,1))) | C40: =IF($A40="","",SUMIFS('入力する'!$F$2:$F$201,'入力する'!$E$2:$E$201,">="&$A40,'入力する'!$E$2:$E$201,"<"&DATE(YEAR(MIN('入力する'!$E$2:$E$201)),MONTH(MIN('入力する'!$E$2:$E$201))+3,1))) | D40: =IF($A40="","",SUMIFS('入力する'!$F$2:$F$201,'入力する'!$E$2:$E$201,">="&$A40,'入力する'!$E$2:$E$201,"<"&DATE(YEAR(MIN('入力する'!$E$2:$E$201)),MONTH(MIN('入力する'!$E$2:$E$201))+3,1),'入力する'!$H$2:$H$201,"完了")) | E40: =IF($A40="","",C40-D40) | F40: =IF($A40="","",IF(C40=0,0,D40/C40))
A41: =IF(COUNT('入力する'!$E$2:$E$201)=0,"",DATE(YEAR(MIN('入力する'!$E$2:$E$201)),MONTH(MIN('入力する'!$E$2:$E$201))+3,1)) | B41: =IF($A41="","",COUNTIFS('入力する'!$E$2:$E$201,">="&$A41,'入力する'!$E$2:$E$201,"<"&DATE(YEAR(MIN('入力する'!$E$2:$E$201)),MONTH(MIN('入力する'!$E$2:$E$201))+4,1))) | C41: =IF($A41="","",SUMIFS('入力する'!$F$2:$F$201,'入力する'!$E$2:$E$201,">="&$A41,'入力する'!$E$2:$E$201,"<"&DATE(YEAR(MIN('入力する'!$E$2:$E$201)),MONTH(MIN('入力する'!$E$2:$E$201))+4,1))) | D41: =IF($A41="","",SUMIFS('入力する'!$F$2:$F$201,'入力する'!$E$2:$E$201,">="&$A41,'入力する'!$E$2:$E$201,"<"&DATE(YEAR(MIN('入力する'!$E$2:$E$201)),MONTH(MIN('入力する'!$E$2:$E$201))+4,1),'入力する'!$H$2:$H$201,"完了")) | E41: =IF($A41="","",C41-D41) | F41: =IF($A41="","",IF(C41=0,0,D41/C41))
A42: =IF(COUNT('入力する'!$E$2:$E$201)=0,"",DATE(YEAR(MIN('入力する'!$E$2:$E$201)),MONTH(MIN('入力する'!$E$2:$E$201))+4,1)) | B42: =IF($A42="","",COUNTIFS('入力する'!$E$2:$E$201,">="&$A42,'入力する'!$E$2:$E$201,"<"&DATE(YEAR(MIN('入力する'!$E$2:$E$201)),MONTH(MIN('入力する'!$E$2:$E$201))+5,1))) | C42: =IF($A42="","",SUMIFS('入力する'!$F$2:$F$201,'入力する'!$E$2:$E$201,">="&$A42,'入力する'!$E$2:$E$201,"<"&DATE(YEAR(MIN('入力する'!$E$2:$E$201)),MONTH(MIN('入力する'!$E$2:$E$201))+5,1))) | D42: =IF($A42="","",SUMIFS('入力する'!$F$2:$F$201,'入力する'!$E$2:$E$201,">="&$A42,'入力する'!$E$2:$E$201,"<"&DATE(YEAR(MIN('入力する'!$E$2:$E$201)),MONTH(MIN('入力する'!$E$2:$E$201))+5,1),'入力する'!$H$2:$H$201,"完了")) | E42: =IF($A42="","",C42-D42) | F42: =IF($A42="","",IF(C42=0,0,D42/C42))
A43: =IF(COUNT('入力する'!$E$2:$E$201)=0,"",DATE(YEAR(MIN('入力する'!$E$2:$E$201)),MONTH(MIN('入力する'!$E$2:$E$201))+5,1)) | B43: =IF($A43="","",COUNTIFS('入力する'!$E$2:$E$201,">="&$A43,'入力する'!$E$2:$E$201,"<"&DATE(YEAR(MIN('入力する'!$E$2:$E$201)),MONTH(MIN('入力する'!$E$2:$E$201))+6,1))) | C43: =IF($A43="","",SUMIFS('入力する'!$F$2:$F$201,'入力する'!$E$2:$E$201,">="&$A43,'入力する'!$E$2:$E$201,"<"&DATE(YEAR(MIN('入力する'!$E$2:$E$201)),MONTH(MIN('入力する'!$E$2:$E$201))+6,1))) | D43: =IF($A43="","",SUMIFS('入力する'!$F$2:$F$201,'入力する'!$E$2:$E$201,">="&$A43,'入力する'!$E$2:$E$201,"<"&DATE(YEAR(MIN('入力する'!$E$2:$E$201)),MONTH(MIN('入力する'!$E$2:$E$201))+6,1),'入力する'!$H$2:$H$201,"完了")) | E43: =IF($A43="","",C43-D43) | F43: =IF($A43="","",IF(C43=0,0,D43/C43))
A44: =IF(COUNT('入力する'!$E$2:$E$201)=0,"",DATE(YEAR(MIN('入力する'!$E$2:$E$201)),MONTH(MIN('入力する'!$E$2:$E$201))+6,1)) | B44: =IF($A44="","",COUNTIFS('入力する'!$E$2:$E$201,">="&$A44,'入力する'!$E$2:$E$201,"<"&DATE(YEAR(MIN('入力する'!$E$2:$E$201)),MONTH(MIN('入力する'!$E$2:$E$201))+7,1))) | C44: =IF($A44="","",SUMIFS('入力する'!$F$2:$F$201,'入力する'!$E$2:$E$201,">="&$A44,'入力する'!$E$2:$E$201,"<"&DATE(YEAR(MIN('入力する'!$E$2:$E$201)),MONTH(MIN('入力する'!$E$2:$E$201))+7,1))) | D44: =IF($A44="","",SUMIFS('入力する'!$F$2:$F$201,'入力する'!$E$2:$E$201,">="&$A44,'入力する'!$E$2:$E$201,"<"&DATE(YEAR(MIN('入力する'!$E$2:$E$201)),MONTH(MIN('入力する'!$E$2:$E$201))+7,1),'入力する'!$H$2:$H$201,"完了")) | E44: =IF($A44="","",C44-D44) | F44: =IF($A44="","",IF(C44=0,0,D44/C44))
A45: =IF(COUNT('入力する'!$E$2:$E$201)=0,"",DATE(YEAR(MIN('入力する'!$E$2:$E$201)),MONTH(MIN('入力する'!$E$2:$E$201))+7,1)) | B45: =IF($A45="","",COUNTIFS('入力する'!$E$2:$E$201,">="&$A45,'入力する'!$E$2:$E$201,"<"&DATE(YEAR(MIN('入力する'!$E$2:$E$201)),MONTH(MIN('入力する'!$E$2:$E$201))+8,1))) | C45: =IF($A45="","",SUMIFS('入力する'!$F$2:$F$201,'入力する'!$E$2:$E$201,">="&$A45,'入力する'!$E$2:$E$201,"<"&DATE(YEAR(MIN('入力する'!$E$2:$E$201)),MONTH(MIN('入力する'!$E$2:$E$201))+8,1))) | D45: =IF($A45="","",SUMIFS('入力する'!$F$2:$F$201,'入力する'!$E$2:$E$201,">="&$A45,'入力する'!$E$2:$E$201,"<"&DATE(YEAR(MIN('入力する'!$E$2:$E$201)),MONTH(MIN('入力する'!$E$2:$E$201))+8,1),'入力する'!$H$2:$H$201,"完了")) | E45: =IF($A45="","",C45-D45) | F45: =IF($A45="","",IF(C45=0,0,D45/C45))
A46: =IF(COUNT('入力する'!$E$2:$E$201)=0,"",DATE(YEAR(MIN('入力する'!$E$2:$E$201)),MONTH(MIN('入力する'!$E$2:$E$201))+8,1)) | B46: =IF($A46="","",COUNTIFS('入力する'!$E$2:$E$201,">="&$A46,'入力する'!$E$2:$E$201,"<"&DATE(YEAR(MIN('入力する'!$E$2:$E$201)),MONTH(MIN('入力する'!$E$2:$E$201))+9,1))) | C46: =IF($A46="","",SUMIFS('入力する'!$F$2:$F$201,'入力する'!$E$2:$E$201,">="&$A46,'入力する'!$E$2:$E$201,"<"&DATE(YEAR(MIN('入力する'!$E$2:$E$201)),MONTH(MIN('入力する'!$E$2:$E$201))+9,1))) | D46: =IF($A46="","",SUMIFS('入力する'!$F$2:$F$201,'入力する'!$E$2:$E$201,">="&$A46,'入力する'!$E$2:$E$201,"<"&DATE(YEAR(MIN('入力する'!$E$2:$E$201)),MONTH(MIN('入力する'!$E$2:$E$201))+9,1),'入力する'!$H$2:$H$201,"完了")) | E46: =IF($A46="","",C46-D46) | F46: =IF($A46="","",IF(C46=0,0,D46/C46))
A47: =IF(COUNT('入力する'!$E$2:$E$201)=0,"",DATE(YEAR(MIN('入力する'!$E$2:$E$201)),MONTH(MIN('入力する'!$E$2:$E$201))+9,1)) | B47: =IF($A47="","",COUNTIFS('入力する'!$E$2:$E$201,">="&$A47,'入力する'!$E$2:$E$201,"<"&DATE(YEAR(MIN('入力する'!$E$2:$E$201)),MONTH(MIN('入力する'!$E$2:$E$201))+10,1))) | C47: =IF($A47="","",SUMIFS('入力する'!$F$2:$F$201,'入力する'!$E$2:$E$201,">="&$A47,'入力する'!$E$2:$E$201,"<"&DATE(YEAR(MIN('入力する'!$E$2:$E$201)),MONTH(MIN('入力する'!$E$2:$E$201))+10,1))) | D47: =IF($A47="","",SUMIFS('入力する'!$F$2:$F$201,'入力する'!$E$2:$E$201,">="&$A47,'入力する'!$E$2:$E$201,"<"&DATE(YEAR(MIN('入力する'!$E$2:$E$201)),MONTH(MIN('入力する'!$E$2:$E$201))+10,1),'入力する'!$H$2:$H$201,"完了")) | E47: =IF($A47="","",C47-D47) | F47: =IF($A47="","",IF(C47=0,0,D47/C47))
A48: =IF(COUNT('入力する'!$E$2:$E$201)=0,"",DATE(YEAR(MIN('入力する'!$E$2:$E$201)),MONTH(MIN('入力する'!$E$2:$E$201))+10,1)) | B48: =IF($A48="","",COUNTIFS('入力する'!$E$2:$E$201,">="&$A48,'入力する'!$E$2:$E$201,"<"&DATE(YEAR(MIN('入力する'!$E$2:$E$201)),MONTH(MIN('入力する'!$E$2:$E$201))+11,1))) | C48: =IF($A48="","",SUMIFS('入力する'!$F$2:$F$201,'入力する'!$E$2:$E$201,">="&$A48,'入力する'!$E$2:$E$201,"<"&DATE(YEAR(MIN('入力する'!$E$2:$E$201)),MONTH(MIN('入力する'!$E$2:$E$201))+11,1))) | D48: =IF($A48="","",SUMIFS('入力する'!$F$2:$F$201,'入力する'!$E$2:$E$201,">="&$A48,'入力する'!$E$2:$E$201,"<"&DATE(YEAR(MIN('入力する'!$E$2:$E$201)),MONTH(MIN('入力する'!$E$2:$E$201))+11,1),'入力する'!$H$2:$H$201,"完了")) | E48: =IF($A48="","",C48-D48) | F48: =IF($A48="","",IF(C48=0,0,D48/C48))
A49: =IF(COUNT('入力する'!$E$2:$E$201)=0,"",DATE(YEAR(MIN('入力する'!$E$2:$E$201)),MONTH(MIN('入力する'!$E$2:$E$201))+11,1)) | B49: =IF($A49="","",COUNTIFS('入力する'!$E$2:$E$201,">="&$A49,'入力する'!$E$2:$E$201,"<"&DATE(YEAR(MIN('入力する'!$E$2:$E$201)),MONTH(MIN('入力する'!$E$2:$E$201))+12,1))) | C49: =IF($A49="","",SUMIFS('入力する'!$F$2:$F$201,'入力する'!$E$2:$E$201,">="&$A49,'入力する'!$E$2:$E$201,"<"&DATE(YEAR(MIN('入力する'!$E$2:$E$201)),MONTH(MIN('入力する'!$E$2:$E$201))+12,1))) | D49: =IF($A49="","",SUMIFS('入力する'!$F$2:$F$201,'入力する'!$E$2:$E$201,">="&$A49,'入力する'!$E$2:$E$201,"<"&DATE(YEAR(MIN('入力する'!$E$2:$E$201)),MONTH(MIN('入力する'!$E$2:$E$201))+12,1),'入力する'!$H$2:$H$201,"完了")) | E49: =IF($A49="","",C49-D49) | F49: =IF($A49="","",IF(C49=0,0,D49/C49))
A50: 合計 | B50: =SUM(B38:B49) | C50: =SUM(C38:C49) | D50: =SUM(D38:D49) | E50: =SUM(E38:E49) | F50: =IF(C50=0,0,D50/C50)
A52: このテンプレートは自由に使ってかまいません。改変・再配布も可です。 配布元: 副業ポートフォリオ https://satoru-log.jp

Sheet 使い方と注意
A1: WBSテンプレ — 使い方と注意
A3: ■ このテンプレでできること
A4: 大きな仕事を小さなタスクに分けて並べると、工数・進捗・遅れが自動でまとまります。
A5: 入力するのは「入力する」シートだけ。集計とグラフはすべて自動で動きます。
A7: ■ 使い方（3ステップ）
A8: 1. 「集計を見る」のB4にプロジェクト名、B5に目標総工数（h）を入れます。A28〜A33に担当の名前を入れておくと、入力シートでプルダウンから選べます。
A9: 2. 「入力する」の2行目から、A列＝大分類（プルダウン）、B列＝タスク名、C列＝担当、D列＝開始日、E列＝期限、F列＝予定工数(h)、G列＝進捗率(0〜100)を打ち込みます。
A10: 3. 「集計を見る」を開くと、合計・構成比・順位・月別の推移・グラフがそろっています。
A12: ■ 色のルール
A13: 薄い黄色のセル＝あなたが入力するところ。白やグレーの列（H〜L列）は数式なので触らないでください。
A14: 行がうすい緑になったら「完了」、うすい赤になったら「期限をすぎた未完了（遅延）」です。
A15: L列の判定は、期限まで3日以内なら「まもなく」とオレンジ色で知らせます。
... A26: 配布元: 副業ポートフォリオ https://satoru-log.jp
