Workbook
Name 担当者リスト: 集計を見る!$B$31:$B$38

Sheet 入力する
A1: 表示開始日 | B1: 46266
I2: 月 → | J2: =IF(J$3="","",IF(DAY(J$3)=1,MONTH(J$3),"")) | K2: =IF(K$3="","",IF(DAY(K$3)=1,MONTH(K$3),"")) | L2: =IF(L$3="","",IF(DAY(L$3)=1,MONTH(L$3),"")) | M2: =IF(M$3="","",IF(DAY(M$3)=1,MONTH(M$3),"")) | N2: =IF(N$3="","",IF(DAY(N$3)=1,MONTH(N$3),"")) | O2: =IF(O$3="","",IF(DAY(O$3)=1,MONTH(O$3),"")) | P2: =IF(P$3="","",IF(DAY(P$3)=1,MONTH(P$3),"")) | Q2: =IF(Q$3="","",IF(DAY(Q$3)=1,MONTH(Q$3),"")) | ... CU2: =IF(CU$3="","",IF(DAY(CU$3)=1,MONTH(CU$3),""))
A3: タスク名 | B3: 担当者 | C3: 区分 | D3: 開始日 | E3: 終了日 | F3: 進捗率(%) | G3: 日数 | H3: 状態 | I3: 遅延日数 | J3: =IF($B$1="","",$B$1+0) | K3: =IF($B$1="","",$B$1+1) | L3: =IF($B$1="","",$B$1+2) | M3: =IF($B$1="","",$B$1+3) | N3: =IF($B$1="","",$B$1+4) | O3: =IF($B$1="","",$B$1+5) | P3: =IF($B$1="","",$B$1+6) | Q3: =IF($B$1="","",$B$1+7) | R3: =IF($B$1="","",$B$1+8) | S3: =IF($B$1="","",$B$1+9) | T3: =IF($B$1="","",$B$1+10) | U3: =IF($B$1="","",$B$1+11) | V3: =IF($B$1="","",$B$1+12) | W3: =IF($B$1="","",$B$1+13) | X3: =IF($B$1="","",$B$1+14) | Y3: =IF($B$1="","",$B$1+15) | Z3: =IF($B$1="","",$B$1+16) | AA3: =IF($B$1="","",$B$1+17) | AB3: =IF($B$1="","",$B$1+18) | AC3: =IF($B$1="","",$B$1+19) | AD3: =IF($B$1="","",$B$1+20) | AE3: =IF($B$1="","",$B$1+21) | AF3: =IF($B$1="","",$B$1+22) | AG3: =IF($B$1="","",$B$1+23) | AH3: =IF($B$1="","",$B$1+24) | AI3: =IF($B$1="","",$B$1+25) | AJ3: =IF($B$1="","",$B$1+26) | AK3: =IF($B$1="","",$B$1+27) | AL3: =IF($B$1="","",$B$1+28) | AM3: =IF($B$1="","",$B$1+29) | AN3: =IF($B$1="","",$B$1+30) | AO3: =IF($B$1="","",$B$1+31) | AP3: =IF($B$1="","",$B$1+32) | AQ3: =IF($B$1="","",$B$1+33) | AR3: =IF($B$1="","",$B$1+34) | AS3: =IF($B$1="","",$B$1+35) | AT3: =IF($B$1="","",$B$1+36) | AU3: =IF($B$1="","",$B$1+37) | AV3: =IF($B$1="","",$B$1+38) | AW3: =IF($B$1="","",$B$1+39) | AX3: =IF($B$1="","",$B$1+40) | AY3: =IF($B$1="","",$B$1+41) | AZ3: =IF($B$1="","",$B$1+42) | BA3: =IF($B$1="","",$B$1+43) | BB3: =IF($B$1="","",$B$1+44) | BC3: =IF($B$1="","",$B$1+45) | BD3: =IF($B$1="","",$B$1+46) | BE3: =IF($B$1="","",$B$1+47) | BF3: =IF($B$1="","",$B$1+48) | BG3: =IF($B$1="","",$B$1+49) | BH3: =IF($B$1="","",$B$1+50) | BI3: =IF($B$1="","",$B$1+51) | BJ3: =IF($B$1="","",$B$1+52) | BK3: =IF($B$1="","",$B$1+53) | BL3: =IF($B$1="","",$B$1+54) | BM3: =IF($B$1="","",$B$1+55) | BN3: =IF($B$1="","",$B$1+56) | BO3: =IF($B$1="","",$B$1+57) | BP3: =IF($B$1="","",$B$1+58) | BQ3: =IF($B$1="","",$B$1+59) | BR3: =IF($B$1="","",$B$1+60) | BS3: =IF($B$1="","",$B$1+61) | BT3: =IF($B$1="","",$B$1+62) | BU3: =IF($B$1="","",$B$1+63) | BV3: =IF($B$1="","",$B$1+64) | BW3: =IF($B$1="","",$B$1+65) | BX3: =IF($B$1="","",$B$1+66) | BY3: =IF($B$1="","",$B$1+67) | BZ3: =IF($B$1="","",$B$1+68) | CA3: =IF($B$1="","",$B$1+69) | CB3: =IF($B$1="","",$B$1+70) | CC3: =IF($B$1="","",$B$1+71) | CD3: =IF($B$1="","",$B$1+72) | CE3: =IF($B$1="","",$B$1+73) | CF3: =IF($B$1="","",$B$1+74) | CG3: =IF($B$1="","",$B$1+75) | CH3: =IF($B$1="","",$B$1+76) | CI3: =IF($B$1="","",$B$1+77) | CJ3: =IF($B$1="","",$B$1+78) | CK3: =IF($B$1="","",$B$1+79) | CL3: =IF($B$1="","",$B$1+80) | CM3: =IF($B$1="","",$B$1+81) | CN3: =IF($B$1="","",$B$1+82) | CO3: =IF($B$1="","",$B$1+83) | CP3: =IF($B$1="","",$B$1+84) | CQ3: =IF($B$1="","",$B$1+85) | CR3: =IF($B$1="","",$B$1+86) | CS3: =IF($B$1="","",$B$1+87) | CT3: =IF($B$1="","",$B$1+88) | CU3: =IF($B$1="","",$B$1+89)
G4: =IF(OR($D4="",$E4=""),"",$E4-$D4+1) | H4: =IF($A4="","",IF($F4>=100,"完了",IF(AND($E4<>"",$E4<TODAY()),"遅延",IF(OR($D4="",$D4>TODAY()),"未着手","進行中")))) | I4: =IF(OR($A4="",$E4=""),"",IF(AND($E4<TODAY(),$F4<100),TODAY()-$E4,0))
G5: =IF(OR($D5="",$E5=""),"",$E5-$D5+1) | H5: =IF($A5="","",IF($F5>=100,"完了",IF(AND($E5<>"",$E5<TODAY()),"遅延",IF(OR($D5="",$D5>TODAY()),"未着手","進行中")))) | I5: =IF(OR($A5="",$E5=""),"",IF(AND($E5<TODAY(),$F5<100),TODAY()-$E5,0))
G6: =IF(OR($D6="",$E6=""),"",$E6-$D6+1) | H6: =IF($A6="","",IF($F6>=100,"完了",IF(AND($E6<>"",$E6<TODAY()),"遅延",IF(OR($D6="",$D6>TODAY()),"未着手","進行中")))) | I6: =IF(OR($A6="",$E6=""),"",IF(AND($E6<TODAY(),$F6<100),TODAY()-$E6,0))
G7: =IF(OR($D7="",$E7=""),"",$E7-$D7+1) | H7: =IF($A7="","",IF($F7>=100,"完了",IF(AND($E7<>"",$E7<TODAY()),"遅延",IF(OR($D7="",$D7>TODAY()),"未着手","進行中")))) | I7: =IF(OR($A7="",$E7=""),"",IF(AND($E7<TODAY(),$F7<100),TODAY()-$E7,0))
G8: =IF(OR($D8="",$E8=""),"",$E8-$D8+1) | H8: =IF($A8="","",IF($F8>=100,"完了",IF(AND($E8<>"",$E8<TODAY()),"遅延",IF(OR($D8="",$D8>TODAY()),"未着手","進行中")))) | I8: =IF(OR($A8="",$E8=""),"",IF(AND($E8<TODAY(),$F8<100),TODAY()-$E8,0))
G9: =IF(OR($D9="",$E9=""),"",$E9-$D9+1) | H9: =IF($A9="","",IF($F9>=100,"完了",IF(AND($E9<>"",$E9<TODAY()),"遅延",IF(OR($D9="",$D9>TODAY()),"未着手","進行中")))) | I9: =IF(OR($A9="",$E9=""),"",IF(AND($E9<TODAY(),$F9<100),TODAY()-$E9,0))
G10: =IF(OR($D10="",$E10=""),"",$E10-$D10+1) | H10: =IF($A10="","",IF($F10>=100,"完了",IF(AND($E10<>"",$E10<TODAY()),"遅延",IF(OR($D10="",$D10>TODAY()),"未着手","進行中")))) | I10: =IF(OR($A10="",$E10=""),"",IF(AND($E10<TODAY(),$F10<100),TODAY()-$E10,0))
G11: =IF(OR($D11="",$E11=""),"",$E11-$D11+1) | H11: =IF($A11="","",IF($F11>=100,"完了",IF(AND($E11<>"",$E11<TODAY()),"遅延",IF(OR($D11="",$D11>TODAY()),"未着手","進行中")))) | I11: =IF(OR($A11="",$E11=""),"",IF(AND($E11<TODAY(),$F11<100),TODAY()-$E11,0))
G12: =IF(OR($D12="",$E12=""),"",$E12-$D12+1) | H12: =IF($A12="","",IF($F12>=100,"完了",IF(AND($E12<>"",$E12<TODAY()),"遅延",IF(OR($D12="",$D12>TODAY()),"未着手","進行中")))) | I12: =IF(OR($A12="",$E12=""),"",IF(AND($E12<TODAY(),$F12<100),TODAY()-$E12,0))
G13: =IF(OR($D13="",$E13=""),"",$E13-$D13+1) | H13: =IF($A13="","",IF($F13>=100,"完了",IF(AND($E13<>"",$E13<TODAY()),"遅延",IF(OR($D13="",$D13>TODAY()),"未着手","進行中")))) | I13: =IF(OR($A13="",$E13=""),"",IF(AND($E13<TODAY(),$F13<100),TODAY()-$E13,0))
G14: =IF(OR($D14="",$E14=""),"",$E14-$D14+1) | H14: =IF($A14="","",IF($F14>=100,"完了",IF(AND($E14<>"",$E14<TODAY()),"遅延",IF(OR($D14="",$D14>TODAY()),"未着手","進行中")))) | I14: =IF(OR($A14="",$E14=""),"",IF(AND($E14<TODAY(),$F14<100),TODAY()-$E14,0))
G15: =IF(OR($D15="",$E15=""),"",$E15-$D15+1) | H15: =IF($A15="","",IF($F15>=100,"完了",IF(AND($E15<>"",$E15<TODAY()),"遅延",IF(OR($D15="",$D15>TODAY()),"未着手","進行中")))) | I15: =IF(OR($A15="",$E15=""),"",IF(AND($E15<TODAY(),$F15<100),TODAY()-$E15,0))
... G203: =IF(OR($D203="",$E203=""),"",$E203-$D203+1) | H203: =IF($A203="","",IF($F203>=100,"完了",IF(AND($E203<>"",$E203<TODAY()),"遅延",IF(OR($D203="",$D203>TODAY()),"未着手","進行中")))) | I203: =IF(OR($A203="",$E203=""),"",IF(AND($E203<TODAY(),$F203<100),TODAY()-$E203,0))

Sheet 集計を見る
B1: ガントチャート
B2: 「入力する」シートに日付を入れるだけで、バーもこの集計も自動で更新されます。
B4: 全体サマリー
B5: 総タスク数 | C5: =COUNTA(入力する!$A$4:$A$203) | D5: 平均進捗率 | F5: =IFERROR(SUM(入力する!$F$4:$F$203)/$C$5,0)
B6: 完了 | C6: =COUNTIF(入力する!$H$4:$H$203,"完了") | D6: 経過率（めやす） | F6: =IFERROR(MEDIAN(0,(TODAY()-$F$8)/($F$9-$F$8+1),1)*100,0)
B7: 進行中 | C7: =COUNTIF(入力する!$H$4:$H$203,"進行中") | D7: めやすとの差 | F7: =IF($C$5=0,0,$F$5-$F$6)
B8: 未着手 | C8: =COUNTIF(入力する!$H$4:$H$203,"未着手") | D8: 全体の開始日 | F8: =IF(COUNT(入力する!$D$4:$D$203)=0,"",MIN(入力する!$D$4:$D$203))
B9: 遅延 | C9: =COUNTIF(入力する!$H$4:$H$203,"遅延") | D9: 全体の終了日 | F9: =IF(COUNT(入力する!$E$4:$E$203)=0,"",MAX(入力する!$E$4:$E$203))
B10: 完了率 | C10: =IFERROR($C$6/$C$5,0) | D10: 今日から終了日まで | F10: =IF($F$9="","",MAX(0,$F$9-TODAY()))
B12: 状態の内訳
B13: 状態 | C13: 件数 | D13: 構成比
B14: 完了 | C14: =COUNTIF(入力する!$H$4:$H$203,"完了") | D14: =IFERROR($C14/$C$5,0)
B15: 進行中 | C15: =COUNTIF(入力する!$H$4:$H$203,"進行中") | D15: =IFERROR($C15/$C$5,0)
B16: 未着手 | C16: =COUNTIF(入力する!$H$4:$H$203,"未着手") | D16: =IFERROR($C16/$C$5,0)
B17: 遅延 | C17: =COUNTIF(入力する!$H$4:$H$203,"遅延") | D17: =IFERROR($C17/$C$5,0)
B19: 区分別の集計
B20: 区分 | C20: 件数 | D20: 完了 | E20: 遅延 | F20: 平均進捗率 | G20: 構成比 | H20: 順位
B21: 企画 | C21: =COUNTIF(入力する!$C$4:$C$203,$B21) | D21: =COUNTIFS(入力する!$C$4:$C$203,$B21,入力する!$H$4:$H$203,"完了") | E21: =COUNTIFS(入力する!$C$4:$C$203,$B21,入力する!$H$4:$H$203,"遅延") | F21: =IFERROR(SUMIF(入力する!$C$4:$C$203,$B21,入力する!$F$4:$F$203)/$C21,0) | G21: =IFERROR($C21/$C$27,0) | H21: =IF($C21=0,"",RANK($C21,$C$21:$C$26))
B22: 設計 | C22: =COUNTIF(入力する!$C$4:$C$203,$B22) | D22: =COUNTIFS(入力する!$C$4:$C$203,$B22,入力する!$H$4:$H$203,"完了") | E22: =COUNTIFS(入力する!$C$4:$C$203,$B22,入力する!$H$4:$H$203,"遅延") | F22: =IFERROR(SUMIF(入力する!$C$4:$C$203,$B22,入力する!$F$4:$F$203)/$C22,0) | G22: =IFERROR($C22/$C$27,0) | H22: =IF($C22=0,"",RANK($C22,$C$21:$C$26))
B23: 開発 | C23: =COUNTIF(入力する!$C$4:$C$203,$B23) | D23: =COUNTIFS(入力する!$C$4:$C$203,$B23,入力する!$H$4:$H$203,"完了") | E23: =COUNTIFS(入力する!$C$4:$C$203,$B23,入力する!$H$4:$H$203,"遅延") | F23: =IFERROR(SUMIF(入力する!$C$4:$C$203,$B23,入力する!$F$4:$F$203)/$C23,0) | G23: =IFERROR($C23/$C$27,0) | H23: =IF($C23=0,"",RANK($C23,$C$21:$C$26))
B24: 検証 | C24: =COUNTIF(入力する!$C$4:$C$203,$B24) | D24: =COUNTIFS(入力する!$C$4:$C$203,$B24,入力する!$H$4:$H$203,"完了") | E24: =COUNTIFS(入力する!$C$4:$C$203,$B24,入力する!$H$4:$H$203,"遅延") | F24: =IFERROR(SUMIF(入力する!$C$4:$C$203,$B24,入力する!$F$4:$F$203)/$C24,0) | G24: =IFERROR($C24/$C$27,0) | H24: =IF($C24=0,"",RANK($C24,$C$21:$C$26))
B25: 納品 | C25: =COUNTIF(入力する!$C$4:$C$203,$B25) | D25: =COUNTIFS(入力する!$C$4:$C$203,$B25,入力する!$H$4:$H$203,"完了") | E25: =COUNTIFS(入力する!$C$4:$C$203,$B25,入力する!$H$4:$H$203,"遅延") | F25: =IFERROR(SUMIF(入力する!$C$4:$C$203,$B25,入力する!$F$4:$F$203)/$C25,0) | G25: =IFERROR($C25/$C$27,0) | H25: =IF($C25=0,"",RANK($C25,$C$21:$C$26))
B26: その他 | C26: =COUNTIF(入力する!$C$4:$C$203,$B26) | D26: =COUNTIFS(入力する!$C$4:$C$203,$B26,入力する!$H$4:$H$203,"完了") | E26: =COUNTIFS(入力する!$C$4:$C$203,$B26,入力する!$H$4:$H$203,"遅延") | F26: =IFERROR(SUMIF(入力する!$C$4:$C$203,$B26,入力する!$F$4:$F$203)/$C26,0) | G26: =IFERROR($C26/$C$27,0) | H26: =IF($C26=0,"",RANK($C26,$C$21:$C$26))
B27: 合計 | C27: =SUM(C21:C26) | D27: =SUM(D21:D26) | E27: =SUM(E21:E26) | F27: =IFERROR(SUMPRODUCT($C$21:$C$26,$F$21:$F$26)/$C$27,0) | G27: =IF($C$27=0,0,1)
B29: 担当者別の集計（薄い黄色に担当者名を入れると集計されます）
B30: 担当者 | C30: 件数 | D30: 完了 | E30: 遅延 | F30: 平均進捗率 | G30: 構成比
C31: =IF($B31="","",COUNTIF(入力する!$B$4:$B$203,$B31)) | D31: =IF($B31="","",COUNTIFS(入力する!$B$4:$B$203,$B31,入力する!$H$4:$H$203,"完了")) | E31: =IF($B31="","",COUNTIFS(入力する!$B$4:$B$203,$B31,入力する!$H$4:$H$203,"遅延")) | F31: =IF($B31="",0,IFERROR(SUMIF(入力する!$B$4:$B$203,$B31,入力する!$F$4:$F$203)/$C31,0)) | G31: =IF($B31="","",IFERROR($C31/$C$5,0))
C32: =IF($B32="","",COUNTIF(入力する!$B$4:$B$203,$B32)) | D32: =IF($B32="","",COUNTIFS(入力する!$B$4:$B$203,$B32,入力する!$H$4:$H$203,"完了")) | E32: =IF($B32="","",COUNTIFS(入力する!$B$4:$B$203,$B32,入力する!$H$4:$H$203,"遅延")) | F32: =IF($B32="",0,IFERROR(SUMIF(入力する!$B$4:$B$203,$B32,入力する!$F$4:$F$203)/$C32,0)) | G32: =IF($B32="","",IFERROR($C32/$C$5,0))
C33: =IF($B33="","",COUNTIF(入力する!$B$4:$B$203,$B33)) | D33: =IF($B33="","",COUNTIFS(入力する!$B$4:$B$203,$B33,入力する!$H$4:$H$203,"完了")) | E33: =IF($B33="","",COUNTIFS(入力する!$B$4:$B$203,$B33,入力する!$H$4:$H$203,"遅延")) | F33: =IF($B33="",0,IFERROR(SUMIF(入力する!$B$4:$B$203,$B33,入力する!$F$4:$F$203)/$C33,0)) | G33: =IF($B33="","",IFERROR($C33/$C$5,0))
C34: =IF($B34="","",COUNTIF(入力する!$B$4:$B$203,$B34)) | D34: =IF($B34="","",COUNTIFS(入力する!$B$4:$B$203,$B34,入力する!$H$4:$H$203,"完了")) | E34: =IF($B34="","",COUNTIFS(入力する!$B$4:$B$203,$B34,入力する!$H$4:$H$203,"遅延")) | F34: =IF($B34="",0,IFERROR(SUMIF(入力する!$B$4:$B$203,$B34,入力する!$F$4:$F$203)/$C34,0)) | G34: =IF($B34="","",IFERROR($C34/$C$5,0))
C35: =IF($B35="","",COUNTIF(入力する!$B$4:$B$203,$B35)) | D35: =IF($B35="","",COUNTIFS(入力する!$B$4:$B$203,$B35,入力する!$H$4:$H$203,"完了")) | E35: =IF($B35="","",COUNTIFS(入力する!$B$4:$B$203,$B35,入力する!$H$4:$H$203,"遅延")) | F35: =IF($B35="",0,IFERROR(SUMIF(入力する!$B$4:$B$203,$B35,入力する!$F$4:$F$203)/$C35,0)) | G35: =IF($B35="","",IFERROR($C35/$C$5,0))
C36: =IF($B36="","",COUNTIF(入力する!$B$4:$B$203,$B36)) | D36: =IF($B36="","",COUNTIFS(入力する!$B$4:$B$203,$B36,入力する!$H$4:$H$203,"完了")) | E36: =IF($B36="","",COUNTIFS(入力する!$B$4:$B$203,$B36,入力する!$H$4:$H$203,"遅延")) | F36: =IF($B36="",0,IFERROR(SUMIF(入力する!$B$4:$B$203,$B36,入力する!$F$4:$F$203)/$C36,0)) | G36: =IF($B36="","",IFERROR($C36/$C$5,0))
C37: =IF($B37="","",COUNTIF(入力する!$B$4:$B$203,$B37)) | D37: =IF($B37="","",COUNTIFS(入力する!$B$4:$B$203,$B37,入力する!$H$4:$H$203,"完了")) | E37: =IF($B37="","",COUNTIFS(入力する!$B$4:$B$203,$B37,入力する!$H$4:$H$203,"遅延")) | F37: =IF($B37="",0,IFERROR(SUMIF(入力する!$B$4:$B$203,$B37,入力する!$F$4:$F$203)/$C37,0)) | G37: =IF($B37="","",IFERROR($C37/$C$5,0))
C38: =IF($B38="","",COUNTIF(入力する!$B$4:$B$203,$B38)) | D38: =IF($B38="","",COUNTIFS(入力する!$B$4:$B$203,$B38,入力する!$H$4:$H$203,"完了")) | E38: =IF($B38="","",COUNTIFS(入力する!$B$4:$B$203,$B38,入力する!$H$4:$H$203,"遅延")) | F38: =IF($B38="",0,IFERROR(SUMIF(入力する!$B$4:$B$203,$B38,入力する!$F$4:$F$203)/$C38,0)) | G38: =IF($B38="","",IFERROR($C38/$C$5,0))
B40: 月別の推移
B41: 月 | C41: 開始するタスク | D41: 終了予定タスク | E41: 稼働中タスク
B42: =IF(COUNT(入力する!$D$4:$D$203)=0,DATE(YEAR(TODAY()),MONTH(TODAY()),1),DATE(YEAR(MIN(入力する!$D$4:$D$203)),MONTH(MIN(入力する!$D$4:$D$203)),1)) | C42: =COUNTIFS(入力する!$D$4:$D$203,">="&$B42,入力する!$D$4:$D$203,"<="&EOMONTH($B42,0)) | D42: =COUNTIFS(入力する!$E$4:$E$203,">="&$B42,入力する!$E$4:$E$203,"<="&EOMONTH($B42,0)) | E42: =COUNTIFS(入力する!$D$4:$D$203,"<="&EOMONTH($B42,0),入力する!$E$4:$E$203,">="&$B42)
B43: =EDATE($B42,1) | C43: =COUNTIFS(入力する!$D$4:$D$203,">="&$B43,入力する!$D$4:$D$203,"<="&EOMONTH($B43,0)) | D43: =COUNTIFS(入力する!$E$4:$E$203,">="&$B43,入力する!$E$4:$E$203,"<="&EOMONTH($B43,0)) | E43: =COUNTIFS(入力する!$D$4:$D$203,"<="&EOMONTH($B43,0),入力する!$E$4:$E$203,">="&$B43)
B44: =EDATE($B43,1) | C44: =COUNTIFS(入力する!$D$4:$D$203,">="&$B44,入力する!$D$4:$D$203,"<="&EOMONTH($B44,0)) | D44: =COUNTIFS(入力する!$E$4:$E$203,">="&$B44,入力する!$E$4:$E$203,"<="&EOMONTH($B44,0)) | E44: =COUNTIFS(入力する!$D$4:$D$203,"<="&EOMONTH($B44,0),入力する!$E$4:$E$203,">="&$B44)
B45: =EDATE($B44,1) | C45: =COUNTIFS(入力する!$D$4:$D$203,">="&$B45,入力する!$D$4:$D$203,"<="&EOMONTH($B45,0)) | D45: =COUNTIFS(入力する!$E$4:$E$203,">="&$B45,入力する!$E$4:$E$203,"<="&EOMONTH($B45,0)) | E45: =COUNTIFS(入力する!$D$4:$D$203,"<="&EOMONTH($B45,0),入力する!$E$4:$E$203,">="&$B45)
B46: =EDATE($B45,1) | C46: =COUNTIFS(入力する!$D$4:$D$203,">="&$B46,入力する!$D$4:$D$203,"<="&EOMONTH($B46,0)) | D46: =COUNTIFS(入力する!$E$4:$E$203,">="&$B46,入力する!$E$4:$E$203,"<="&EOMONTH($B46,0)) | E46: =COUNTIFS(入力する!$D$4:$D$203,"<="&EOMONTH($B46,0),入力する!$E$4:$E$203,">="&$B46)
B47: =EDATE($B46,1) | C47: =COUNTIFS(入力する!$D$4:$D$203,">="&$B47,入力する!$D$4:$D$203,"<="&EOMONTH($B47,0)) | D47: =COUNTIFS(入力する!$E$4:$E$203,">="&$B47,入力する!$E$4:$E$203,"<="&EOMONTH($B47,0)) | E47: =COUNTIFS(入力する!$D$4:$D$203,"<="&EOMONTH($B47,0),入力する!$E$4:$E$203,">="&$B47)
B48: =EDATE($B47,1) | C48: =COUNTIFS(入力する!$D$4:$D$203,">="&$B48,入力する!$D$4:$D$203,"<="&EOMONTH($B48,0)) | D48: =COUNTIFS(入力する!$E$4:$E$203,">="&$B48,入力する!$E$4:$E$203,"<="&EOMONTH($B48,0)) | E48: =COUNTIFS(入力する!$D$4:$D$203,"<="&EOMONTH($B48,0),入力する!$E$4:$E$203,">="&$B48)
B49: =EDATE($B48,1) | C49: =COUNTIFS(入力する!$D$4:$D$203,">="&$B49,入力する!$D$4:$D$203,"<="&EOMONTH($B49,0)) | D49: =COUNTIFS(入力する!$E$4:$E$203,">="&$B49,入力する!$E$4:$E$203,"<="&EOMONTH($B49,0)) | E49: =COUNTIFS(入力する!$D$4:$D$203,"<="&EOMONTH($B49,0),入力する!$E$4:$E$203,">="&$B49)
B50: =EDATE($B49,1) | C50: =COUNTIFS(入力する!$D$4:$D$203,">="&$B50,入力する!$D$4:$D$203,"<="&EOMONTH($B50,0)) | D50: =COUNTIFS(入力する!$E$4:$E$203,">="&$B50,入力する!$E$4:$E$203,"<="&EOMONTH($B50,0)) | E50: =COUNTIFS(入力する!$D$4:$D$203,"<="&EOMONTH($B50,0),入力する!$E$4:$E$203,">="&$B50)
B51: =EDATE($B50,1) | C51: =COUNTIFS(入力する!$D$4:$D$203,">="&$B51,入力する!$D$4:$D$203,"<="&EOMONTH($B51,0)) | D51: =COUNTIFS(入力する!$E$4:$E$203,">="&$B51,入力する!$E$4:$E$203,"<="&EOMONTH($B51,0)) | E51: =COUNTIFS(入力する!$D$4:$D$203,"<="&EOMONTH($B51,0),入力する!$E$4:$E$203,">="&$B51)
B52: =EDATE($B51,1) | C52: =COUNTIFS(入力する!$D$4:$D$203,">="&$B52,入力する!$D$4:$D$203,"<="&EOMONTH($B52,0)) | D52: =COUNTIFS(入力する!$E$4:$E$203,">="&$B52,入力する!$E$4:$E$203,"<="&EOMONTH($B52,0)) | E52: =COUNTIFS(入力する!$D$4:$D$203,"<="&EOMONTH($B52,0),入力する!$E$4:$E$203,">="&$B52)
B53: =EDATE($B52,1) | C53: =COUNTIFS(入力する!$D$4:$D$203,">="&$B53,入力する!$D$4:$D$203,"<="&EOMONTH($B53,0)) | D53: =COUNTIFS(入力する!$E$4:$E$203,">="&$B53,入力する!$E$4:$E$203,"<="&EOMONTH($B53,0)) | E53: =COUNTIFS(入力する!$D$4:$D$203,"<="&EOMONTH($B53,0),入力する!$E$4:$E$203,">="&$B53)
B55: このテンプレートは自由に使ってかまいません。改変・再配布も可です。
B56: 配布元: 副業ポートフォリオ https://satoru-log.jp

Sheet 使い方と注意
B1: ガントチャート ― 使い方と注意
B3: 使い方
C4: 1. 「入力する」シートに、タスク名・担当者・区分・開始日・終了日・進捗率を入れます。
C5: 2. 開始日と終了日を入れると、右のカレンダーにバーが自動で伸びます。200行まで使えます。
C6: 3. B1の「表示開始日」を変えると、カレンダーの表示期間が前後に動きます（90日ぶん表示）。
C7: 4. 進捗率は0〜100の数字。バーの色が進んだぶんだけ濃くなります。
C8: 5. 「集計を見る」シートは打ち込むだけで自動更新。担当者別だけ、担当者名の入力が必要です。
C9: 6. 担当者名を入れておくと、「入力する」の担当者欄がプルダウンで選べるようになります。
B11: バーの色の意味
C12: 濃い青 … 進捗ぶん（進捗率のところまで塗られます）
C13: 薄い青 … 予定の期間
C14: 緑 … 完了（進捗率100%）
C15: 赤 … 遅延（終了日を過ぎているのに進捗率が100%未満）
C16: オレンジの縦の列 … 今日（ファイルを開いた日に自動で動きます）
C17: うすい灰色 … 土日
C18: 左の表の行がうすい赤 … 遅延しているタスク
B20: 注意
C21: ・日付は 2026/9/1 のように入力してください（文字で入れるとバーが出ません）。
C22: ・日数・状態・遅延日数の列は自動計算です。上書きしないでください。
C23: ・薄い黄色のセルが入力欄、うすい青のセルが自動計算です。
C24: ・「今日」の位置と遅延の判定は、ファイルを開いた日で自動的に更新されます。
C25: ・行を増やしたいときは、200行目までの中で使ってください（並べ替えは行ごと行ってください）。
B27: このテンプレートについて
C28: このテンプレートは自由に使ってかまいません。改変・再配布も可です。
C29: 配布元: 副業ポートフォリオ https://satoru-log.jp
