Workbook

Sheet 入力する
A1: 日付 | B1: No. | C1: 今日やること（3つまで） | D1: 区分 | E1: 見積（分） | F1: 状態 | G1: 実績（分） | H1: 差（分） | I1: ひとこと
H2: =IF(OR($E2="",$G2=""),"",$G2-$E2)
H3: =IF(OR($E3="",$G3=""),"",$G3-$E3)
H4: =IF(OR($E4="",$G4=""),"",$G4-$E4)
H5: =IF(OR($E5="",$G5=""),"",$G5-$E5)
H6: =IF(OR($E6="",$G6=""),"",$G6-$E6)
H7: =IF(OR($E7="",$G7=""),"",$G7-$E7)
H8: =IF(OR($E8="",$G8=""),"",$G8-$E8)
H9: =IF(OR($E9="",$G9=""),"",$G9-$E9)
H10: =IF(OR($E10="",$G10=""),"",$G10-$E10)
H11: =IF(OR($E11="",$G11=""),"",$G11-$E11)
H12: =IF(OR($E12="",$G12=""),"",$G12-$E12)
H13: =IF(OR($E13="",$G13=""),"",$G13-$E13)
... H201: =IF(OR($E201="",$G201=""),"",$G201-$E201)

Sheet 集計を見る
A1: 今日のタスク1枚
A2: 朝5分・3つだけ書く。書いた3つをどれだけ終えられたか、この1枚で見ます。
A3: 基準日（今日） | B3: =TODAY()
A5: ● 全体のようす
A6: 記録した件数 | B6: =COUNTA(入力する!$C$2:$C$201)
A7: 完了した件数 | B7: =COUNTIF(入力する!$F$2:$F$201,"完了")
A8: 完了率 | B8: =IF($B$6=0,0,$B$7/$B$6)
A9: 持ち越しの件数 | B9: =COUNTIF(入力する!$F$2:$F$201,"持ち越し")
A10: まだ終わっていない件数 | B10: =$B$6-$B$7-$B$9
A11: 見積の合計（分） | B11: =SUM(入力する!$E$2:$E$201)
A12: 実績の合計（分） | B12: =SUM(入力する!$G$2:$G$201)
A13: めやすとの差（分） | B13: =$B$12-$B$11
A14: 完了ぶんの見積（分） | B14: =SUMIF(入力する!$F$2:$F$201,"完了",入力する!$E$2:$E$201)
A15: 1件あたりの見積（分） | B15: =IF($B$6=0,0,$B$11/$B$6)
A17: ● 区分ごと（どこに時間を使ったか）
A18: 区分 | B18: 件数 | C18: 完了 | D18: 完了率 | E18: 見積（分） | F18: 実績（分） | G18: 構成比 | H18: 順位
A19: 仕事 | B19: =COUNTIF(入力する!$D$2:$D$201,$A19) | C19: =COUNTIFS(入力する!$D$2:$D$201,$A19,入力する!$F$2:$F$201,"完了") | D19: =IF($B19=0,"",$C19/$B19) | E19: =SUMIF(入力する!$D$2:$D$201,$A19,入力する!$E$2:$E$201) | F19: =SUMIF(入力する!$D$2:$D$201,$A19,入力する!$G$2:$G$201) | G19: =IF($B$24=0,"",$B19/$B$24) | H19: =IF($B19=0,"",RANK($B19,$B$19:$B$23))
A20: 家庭 | B20: =COUNTIF(入力する!$D$2:$D$201,$A20) | C20: =COUNTIFS(入力する!$D$2:$D$201,$A20,入力する!$F$2:$F$201,"完了") | D20: =IF($B20=0,"",$C20/$B20) | E20: =SUMIF(入力する!$D$2:$D$201,$A20,入力する!$E$2:$E$201) | F20: =SUMIF(入力する!$D$2:$D$201,$A20,入力する!$G$2:$G$201) | G20: =IF($B$24=0,"",$B20/$B$24) | H20: =IF($B20=0,"",RANK($B20,$B$19:$B$23))
A21: 学び | B21: =COUNTIF(入力する!$D$2:$D$201,$A21) | C21: =COUNTIFS(入力する!$D$2:$D$201,$A21,入力する!$F$2:$F$201,"完了") | D21: =IF($B21=0,"",$C21/$B21) | E21: =SUMIF(入力する!$D$2:$D$201,$A21,入力する!$E$2:$E$201) | F21: =SUMIF(入力する!$D$2:$D$201,$A21,入力する!$G$2:$G$201) | G21: =IF($B$24=0,"",$B21/$B$24) | H21: =IF($B21=0,"",RANK($B21,$B$19:$B$23))
A22: 健康 | B22: =COUNTIF(入力する!$D$2:$D$201,$A22) | C22: =COUNTIFS(入力する!$D$2:$D$201,$A22,入力する!$F$2:$F$201,"完了") | D22: =IF($B22=0,"",$C22/$B22) | E22: =SUMIF(入力する!$D$2:$D$201,$A22,入力する!$E$2:$E$201) | F22: =SUMIF(入力する!$D$2:$D$201,$A22,入力する!$G$2:$G$201) | G22: =IF($B$24=0,"",$B22/$B$24) | H22: =IF($B22=0,"",RANK($B22,$B$19:$B$23))
A23: その他 | B23: =COUNTIF(入力する!$D$2:$D$201,$A23) | C23: =COUNTIFS(入力する!$D$2:$D$201,$A23,入力する!$F$2:$F$201,"完了") | D23: =IF($B23=0,"",$C23/$B23) | E23: =SUMIF(入力する!$D$2:$D$201,$A23,入力する!$E$2:$E$201) | F23: =SUMIF(入力する!$D$2:$D$201,$A23,入力する!$G$2:$G$201) | G23: =IF($B$24=0,"",$B23/$B$24) | H23: =IF($B23=0,"",RANK($B23,$B$19:$B$23))
A24: 合計 | B24: =SUM(B19:B23) | C24: =SUM(C19:C23) | D24: =IF($B$24=0,"",$C$24/$B$24) | E24: =SUM(E19:E23) | F24: =SUM(F19:F23) | G24: =IF($B$24=0,"",1)
A26: ● 状態の内訳
A27: 状態 | B27: 件数 | C27: 構成比
A28: 未着手 | B28: =COUNTIF(入力する!$F$2:$F$201,$A28) | C28: =IF($B$6=0,"",$B28/$B$6)
A29: 着手中 | B29: =COUNTIF(入力する!$F$2:$F$201,$A29) | C29: =IF($B$6=0,"",$B29/$B$6)
A30: 完了 | B30: =COUNTIF(入力する!$F$2:$F$201,$A30) | C30: =IF($B$6=0,"",$B30/$B$6)
A31: 持ち越し | B31: =COUNTIF(入力する!$F$2:$F$201,$A31) | C31: =IF($B$6=0,"",$B31/$B$6)
A33: ● 日ごとの記録（基準日からさかのぼって14日）
A34: 日付 | B34: 件数 | C34: 完了 | D34: 実績（分） | E34: 完了率
A35: =$B$3-13 | B35: =COUNTIF(入力する!$A$2:$A$201,$A35) | C35: =COUNTIFS(入力する!$A$2:$A$201,$A35,入力する!$F$2:$F$201,"完了") | D35: =SUMIF(入力する!$A$2:$A$201,$A35,入力する!$G$2:$G$201) | E35: =IF($B35=0,"",$C35/$B35)
A36: =$B$3-12 | B36: =COUNTIF(入力する!$A$2:$A$201,$A36) | C36: =COUNTIFS(入力する!$A$2:$A$201,$A36,入力する!$F$2:$F$201,"完了") | D36: =SUMIF(入力する!$A$2:$A$201,$A36,入力する!$G$2:$G$201) | E36: =IF($B36=0,"",$C36/$B36)
A37: =$B$3-11 | B37: =COUNTIF(入力する!$A$2:$A$201,$A37) | C37: =COUNTIFS(入力する!$A$2:$A$201,$A37,入力する!$F$2:$F$201,"完了") | D37: =SUMIF(入力する!$A$2:$A$201,$A37,入力する!$G$2:$G$201) | E37: =IF($B37=0,"",$C37/$B37)
A38: =$B$3-10 | B38: =COUNTIF(入力する!$A$2:$A$201,$A38) | C38: =COUNTIFS(入力する!$A$2:$A$201,$A38,入力する!$F$2:$F$201,"完了") | D38: =SUMIF(入力する!$A$2:$A$201,$A38,入力する!$G$2:$G$201) | E38: =IF($B38=0,"",$C38/$B38)
A39: =$B$3-9 | B39: =COUNTIF(入力する!$A$2:$A$201,$A39) | C39: =COUNTIFS(入力する!$A$2:$A$201,$A39,入力する!$F$2:$F$201,"完了") | D39: =SUMIF(入力する!$A$2:$A$201,$A39,入力する!$G$2:$G$201) | E39: =IF($B39=0,"",$C39/$B39)
A40: =$B$3-8 | B40: =COUNTIF(入力する!$A$2:$A$201,$A40) | C40: =COUNTIFS(入力する!$A$2:$A$201,$A40,入力する!$F$2:$F$201,"完了") | D40: =SUMIF(入力する!$A$2:$A$201,$A40,入力する!$G$2:$G$201) | E40: =IF($B40=0,"",$C40/$B40)
A41: =$B$3-7 | B41: =COUNTIF(入力する!$A$2:$A$201,$A41) | C41: =COUNTIFS(入力する!$A$2:$A$201,$A41,入力する!$F$2:$F$201,"完了") | D41: =SUMIF(入力する!$A$2:$A$201,$A41,入力する!$G$2:$G$201) | E41: =IF($B41=0,"",$C41/$B41)
A42: =$B$3-6 | B42: =COUNTIF(入力する!$A$2:$A$201,$A42) | C42: =COUNTIFS(入力する!$A$2:$A$201,$A42,入力する!$F$2:$F$201,"完了") | D42: =SUMIF(入力する!$A$2:$A$201,$A42,入力する!$G$2:$G$201) | E42: =IF($B42=0,"",$C42/$B42)
A43: =$B$3-5 | B43: =COUNTIF(入力する!$A$2:$A$201,$A43) | C43: =COUNTIFS(入力する!$A$2:$A$201,$A43,入力する!$F$2:$F$201,"完了") | D43: =SUMIF(入力する!$A$2:$A$201,$A43,入力する!$G$2:$G$201) | E43: =IF($B43=0,"",$C43/$B43)
A44: =$B$3-4 | B44: =COUNTIF(入力する!$A$2:$A$201,$A44) | C44: =COUNTIFS(入力する!$A$2:$A$201,$A44,入力する!$F$2:$F$201,"完了") | D44: =SUMIF(入力する!$A$2:$A$201,$A44,入力する!$G$2:$G$201) | E44: =IF($B44=0,"",$C44/$B44)
...

Sheet 使い方と注意
A1: 今日のタスク1枚 — 使い方と注意
A3: ● このツール
A4: 名前 | B4: 今日のタスク1枚
A5: 狙い | B5: 朝5分・3つだけ書く。増やさないことが効きます。
A6: シート | B6: 入力する / 集計を見る / 使い方と注意 の3枚です。
A7: ● 朝の5分でやること
A8: 1 | B8: 入力するシートに今日の日付を入れ、やることを3つまで書きます。
A9: 2 | B9: 区分（仕事・家庭・学び・健康・その他）をプルダウンで選びます。
A10: 3 | B10: 見積（分）をざっくり入れます。5分刻みで十分です。
A11: ● 終わったら
A12: 4 | B12: 状態を「完了」にし、実績（分）を入れます。差（分）は自動で出ます。
A13: 5 | B13: 集計を見るシートで、完了率・区分ごとの偏り・日ごとの推移が見えます。
A14: ● 注意
A15: 入力欄 | B15: 薄い黄色のセルが入力欄です。灰色のセルは自動計算なので触らないでください。
A16: 行数 | B16: 入力は200行ぶん用意しています。足りなくなったら最終行をコピーして増やし、集計を見るシートの参照範囲も広げてください。
A17: 基準日 | B17: 集計を見るシートのB3は今日の日付が自動で入ります。過去を振り返るときは、この1つだけ日付を書き換えてください。
A18: 3つの理由 | B18: 4つ目からは翌日に回します。持ち越しが続く項目は、そもそも大きすぎるサインです。
A19: グラフ | B19: 区分ごとの件数（横棒）と状態の内訳（円）は、表の数字から自動で描かれます。
A20: ● 配布について
B21: このテンプレートは自由に使ってかまいません。改変・再配布も可です。
B22: 配布元: 副業ポートフォリオ https://satoru-log.jp
