Workbook

Sheet 入力する
A1: 家事按分の計算シート（入力する）
A3: ① 基本情報 ― 按分率のもとになる数字 | J3: 按分方法の一覧
A4: 住まいの総床面積（㎡） | B4: 60 | C4: 自宅ぜんぶの床面積。賃貸契約書や間取り図の数字でOK。 | J4: 面積 | K4: ← プルダウンの元データ。消さないでください。
A5: 業務に使う面積（㎡） | B5: 12 | C5: 仕事部屋・作業スペースの面積。共用部分は入れない。 | J5: 時間
A6: 1週間の業務時間（時間） | B6: 40 | C6: 1週間に実際に仕事をしている時間の合計。 | J6: 併用
A7: 1週間の総時間（時間） | B7: 168 | C7: 24時間×7日の固定値です。 | J7: 手入力
A8: 面積按分率（自動） | B8: =IF(B4>0,B5/B4,0) | C8: 業務面積 ÷ 総床面積。家賃や火災保険に使う率。
A9: 時間按分率（自動） | B9: =IF(B7>0,B6/B7,0) | C9: 業務時間 ÷ 168時間。通信費や電気代に使う率。 | J9: 税率の候補（％）
A10: 併用按分率（自動） | B10: =B8*B9 | C10: 面積按分率 × 時間按分率。厳しめに見たいときに使う率。 | J10: 10
A11: 想定税率（％） | B11: 20 | C11: 所得税＋住民税のめやす。節税額の試算だけに使います。 | J11: 15
J12: 20
A13: ② 費目ごとの入力 ― 黄色いセルに入れる | J13: 30
A14: 費目 | B14: 年間の支払額 | C14: 按分方法 | D14: 手入力の率（％） | E14: 適用する率 | F14: 経費にする額 | G14: 家事分 | J14: 40
A15: 家賃 | B15: 960000 | C15: 面積 | E15: =IF(C15=$J$4,$B$8,IF(C15=$J$5,$B$9,IF(C15=$J$6,$B$10,IF(C15=$J$7,D15/100,0)))) | F15: =ROUND(B15*E15,0) | G15: =B15-F15
E16: =IF(C16=$J$4,$B$8,IF(C16=$J$5,$B$9,IF(C16=$J$6,$B$10,IF(C16=$J$7,D16/100,0)))) | F16: =ROUND(B16*E16,0) | G16: =B16-F16
E17: =IF(C17=$J$4,$B$8,IF(C17=$J$5,$B$9,IF(C17=$J$6,$B$10,IF(C17=$J$7,D17/100,0)))) | F17: =ROUND(B17*E17,0) | G17: =B17-F17
E18: =IF(C18=$J$4,$B$8,IF(C18=$J$5,$B$9,IF(C18=$J$6,$B$10,IF(C18=$J$7,D18/100,0)))) | F18: =ROUND(B18*E18,0) | G18: =B18-F18
E19: =IF(C19=$J$4,$B$8,IF(C19=$J$5,$B$9,IF(C19=$J$6,$B$10,IF(C19=$J$7,D19/100,0)))) | F19: =ROUND(B19*E19,0) | G19: =B19-F19
E20: =IF(C20=$J$4,$B$8,IF(C20=$J$5,$B$9,IF(C20=$J$6,$B$10,IF(C20=$J$7,D20/100,0)))) | F20: =ROUND(B20*E20,0) | G20: =B20-F20
E21: =IF(C21=$J$4,$B$8,IF(C21=$J$5,$B$9,IF(C21=$J$6,$B$10,IF(C21=$J$7,D21/100,0)))) | F21: =ROUND(B21*E21,0) | G21: =B21-F21
E22: =IF(C22=$J$4,$B$8,IF(C22=$J$5,$B$9,IF(C22=$J$6,$B$10,IF(C22=$J$7,D22/100,0)))) | F22: =ROUND(B22*E22,0) | G22: =B22-F22
E23: =IF(C23=$J$4,$B$8,IF(C23=$J$5,$B$9,IF(C23=$J$6,$B$10,IF(C23=$J$7,D23/100,0)))) | F23: =ROUND(B23*E23,0) | G23: =B23-F23
E24: =IF(C24=$J$4,$B$8,IF(C24=$J$5,$B$9,IF(C24=$J$6,$B$10,IF(C24=$J$7,D24/100,0)))) | F24: =ROUND(B24*E24,0) | G24: =B24-F24
E25: =IF(C25=$J$4,$B$8,IF(C25=$J$5,$B$9,IF(C25=$J$6,$B$10,IF(C25=$J$7,D25/100,0)))) | F25: =ROUND(B25*E25,0) | G25: =B25-F25
E26: =IF(C26=$J$4,$B$8,IF(C26=$J$5,$B$9,IF(C26=$J$6,$B$10,IF(C26=$J$7,D26/100,0)))) | F26: =ROUND(B26*E26,0) | G26: =B26-F26
E27: =IF(C27=$J$4,$B$8,IF(C27=$J$5,$B$9,IF(C27=$J$6,$B$10,IF(C27=$J$7,D27/100,0)))) | F27: =ROUND(B27*E27,0) | G27: =B27-F27
... E34: =IF(C34=$J$4,$B$8,IF(C34=$J$5,$B$9,IF(C34=$J$6,$B$10,IF(C34=$J$7,D34/100,0)))) | F34: =ROUND(B34*E34,0) | G34: =B34-F34

Sheet 集計を見る
A1: 家事按分の計算シート ― 集計を見る
A3: ① 全体のサマリー
A4: 年間の支払額 合計 | B4: =SUM(入力する!B15:B34) | C4: すべての費目の年間支払額を足した金額。
A5: 経費にする額 合計 | B5: =SUM(入力する!F15:F34) | C5: このシートの答え。1年で経費にできる金額。
A6: 家事分（自己負担）合計 | B6: =SUM(入力する!G15:G34) | C6: 経費にならない、生活ぶんの金額。
A7: 全体の按分率 | B7: =IF(B4>0,B5/B4,0) | C7: 支払額のうち、何％を経費にしているか。
A8: 月あたりの経費 | B8: =ROUND(B5/12,0) | C8: 経費にする額 ÷ 12か月。毎月のめやす。
A9: 節税のめやす（経費×想定税率） | B9: =ROUND(B5*入力する!B11/100,0) | C9: かんたん試算です。実際の税額は他の所得や控除で変わります。
A10: 入力した費目の件数 | B10: =COUNT(入力する!B15:B34) | C10: 年間の支払額を入れた費目の数。
A11: 面積で按分した費目の件数 | B11: =COUNTIF(入力する!C15:C34,入力する!J4) | C11: 按分方法を「面積」にした費目の数。
A12: 面積按分率 | B12: =入力する!B8 | C12: 業務面積 ÷ 総床面積。
A13: 時間按分率 | B13: =入力する!B9 | C13: 1週間の業務時間 ÷ 168時間。
A14: 併用按分率 | B14: =入力する!B10 | C14: 面積按分率 × 時間按分率。
A16: ② 費目ごとの内訳（すべて自動計算）
A17: 費目 | B17: 年間の支払額 | C17: 経費にする額 | D17: 構成比 | E17: 順位 | F17: 適用率 | G17: めやす率 | H17: めやすとの差 | J17: めやす率の目安
A18: =入力する!A15 | B18: =入力する!B15 | C18: =入力する!F15 | D18: =IF($B$5>0,C18/$B$5,0) | E18: =IF(C18>0,RANK(C18,$C$18:$C$37),0) | F18: =入力する!E15 | G18: =SUMIF($J$19:$J$25,$A18,$K$19:$K$25) | H18: =IF(G18>0,F18-G18,0) | J18: 費目 | K18: めやす率
A19: =入力する!A16 | B19: =入力する!B16 | C19: =入力する!F16 | D19: =IF($B$5>0,C19/$B$5,0) | E19: =IF(C19>0,RANK(C19,$C$18:$C$37),0) | F19: =入力する!E16 | G19: =SUMIF($J$19:$J$25,$A19,$K$19:$K$25) | H19: =IF(G19>0,F19-G19,0) | J19: 家賃 | K19: 0.3
A20: =入力する!A17 | B20: =入力する!B17 | C20: =入力する!F17 | D20: =IF($B$5>0,C20/$B$5,0) | E20: =IF(C20>0,RANK(C20,$C$18:$C$37),0) | F20: =入力する!E17 | G20: =SUMIF($J$19:$J$25,$A20,$K$19:$K$25) | H20: =IF(G20>0,F20-G20,0) | J20: 電気代 | K20: 0.3
A21: =入力する!A18 | B21: =入力する!B18 | C21: =入力する!F18 | D21: =IF($B$5>0,C21/$B$5,0) | E21: =IF(C21>0,RANK(C21,$C$18:$C$37),0) | F21: =入力する!E18 | G21: =SUMIF($J$19:$J$25,$A21,$K$19:$K$25) | H21: =IF(G21>0,F21-G21,0) | J21: 通信費（ネット） | K21: 0.5
A22: =入力する!A19 | B22: =入力する!B19 | C22: =入力する!F19 | D22: =IF($B$5>0,C22/$B$5,0) | E22: =IF(C22>0,RANK(C22,$C$18:$C$37),0) | F22: =入力する!E19 | G22: =SUMIF($J$19:$J$25,$A22,$K$19:$K$25) | H22: =IF(G22>0,F22-G22,0) | J22: 通信費（携帯） | K22: 0.3
A23: =入力する!A20 | B23: =入力する!B20 | C23: =入力する!F20 | D23: =IF($B$5>0,C23/$B$5,0) | E23: =IF(C23>0,RANK(C23,$C$18:$C$37),0) | F23: =入力する!E20 | G23: =SUMIF($J$19:$J$25,$A23,$K$19:$K$25) | H23: =IF(G23>0,F23-G23,0) | J23: 水道代 | K23: 0.2
A24: =入力する!A21 | B24: =入力する!B21 | C24: =入力する!F21 | D24: =IF($B$5>0,C24/$B$5,0) | E24: =IF(C24>0,RANK(C24,$C$18:$C$37),0) | F24: =入力する!E21 | G24: =SUMIF($J$19:$J$25,$A24,$K$19:$K$25) | H24: =IF(G24>0,F24-G24,0) | J24: ガス代 | K24: 0.2
A25: =入力する!A22 | B25: =入力する!B22 | C25: =入力する!F22 | D25: =IF($B$5>0,C25/$B$5,0) | E25: =IF(C25>0,RANK(C25,$C$18:$C$37),0) | F25: =入力する!E22 | G25: =SUMIF($J$19:$J$25,$A25,$K$19:$K$25) | H25: =IF(G25>0,F25-G25,0) | J25: 火災保険 | K25: 0.3
A26: =入力する!A23 | B26: =入力する!B23 | C26: =入力する!F23 | D26: =IF($B$5>0,C26/$B$5,0) | E26: =IF(C26>0,RANK(C26,$C$18:$C$37),0) | F26: =入力する!E23 | G26: =SUMIF($J$19:$J$25,$A26,$K$19:$K$25) | H26: =IF(G26>0,F26-G26,0)
A27: =入力する!A24 | B27: =入力する!B24 | C27: =入力する!F24 | D27: =IF($B$5>0,C27/$B$5,0) | E27: =IF(C27>0,RANK(C27,$C$18:$C$37),0) | F27: =入力する!E24 | G27: =SUMIF($J$19:$J$25,$A27,$K$19:$K$25) | H27: =IF(G27>0,F27-G27,0) | J27: ※ 一般的な参考値です。費目を増やしたら、ここに同じ費目名を足してください。
A28: =入力する!A25 | B28: =入力する!B25 | C28: =入力する!F25 | D28: =IF($B$5>0,C28/$B$5,0) | E28: =IF(C28>0,RANK(C28,$C$18:$C$37),0) | F28: =入力する!E25 | G28: =SUMIF($J$19:$J$25,$A28,$K$19:$K$25) | H28: =IF(G28>0,F28-G28,0)
A29: =入力する!A26 | B29: =入力する!B26 | C29: =入力する!F26 | D29: =IF($B$5>0,C29/$B$5,0) | E29: =IF(C29>0,RANK(C29,$C$18:$C$37),0) | F29: =入力する!E26 | G29: =SUMIF($J$19:$J$25,$A29,$K$19:$K$25) | H29: =IF(G29>0,F29-G29,0)
A30: =入力する!A27 | B30: =入力する!B27 | C30: =入力する!F27 | D30: =IF($B$5>0,C30/$B$5,0) | E30: =IF(C30>0,RANK(C30,$C$18:$C$37),0) | F30: =入力する!E27 | G30: =SUMIF($J$19:$J$25,$A30,$K$19:$K$25) | H30: =IF(G30>0,F30-G30,0)
A31: =入力する!A28 | B31: =入力する!B28 | C31: =入力する!F28 | D31: =IF($B$5>0,C31/$B$5,0) | E31: =IF(C31>0,RANK(C31,$C$18:$C$37),0) | F31: =入力する!E28 | G31: =SUMIF($J$19:$J$25,$A31,$K$19:$K$25) | H31: =IF(G31>0,F31-G31,0)
A32: =入力する!A29 | B32: =入力する!B29 | C32: =入力する!F29 | D32: =IF($B$5>0,C32/$B$5,0) | E32: =IF(C32>0,RANK(C32,$C$18:$C$37),0) | F32: =入力する!E29 | G32: =SUMIF($J$19:$J$25,$A32,$K$19:$K$25) | H32: =IF(G32>0,F32-G32,0)
A33: =入力する!A30 | B33: =入力する!B30 | C33: =入力する!F30 | D33: =IF($B$5>0,C33/$B$5,0) | E33: =IF(C33>0,RANK(C33,$C$18:$C$37),0) | F33: =入力する!E30 | G33: =SUMIF($J$19:$J$25,$A33,$K$19:$K$25) | H33: =IF(G33>0,F33-G33,0)
A34: =入力する!A31 | B34: =入力する!B31 | C34: =入力する!F31 | D34: =IF($B$5>0,C34/$B$5,0) | E34: =IF(C34>0,RANK(C34,$C$18:$C$37),0) | F34: =入力する!E31 | G34: =SUMIF($J$19:$J$25,$A34,$K$19:$K$25) | H34: =IF(G34>0,F34-G34,0)
A35: =入力する!A32 | B35: =入力する!B32 | C35: =入力する!F32 | D35: =IF($B$5>0,C35/$B$5,0) | E35: =IF(C35>0,RANK(C35,$C$18:$C$37),0) | F35: =入力する!E32 | G35: =SUMIF($J$19:$J$25,$A35,$K$19:$K$25) | H35: =IF(G35>0,F35-G35,0)
A36: =入力する!A33 | B36: =入力する!B33 | C36: =入力する!F33 | D36: =IF($B$5>0,C36/$B$5,0) | E36: =IF(C36>0,RANK(C36,$C$18:$C$37),0) | F36: =入力する!E33 | G36: =SUMIF($J$19:$J$25,$A36,$K$19:$K$25) | H36: =IF(G36>0,F36-G36,0)
A37: =入力する!A34 | B37: =入力する!B34 | C37: =入力する!F34 | D37: =IF($B$5>0,C37/$B$5,0) | E37: =IF(C37>0,RANK(C37,$C$18:$C$37),0) | F37: =入力する!E34 | G37: =SUMIF($J$19:$J$25,$A37,$K$19:$K$25) | H37: =IF(G37>0,F37-G37,0)

Sheet 使い方と注意
A1: 使い方と注意 ― 家事按分の計算シート
A2: このシートについて
A3: 家賃・電気・通信などの生活費を、仕事に使っている割合（按分率）で分けて、経費にできる金額を計算します。
A4: シートは3枚。「入力する」に数字を入れると、「集計を見る」が自動で計算とグラフを作ります。
A5: 薄い黄色のセルが入力欄です。青っぽいセルは自動計算なので、上書きしないでください。
A6: 最初から入っている数字はサンプルです。自分の数字に置きかえて使ってください。
A7: 使い方（3ステップ）
A8: 1. 「入力する」の4〜11行目に、総床面積・業務に使う面積・1週間の業務時間・想定税率を入れる。
A9: → 面積按分率・時間按分率・併用按分率が自動で出ます。
A10: 2. 15行目から下の表に、費目と年間の支払額を入れ、按分方法をプルダウンで選ぶ（最大20件）。
A11: → 適用する率・経費にする額・家事分が自動で計算されます。
A12: 3. 「集計を見る」を開く。合計・月あたり・節税のめやす・費目別の内訳とグラフが出ます。
... A32: 配布元: 副業ポートフォリオ https://satoru-log.jp
