Workbook

Sheet 入力する
A1: 対象の年 | B1: 2026 | D1: ※ 「集計を見る」の月べつ集計は、この年の12か月で作ります。
A2: 開始残高 | B2: 0 | D2: ※ 現金の開始残高（円）。書きはじめる日に手もとにある現金です。
A3: 高額めやす | B3: 30000 | D3: ※ この金額（円）以上の出金に「高額（要確認）」を出します。
A4: 日付 | B4: 摘要（相手先・内容） | C4: 勘定科目 | D4: 支払方法 | E4: 入金（円） | F4: 出金（円） | G4: 備考 | H4: 種類（自動） | I4: 月（自動） | J4: 現金残高（自動） | K4: 入力チェック（自動）
H5: =IF($C5="","",IF(COUNTIF('集計を見る'!$A$47:$A$49,$C5)>0,"収入",IF(COUNTIF('集計を見る'!$A$50:$A$54,$C5)>0,"その他",IF(COUNTIF('集計を見る'!$A$23:$A$42,$C5)>0,"経費","未登録")))) | I5: =IF($A5="","",TEXT($A5,"yyyy/mm")) | J5: =IF($A5="","",$B$2+SUMIFS($E$5:$E5,$D$5:$D5,"現金")-SUMIFS($F$5:$F5,$D$5:$D5,"現金")) | K5: =IF(AND($A5="",$C5="",$E5="",$F5=""),"",IF($A5="","日付が未入力",IF($C5="","科目が未入力",IF($H5="未登録","科目が一覧にない",IF(AND($E5<>"",$F5<>""),"入金と出金が両方",IF(AND($E5="",$F5=""),"金額が未入力",IF(AND($H5="収入",$F5<>""),"入金と出金が逆かも",IF(AND($H5="経費",$E5<>""),"入金と出金が逆かも",IF(AND($F5<>"",$F5>=$B$3),"高額（要確認）",IF($J5<0,"現金がマイナス","OK"))))))))))
H6: =IF($C6="","",IF(COUNTIF('集計を見る'!$A$47:$A$49,$C6)>0,"収入",IF(COUNTIF('集計を見る'!$A$50:$A$54,$C6)>0,"その他",IF(COUNTIF('集計を見る'!$A$23:$A$42,$C6)>0,"経費","未登録")))) | I6: =IF($A6="","",TEXT($A6,"yyyy/mm")) | J6: =IF($A6="","",$B$2+SUMIFS($E$5:$E6,$D$5:$D6,"現金")-SUMIFS($F$5:$F6,$D$5:$D6,"現金")) | K6: =IF(AND($A6="",$C6="",$E6="",$F6=""),"",IF($A6="","日付が未入力",IF($C6="","科目が未入力",IF($H6="未登録","科目が一覧にない",IF(AND($E6<>"",$F6<>""),"入金と出金が両方",IF(AND($E6="",$F6=""),"金額が未入力",IF(AND($H6="収入",$F6<>""),"入金と出金が逆かも",IF(AND($H6="経費",$E6<>""),"入金と出金が逆かも",IF(AND($F6<>"",$F6>=$B$3),"高額（要確認）",IF($J6<0,"現金がマイナス","OK"))))))))))
H7: =IF($C7="","",IF(COUNTIF('集計を見る'!$A$47:$A$49,$C7)>0,"収入",IF(COUNTIF('集計を見る'!$A$50:$A$54,$C7)>0,"その他",IF(COUNTIF('集計を見る'!$A$23:$A$42,$C7)>0,"経費","未登録")))) | I7: =IF($A7="","",TEXT($A7,"yyyy/mm")) | J7: =IF($A7="","",$B$2+SUMIFS($E$5:$E7,$D$5:$D7,"現金")-SUMIFS($F$5:$F7,$D$5:$D7,"現金")) | K7: =IF(AND($A7="",$C7="",$E7="",$F7=""),"",IF($A7="","日付が未入力",IF($C7="","科目が未入力",IF($H7="未登録","科目が一覧にない",IF(AND($E7<>"",$F7<>""),"入金と出金が両方",IF(AND($E7="",$F7=""),"金額が未入力",IF(AND($H7="収入",$F7<>""),"入金と出金が逆かも",IF(AND($H7="経費",$E7<>""),"入金と出金が逆かも",IF(AND($F7<>"",$F7>=$B$3),"高額（要確認）",IF($J7<0,"現金がマイナス","OK"))))))))))
H8: =IF($C8="","",IF(COUNTIF('集計を見る'!$A$47:$A$49,$C8)>0,"収入",IF(COUNTIF('集計を見る'!$A$50:$A$54,$C8)>0,"その他",IF(COUNTIF('集計を見る'!$A$23:$A$42,$C8)>0,"経費","未登録")))) | I8: =IF($A8="","",TEXT($A8,"yyyy/mm")) | J8: =IF($A8="","",$B$2+SUMIFS($E$5:$E8,$D$5:$D8,"現金")-SUMIFS($F$5:$F8,$D$5:$D8,"現金")) | K8: =IF(AND($A8="",$C8="",$E8="",$F8=""),"",IF($A8="","日付が未入力",IF($C8="","科目が未入力",IF($H8="未登録","科目が一覧にない",IF(AND($E8<>"",$F8<>""),"入金と出金が両方",IF(AND($E8="",$F8=""),"金額が未入力",IF(AND($H8="収入",$F8<>""),"入金と出金が逆かも",IF(AND($H8="経費",$E8<>""),"入金と出金が逆かも",IF(AND($F8<>"",$F8>=$B$3),"高額（要確認）",IF($J8<0,"現金がマイナス","OK"))))))))))
H9: =IF($C9="","",IF(COUNTIF('集計を見る'!$A$47:$A$49,$C9)>0,"収入",IF(COUNTIF('集計を見る'!$A$50:$A$54,$C9)>0,"その他",IF(COUNTIF('集計を見る'!$A$23:$A$42,$C9)>0,"経費","未登録")))) | I9: =IF($A9="","",TEXT($A9,"yyyy/mm")) | J9: =IF($A9="","",$B$2+SUMIFS($E$5:$E9,$D$5:$D9,"現金")-SUMIFS($F$5:$F9,$D$5:$D9,"現金")) | K9: =IF(AND($A9="",$C9="",$E9="",$F9=""),"",IF($A9="","日付が未入力",IF($C9="","科目が未入力",IF($H9="未登録","科目が一覧にない",IF(AND($E9<>"",$F9<>""),"入金と出金が両方",IF(AND($E9="",$F9=""),"金額が未入力",IF(AND($H9="収入",$F9<>""),"入金と出金が逆かも",IF(AND($H9="経費",$E9<>""),"入金と出金が逆かも",IF(AND($F9<>"",$F9>=$B$3),"高額（要確認）",IF($J9<0,"現金がマイナス","OK"))))))))))
H10: =IF($C10="","",IF(COUNTIF('集計を見る'!$A$47:$A$49,$C10)>0,"収入",IF(COUNTIF('集計を見る'!$A$50:$A$54,$C10)>0,"その他",IF(COUNTIF('集計を見る'!$A$23:$A$42,$C10)>0,"経費","未登録")))) | I10: =IF($A10="","",TEXT($A10,"yyyy/mm")) | J10: =IF($A10="","",$B$2+SUMIFS($E$5:$E10,$D$5:$D10,"現金")-SUMIFS($F$5:$F10,$D$5:$D10,"現金")) | K10: =IF(AND($A10="",$C10="",$E10="",$F10=""),"",IF($A10="","日付が未入力",IF($C10="","科目が未入力",IF($H10="未登録","科目が一覧にない",IF(AND($E10<>"",$F10<>""),"入金と出金が両方",IF(AND($E10="",$F10=""),"金額が未入力",IF(AND($H10="収入",$F10<>""),"入金と出金が逆かも",IF(AND($H10="経費",$E10<>""),"入金と出金が逆かも",IF(AND($F10<>"",$F10>=$B$3),"高額（要確認）",IF($J10<0,"現金がマイナス","OK"))))))))))
H11: =IF($C11="","",IF(COUNTIF('集計を見る'!$A$47:$A$49,$C11)>0,"収入",IF(COUNTIF('集計を見る'!$A$50:$A$54,$C11)>0,"その他",IF(COUNTIF('集計を見る'!$A$23:$A$42,$C11)>0,"経費","未登録")))) | I11: =IF($A11="","",TEXT($A11,"yyyy/mm")) | J11: =IF($A11="","",$B$2+SUMIFS($E$5:$E11,$D$5:$D11,"現金")-SUMIFS($F$5:$F11,$D$5:$D11,"現金")) | K11: =IF(AND($A11="",$C11="",$E11="",$F11=""),"",IF($A11="","日付が未入力",IF($C11="","科目が未入力",IF($H11="未登録","科目が一覧にない",IF(AND($E11<>"",$F11<>""),"入金と出金が両方",IF(AND($E11="",$F11=""),"金額が未入力",IF(AND($H11="収入",$F11<>""),"入金と出金が逆かも",IF(AND($H11="経費",$E11<>""),"入金と出金が逆かも",IF(AND($F11<>"",$F11>=$B$3),"高額（要確認）",IF($J11<0,"現金がマイナス","OK"))))))))))
H12: =IF($C12="","",IF(COUNTIF('集計を見る'!$A$47:$A$49,$C12)>0,"収入",IF(COUNTIF('集計を見る'!$A$50:$A$54,$C12)>0,"その他",IF(COUNTIF('集計を見る'!$A$23:$A$42,$C12)>0,"経費","未登録")))) | I12: =IF($A12="","",TEXT($A12,"yyyy/mm")) | J12: =IF($A12="","",$B$2+SUMIFS($E$5:$E12,$D$5:$D12,"現金")-SUMIFS($F$5:$F12,$D$5:$D12,"現金")) | K12: =IF(AND($A12="",$C12="",$E12="",$F12=""),"",IF($A12="","日付が未入力",IF($C12="","科目が未入力",IF($H12="未登録","科目が一覧にない",IF(AND($E12<>"",$F12<>""),"入金と出金が両方",IF(AND($E12="",$F12=""),"金額が未入力",IF(AND($H12="収入",$F12<>""),"入金と出金が逆かも",IF(AND($H12="経費",$E12<>""),"入金と出金が逆かも",IF(AND($F12<>"",$F12>=$B$3),"高額（要確認）",IF($J12<0,"現金がマイナス","OK"))))))))))
H13: =IF($C13="","",IF(COUNTIF('集計を見る'!$A$47:$A$49,$C13)>0,"収入",IF(COUNTIF('集計を見る'!$A$50:$A$54,$C13)>0,"その他",IF(COUNTIF('集計を見る'!$A$23:$A$42,$C13)>0,"経費","未登録")))) | I13: =IF($A13="","",TEXT($A13,"yyyy/mm")) | J13: =IF($A13="","",$B$2+SUMIFS($E$5:$E13,$D$5:$D13,"現金")-SUMIFS($F$5:$F13,$D$5:$D13,"現金")) | K13: =IF(AND($A13="",$C13="",$E13="",$F13=""),"",IF($A13="","日付が未入力",IF($C13="","科目が未入力",IF($H13="未登録","科目が一覧にない",IF(AND($E13<>"",$F13<>""),"入金と出金が両方",IF(AND($E13="",$F13=""),"金額が未入力",IF(AND($H13="収入",$F13<>""),"入金と出金が逆かも",IF(AND($H13="経費",$E13<>""),"入金と出金が逆かも",IF(AND($F13<>"",$F13>=$B$3),"高額（要確認）",IF($J13<0,"現金がマイナス","OK"))))))))))
H14: =IF($C14="","",IF(COUNTIF('集計を見る'!$A$47:$A$49,$C14)>0,"収入",IF(COUNTIF('集計を見る'!$A$50:$A$54,$C14)>0,"その他",IF(COUNTIF('集計を見る'!$A$23:$A$42,$C14)>0,"経費","未登録")))) | I14: =IF($A14="","",TEXT($A14,"yyyy/mm")) | J14: =IF($A14="","",$B$2+SUMIFS($E$5:$E14,$D$5:$D14,"現金")-SUMIFS($F$5:$F14,$D$5:$D14,"現金")) | K14: =IF(AND($A14="",$C14="",$E14="",$F14=""),"",IF($A14="","日付が未入力",IF($C14="","科目が未入力",IF($H14="未登録","科目が一覧にない",IF(AND($E14<>"",$F14<>""),"入金と出金が両方",IF(AND($E14="",$F14=""),"金額が未入力",IF(AND($H14="収入",$F14<>""),"入金と出金が逆かも",IF(AND($H14="経費",$E14<>""),"入金と出金が逆かも",IF(AND($F14<>"",$F14>=$B$3),"高額（要確認）",IF($J14<0,"現金がマイナス","OK"))))))))))
H15: =IF($C15="","",IF(COUNTIF('集計を見る'!$A$47:$A$49,$C15)>0,"収入",IF(COUNTIF('集計を見る'!$A$50:$A$54,$C15)>0,"その他",IF(COUNTIF('集計を見る'!$A$23:$A$42,$C15)>0,"経費","未登録")))) | I15: =IF($A15="","",TEXT($A15,"yyyy/mm")) | J15: =IF($A15="","",$B$2+SUMIFS($E$5:$E15,$D$5:$D15,"現金")-SUMIFS($F$5:$F15,$D$5:$D15,"現金")) | K15: =IF(AND($A15="",$C15="",$E15="",$F15=""),"",IF($A15="","日付が未入力",IF($C15="","科目が未入力",IF($H15="未登録","科目が一覧にない",IF(AND($E15<>"",$F15<>""),"入金と出金が両方",IF(AND($E15="",$F15=""),"金額が未入力",IF(AND($H15="収入",$F15<>""),"入金と出金が逆かも",IF(AND($H15="経費",$E15<>""),"入金と出金が逆かも",IF(AND($F15<>"",$F15>=$B$3),"高額（要確認）",IF($J15<0,"現金がマイナス","OK"))))))))))
H16: =IF($C16="","",IF(COUNTIF('集計を見る'!$A$47:$A$49,$C16)>0,"収入",IF(COUNTIF('集計を見る'!$A$50:$A$54,$C16)>0,"その他",IF(COUNTIF('集計を見る'!$A$23:$A$42,$C16)>0,"経費","未登録")))) | I16: =IF($A16="","",TEXT($A16,"yyyy/mm")) | J16: =IF($A16="","",$B$2+SUMIFS($E$5:$E16,$D$5:$D16,"現金")-SUMIFS($F$5:$F16,$D$5:$D16,"現金")) | K16: =IF(AND($A16="",$C16="",$E16="",$F16=""),"",IF($A16="","日付が未入力",IF($C16="","科目が未入力",IF($H16="未登録","科目が一覧にない",IF(AND($E16<>"",$F16<>""),"入金と出金が両方",IF(AND($E16="",$F16=""),"金額が未入力",IF(AND($H16="収入",$F16<>""),"入金と出金が逆かも",IF(AND($H16="経費",$E16<>""),"入金と出金が逆かも",IF(AND($F16<>"",$F16>=$B$3),"高額（要確認）",IF($J16<0,"現金がマイナス","OK"))))))))))
... H204: =IF($C204="","",IF(COUNTIF('集計を見る'!$A$47:$A$49,$C204)>0,"収入",IF(COUNTIF('集計を見る'!$A$50:$A$54,$C204)>0,"その他",IF(COUNTIF('集計を見る'!$A$23:$A$42,$C204)>0,"経費","未登録")))) | I204: =IF($A204="","",TEXT($A204,"yyyy/mm")) | J204: =IF($A204="","",$B$2+SUMIFS($E$5:$E204,$D$5:$D204,"現金")-SUMIFS($F$5:$F204,$D$5:$D204,"現金")) | K204: =IF(AND($A204="",$C204="",$E204="",$F204=""),"",IF($A204="","日付が未入力",IF($C204="","科目が未入力",IF($H204="未登録","科目が一覧にない",IF(AND($E204<>"",$F204<>""),"入金と出金が両方",IF(AND($E204="",$F204=""),"金額が未入力",IF(AND($H204="収入",$F204<>""),"入金と出金が逆かも",IF(AND($H204="経費",$E204<>""),"入金と出金が逆かも",IF(AND($F204<>"",$F204>=$B$3),"高額（要確認）",IF($J204<0,"現金がマイナス","OK"))))))))))

Sheet 集計を見る
A1: 経費帳・現金出納帳
A2: 「入力する」に日付・科目・入金・出金を打つだけで、仕分けと現金残高と月べつの集計が自動で出ます。
A3: 配布元: 副業ポートフォリオ https://satoru-log.jp
A5: 全体のまとめ
A6: 収入（入金）の合計 | B6: =SUM('入力する'!$E$5:$E$204)
A7: 経費の合計（出金のうち「経費」） | B7: =SUMIF('入力する'!$H$5:$H$204,"経費",'入力する'!$F$5:$F$204)
A8: その他の出金（事業主貸・預入など） | B8: =SUMIF('入力する'!$H$5:$H$204,"その他",'入力する'!$F$5:$F$204)
A9: 出金の合計 | B9: =SUM('入力する'!$F$5:$F$204)
A10: 差引（収入−経費） | B10: =$B$6-$B$7
A11: 記録した件数 | B11: =COUNT('入力する'!$A$5:$A$204)
A12: 経費の件数 | B12: =COUNTIF('入力する'!$H$5:$H$204,"経費")
A13: 経費1件あたりの平均額 | B13: =IF($B$12=0,"",ROUND($B$7/$B$12,0))
A14: 現金の開始残高 | B14: ='入力する'!$B$2
A15: 現金の入金合計 | B15: =SUMIF('入力する'!$D$5:$D$204,"現金",'入力する'!$E$5:$E$204)
A16: 現金の出金合計 | B16: =SUMIF('入力する'!$D$5:$D$204,"現金",'入力する'!$F$5:$F$204)
A17: 現金の帳簿残高（いまの手もと） | B17: =$B$14+$B$15-$B$16
A18: 高額（要確認）の出金件数 | B18: =COUNTIF('入力する'!$K$5:$K$204,"高額（要確認）")
A19: 直したほうがよい行の件数 | B19: =COUNTIF('入力する'!$K$5:$K$204,"日付が未入力")+COUNTIF('入力する'!$K$5:$K$204,"科目が未入力")+COUNTIF('入力する'!$K$5:$K$204,"科目が一覧にない")+COUNTIF('入力する'!$K$5:$K$204,"入金と出金が両方")+COUNTIF('入力する'!$K$5:$K$204,"金額が未入力")+COUNTIF('入力する'!$K$5:$K$204,"入金と出金が逆かも")+COUNTIF('入力する'!$K$5:$K$204,"現金がマイナス")
A21: 経費の科目べつ集計（金額の多い順に順位）
A22: 勘定科目 | B22: 出金の合計 | C22: 構成比 | D22: 順位 | E22: 件数 | F22: 1件あたり
A23: 仕入 | B23: =SUMIF('入力する'!$C$5:$C$204,$A23,'入力する'!$F$5:$F$204) | C23: =IF($B$43=0,"",$B23/$B$43) | D23: =IF($B23=0,"",RANK($B23,$B$23:$B$42)) | E23: =COUNTIF('入力する'!$C$5:$C$204,$A23) | F23: =IF($E23=0,"",ROUND($B23/$E23,0))
A24: 租税公課 | B24: =SUMIF('入力する'!$C$5:$C$204,$A24,'入力する'!$F$5:$F$204) | C24: =IF($B$43=0,"",$B24/$B$43) | D24: =IF($B24=0,"",RANK($B24,$B$23:$B$42)) | E24: =COUNTIF('入力する'!$C$5:$C$204,$A24) | F24: =IF($E24=0,"",ROUND($B24/$E24,0))
A25: 荷造運賃 | B25: =SUMIF('入力する'!$C$5:$C$204,$A25,'入力する'!$F$5:$F$204) | C25: =IF($B$43=0,"",$B25/$B$43) | D25: =IF($B25=0,"",RANK($B25,$B$23:$B$42)) | E25: =COUNTIF('入力する'!$C$5:$C$204,$A25) | F25: =IF($E25=0,"",ROUND($B25/$E25,0))
A26: 水道光熱費 | B26: =SUMIF('入力する'!$C$5:$C$204,$A26,'入力する'!$F$5:$F$204) | C26: =IF($B$43=0,"",$B26/$B$43) | D26: =IF($B26=0,"",RANK($B26,$B$23:$B$42)) | E26: =COUNTIF('入力する'!$C$5:$C$204,$A26) | F26: =IF($E26=0,"",ROUND($B26/$E26,0))
A27: 旅費交通費 | B27: =SUMIF('入力する'!$C$5:$C$204,$A27,'入力する'!$F$5:$F$204) | C27: =IF($B$43=0,"",$B27/$B$43) | D27: =IF($B27=0,"",RANK($B27,$B$23:$B$42)) | E27: =COUNTIF('入力する'!$C$5:$C$204,$A27) | F27: =IF($E27=0,"",ROUND($B27/$E27,0))
A28: 通信費 | B28: =SUMIF('入力する'!$C$5:$C$204,$A28,'入力する'!$F$5:$F$204) | C28: =IF($B$43=0,"",$B28/$B$43) | D28: =IF($B28=0,"",RANK($B28,$B$23:$B$42)) | E28: =COUNTIF('入力する'!$C$5:$C$204,$A28) | F28: =IF($E28=0,"",ROUND($B28/$E28,0))
A29: 広告宣伝費 | B29: =SUMIF('入力する'!$C$5:$C$204,$A29,'入力する'!$F$5:$F$204) | C29: =IF($B$43=0,"",$B29/$B$43) | D29: =IF($B29=0,"",RANK($B29,$B$23:$B$42)) | E29: =COUNTIF('入力する'!$C$5:$C$204,$A29) | F29: =IF($E29=0,"",ROUND($B29/$E29,0))
A30: 接待交際費 | B30: =SUMIF('入力する'!$C$5:$C$204,$A30,'入力する'!$F$5:$F$204) | C30: =IF($B$43=0,"",$B30/$B$43) | D30: =IF($B30=0,"",RANK($B30,$B$23:$B$42)) | E30: =COUNTIF('入力する'!$C$5:$C$204,$A30) | F30: =IF($E30=0,"",ROUND($B30/$E30,0))
A31: 損害保険料 | B31: =SUMIF('入力する'!$C$5:$C$204,$A31,'入力する'!$F$5:$F$204) | C31: =IF($B$43=0,"",$B31/$B$43) | D31: =IF($B31=0,"",RANK($B31,$B$23:$B$42)) | E31: =COUNTIF('入力する'!$C$5:$C$204,$A31) | F31: =IF($E31=0,"",ROUND($B31/$E31,0))
A32: 修繕費 | B32: =SUMIF('入力する'!$C$5:$C$204,$A32,'入力する'!$F$5:$F$204) | C32: =IF($B$43=0,"",$B32/$B$43) | D32: =IF($B32=0,"",RANK($B32,$B$23:$B$42)) | E32: =COUNTIF('入力する'!$C$5:$C$204,$A32) | F32: =IF($E32=0,"",ROUND($B32/$E32,0))
A33: 消耗品費 | B33: =SUMIF('入力する'!$C$5:$C$204,$A33,'入力する'!$F$5:$F$204) | C33: =IF($B$43=0,"",$B33/$B$43) | D33: =IF($B33=0,"",RANK($B33,$B$23:$B$42)) | E33: =COUNTIF('入力する'!$C$5:$C$204,$A33) | F33: =IF($E33=0,"",ROUND($B33/$E33,0))
A34: 福利厚生費 | B34: =SUMIF('入力する'!$C$5:$C$204,$A34,'入力する'!$F$5:$F$204) | C34: =IF($B$43=0,"",$B34/$B$43) | D34: =IF($B34=0,"",RANK($B34,$B$23:$B$42)) | E34: =COUNTIF('入力する'!$C$5:$C$204,$A34) | F34: =IF($E34=0,"",ROUND($B34/$E34,0))
... A42: 雑費 | B42: =SUMIF('入力する'!$C$5:$C$204,$A42,'入力する'!$F$5:$F$204) | C42: =IF($B$43=0,"",$B42/$B$43) | D42: =IF($B42=0,"",RANK($B42,$B$23:$B$42)) | E42: =COUNTIF('入力する'!$C$5:$C$204,$A42) | F42: =IF($E42=0,"",ROUND($B42/$E42,0))
A43: 経費の合計 | B43: =SUM(B23:B42) | C43: =IF($B$43=0,"",1) | E43: =SUM(E23:E42) | F43: =IF($E$43=0,"",ROUND($B$43/$E$43,0))
A45: 収入・その他の科目べつ集計
A46: 勘定科目 | B46: 種類 | C46: 入金の合計 | D46: 出金の合計 | E46: 件数 | F46: 差引
A47: 売上 | B47: 収入 | C47: =SUMIF('入力する'!$C$5:$C$204,$A47,'入力する'!$E$5:$E$204) | D47: =SUMIF('入力する'!$C$5:$C$204,$A47,'入力する'!$F$5:$F$204) | E47: =COUNTIF('入力する'!$C$5:$C$204,$A47) | F47: =$C47-$D47
A48: 雑収入 | B48: 収入 | C48: =SUMIF('入力する'!$C$5:$C$204,$A48,'入力する'!$E$5:$E$204) | D48: =SUMIF('入力する'!$C$5:$C$204,$A48,'入力する'!$F$5:$F$204) | E48: =COUNTIF('入力する'!$C$5:$C$204,$A48) | F48: =$C48-$D48
A49: 受取利息 | B49: 収入 | C49: =SUMIF('入力する'!$C$5:$C$204,$A49,'入力する'!$E$5:$E$204) | D49: =SUMIF('入力する'!$C$5:$C$204,$A49,'入力する'!$F$5:$F$204) | E49: =COUNTIF('入力する'!$C$5:$C$204,$A49) | F49: =$C49-$D49
A50: 事業主借 | B50: その他 | C50: =SUMIF('入力する'!$C$5:$C$204,$A50,'入力する'!$E$5:$E$204) | D50: =SUMIF('入力する'!$C$5:$C$204,$A50,'入力する'!$F$5:$F$204) | E50: =COUNTIF('入力する'!$C$5:$C$204,$A50) | F50: =$C50-$D50
...

Sheet 使い方と注意
A1: 経費帳・現金出納帳｜使い方と注意
A3: このシートについて
A4: 経費帳と現金出納帳をひとつにしたテンプレートです。「入力する」に1行ずつ書いていくだけで、
A5: 科目の仕分け・現金の残高・月べつの集計・入力ミスのチェックまで自動で出ます。
A7: 使い方（3ステップ）
A8: 1. 「入力する」のB1に対象の年、B2に現金の開始残高、B3に高額チェックのめやすを入れます。
A9: 開始残高は、書きはじめる日の手もとの現金です。0のままでもかまいません。
A10: 2. 5行目から下に、日付・摘要・勘定科目・支払方法・入金または出金を打ち込みます。
A11: 勘定科目と支払方法はプルダウンから選べます。入金と出金は、どちらか片方だけに入れます。
A12: 3. 「集計を見る」を開くと、合計・構成比・順位・月べつ推移とグラフが出そろいます。
A14: 色のきまり
A15: うすい黄色のセル … 自分で入力するところです。
... A53: 配布元: 副業ポートフォリオ https://satoru-log.jp
