Workbook

Sheet 入力する
A1: 日付 | B1: 自治体 | C1: 返礼品 | D1: ジャンル | E1: 寄附額（円） | F1: 申請方法 | G1: 申請状況 | H1: 返礼品到着 | I1: メモ | J1: ワンストップ自治体（自動）
J2: =IF(AND($F2="ワンストップ",$B2<>"",COUNTIFS($B$2:$B2,$B2,$F$2:$F2,"ワンストップ")=1),1,"")
J3: =IF(AND($F3="ワンストップ",$B3<>"",COUNTIFS($B$2:$B3,$B3,$F$2:$F3,"ワンストップ")=1),1,"")
J4: =IF(AND($F4="ワンストップ",$B4<>"",COUNTIFS($B$2:$B4,$B4,$F$2:$F4,"ワンストップ")=1),1,"")
J5: =IF(AND($F5="ワンストップ",$B5<>"",COUNTIFS($B$2:$B5,$B5,$F$2:$F5,"ワンストップ")=1),1,"")
J6: =IF(AND($F6="ワンストップ",$B6<>"",COUNTIFS($B$2:$B6,$B6,$F$2:$F6,"ワンストップ")=1),1,"")
J7: =IF(AND($F7="ワンストップ",$B7<>"",COUNTIFS($B$2:$B7,$B7,$F$2:$F7,"ワンストップ")=1),1,"")
J8: =IF(AND($F8="ワンストップ",$B8<>"",COUNTIFS($B$2:$B8,$B8,$F$2:$F8,"ワンストップ")=1),1,"")
J9: =IF(AND($F9="ワンストップ",$B9<>"",COUNTIFS($B$2:$B9,$B9,$F$2:$F9,"ワンストップ")=1),1,"")
J10: =IF(AND($F10="ワンストップ",$B10<>"",COUNTIFS($B$2:$B10,$B10,$F$2:$F10,"ワンストップ")=1),1,"")
J11: =IF(AND($F11="ワンストップ",$B11<>"",COUNTIFS($B$2:$B11,$B11,$F$2:$F11,"ワンストップ")=1),1,"")
J12: =IF(AND($F12="ワンストップ",$B12<>"",COUNTIFS($B$2:$B12,$B12,$F$2:$F12,"ワンストップ")=1),1,"")
J13: =IF(AND($F13="ワンストップ",$B13<>"",COUNTIFS($B$2:$B13,$B13,$F$2:$F13,"ワンストップ")=1),1,"")
... J201: =IF(AND($F201="ワンストップ",$B201<>"",COUNTIFS($B$2:$B201,$B201,$F$2:$F201,"ワンストップ")=1),1,"")

Sheet 集計を見る
A1: ふるさと納税の上限めやす＋購入記録
A2: 配布元: 副業ポートフォリオ https://satoru-log.jp
A4: ① 上限めやすを出す（年収と家族構成を入れるだけ）
A5: 年収（給与収入・万円） | C5: ← 300〜1000（万円）の範囲で早見表を引きます。超える場合は1000の行を使います
A6: 家族構成（プルダウン）
A7: 対象年（西暦）
A8: 早見表からのめやす（円） | B8: =IFERROR(VLOOKUP(B5,$A$57:$H$77,MATCH(B6,$A$56:$H$56,0),TRUE),0)
A9: シミュレーター結果を使う場合（円・任意） | C9: ← ポータルサイトの詳細シミュレーターで出た金額があれば、こちらが優先されます
A10: 採用する上限めやす（円） | B10: =IF(B9>0,B9,B8)
A12: ② めやす（予算）と実績の対比
A13: 寄附合計（円） | B13: =SUM('入力する'!$E$2:$E$201)
A14: 残り枠（円） | B14: =B10-B13
A15: 使用率 | B15: =IF(B10>0,B13/B10,0)
A16: 判定 | B16: =IF(B10=0,"年収と家族構成を入れてください",IF(B13>B10,"⚠ めやすを超えています",IF(B15>=0.9,"あと少しで上限です","まだ余裕があります")))
A17: 寄附件数 | B17: =COUNTIF('入力する'!$E$2:$E$201,">0")
A18: 控除見込み額（円）※めやす内の寄附−2,000円 | B18: =IF(B13=0,0,MAX(MIN(B13,B10)-2000,0))
A19: 実質の自己負担見込み（円） | B19: =B13-B18
A20: 申請が「未」の件数 | B20: =COUNTIF('入力する'!$G$2:$G$201,"未")
A21: 返礼品が「未着」の件数 | B21: =COUNTIF('入力する'!$H$2:$H$201,"未着")
A22: ワンストップ特例で申請した自治体数 | B22: =SUM('入力する'!$J$2:$J$201)
A23: ワンストップ判定（5自治体まで） | B23: =IF(B22>5,"⚠ 6自治体以上：確定申告が必要です",IF(B22=0,"−","OK（5自治体以内）"))
A25: ③ ジャンル別の内訳（構成比と順位）
A26: ジャンル | B26: 寄附額（円） | C26: 件数 | D26: 構成比 | E26: 順位
A27: 肉 | B27: =SUMIF('入力する'!$D$2:$D$201,A27,'入力する'!$E$2:$E$201) | C27: =COUNTIF('入力する'!$D$2:$D$201,A27) | D27: =IF($B$37=0,0,B27/$B$37) | E27: =IF(B27=0,"−",RANK(B27,$B$27:$B$36))
A28: 魚介 | B28: =SUMIF('入力する'!$D$2:$D$201,A28,'入力する'!$E$2:$E$201) | C28: =COUNTIF('入力する'!$D$2:$D$201,A28) | D28: =IF($B$37=0,0,B28/$B$37) | E28: =IF(B28=0,"−",RANK(B28,$B$27:$B$36))
A29: 米・パン | B29: =SUMIF('入力する'!$D$2:$D$201,A29,'入力する'!$E$2:$E$201) | C29: =COUNTIF('入力する'!$D$2:$D$201,A29) | D29: =IF($B$37=0,0,B29/$B$37) | E29: =IF(B29=0,"−",RANK(B29,$B$27:$B$36))
A30: 果物 | B30: =SUMIF('入力する'!$D$2:$D$201,A30,'入力する'!$E$2:$E$201) | C30: =COUNTIF('入力する'!$D$2:$D$201,A30) | D30: =IF($B$37=0,0,B30/$B$37) | E30: =IF(B30=0,"−",RANK(B30,$B$27:$B$36))
A31: 野菜 | B31: =SUMIF('入力する'!$D$2:$D$201,A31,'入力する'!$E$2:$E$201) | C31: =COUNTIF('入力する'!$D$2:$D$201,A31) | D31: =IF($B$37=0,0,B31/$B$37) | E31: =IF(B31=0,"−",RANK(B31,$B$27:$B$36))
A32: 加工品 | B32: =SUMIF('入力する'!$D$2:$D$201,A32,'入力する'!$E$2:$E$201) | C32: =COUNTIF('入力する'!$D$2:$D$201,A32) | D32: =IF($B$37=0,0,B32/$B$37) | E32: =IF(B32=0,"−",RANK(B32,$B$27:$B$36))
A33: 飲料・お酒 | B33: =SUMIF('入力する'!$D$2:$D$201,A33,'入力する'!$E$2:$E$201) | C33: =COUNTIF('入力する'!$D$2:$D$201,A33) | D33: =IF($B$37=0,0,B33/$B$37) | E33: =IF(B33=0,"−",RANK(B33,$B$27:$B$36))
A34: 日用品 | B34: =SUMIF('入力する'!$D$2:$D$201,A34,'入力する'!$E$2:$E$201) | C34: =COUNTIF('入力する'!$D$2:$D$201,A34) | D34: =IF($B$37=0,0,B34/$B$37) | E34: =IF(B34=0,"−",RANK(B34,$B$27:$B$36))
A35: 旅行・体験 | B35: =SUMIF('入力する'!$D$2:$D$201,A35,'入力する'!$E$2:$E$201) | C35: =COUNTIF('入力する'!$D$2:$D$201,A35) | D35: =IF($B$37=0,0,B35/$B$37) | E35: =IF(B35=0,"−",RANK(B35,$B$27:$B$36))
A36: その他 | B36: =SUMIF('入力する'!$D$2:$D$201,A36,'入力する'!$E$2:$E$201) | C36: =COUNTIF('入力する'!$D$2:$D$201,A36) | D36: =IF($B$37=0,0,B36/$B$37) | E36: =IF(B36=0,"−",RANK(B36,$B$27:$B$36))
A37: 合計 | B37: =SUM(B27:B36) | C37: =SUM(C27:C36) | D37: =IF(B37=0,0,1)
A39: ④ 月別の推移（対象年）
A40: 月 | B40: 寄附額（円） | C40: 累計（円） | D40: 件数 | E40: めやす残り（円）
A41: 1 | B41: =SUMIFS('入力する'!$E$2:$E$201,'入力する'!$A$2:$A$201,">="&DATE($B$7,A41,1),'入力する'!$A$2:$A$201,"<"&DATE($B$7,A41+1,1)) | C41: =SUM($B$41:B41) | D41: =COUNTIFS('入力する'!$A$2:$A$201,">="&DATE($B$7,A41,1),'入力する'!$A$2:$A$201,"<"&DATE($B$7,A41+1,1)) | E41: =$B$10-C41
A42: 2 | B42: =SUMIFS('入力する'!$E$2:$E$201,'入力する'!$A$2:$A$201,">="&DATE($B$7,A42,1),'入力する'!$A$2:$A$201,"<"&DATE($B$7,A42+1,1)) | C42: =SUM($B$41:B42) | D42: =COUNTIFS('入力する'!$A$2:$A$201,">="&DATE($B$7,A42,1),'入力する'!$A$2:$A$201,"<"&DATE($B$7,A42+1,1)) | E42: =$B$10-C42
A43: 3 | B43: =SUMIFS('入力する'!$E$2:$E$201,'入力する'!$A$2:$A$201,">="&DATE($B$7,A43,1),'入力する'!$A$2:$A$201,"<"&DATE($B$7,A43+1,1)) | C43: =SUM($B$41:B43) | D43: =COUNTIFS('入力する'!$A$2:$A$201,">="&DATE($B$7,A43,1),'入力する'!$A$2:$A$201,"<"&DATE($B$7,A43+1,1)) | E43: =$B$10-C43
A44: 4 | B44: =SUMIFS('入力する'!$E$2:$E$201,'入力する'!$A$2:$A$201,">="&DATE($B$7,A44,1),'入力する'!$A$2:$A$201,"<"&DATE($B$7,A44+1,1)) | C44: =SUM($B$41:B44) | D44: =COUNTIFS('入力する'!$A$2:$A$201,">="&DATE($B$7,A44,1),'入力する'!$A$2:$A$201,"<"&DATE($B$7,A44+1,1)) | E44: =$B$10-C44
A45: 5 | B45: =SUMIFS('入力する'!$E$2:$E$201,'入力する'!$A$2:$A$201,">="&DATE($B$7,A45,1),'入力する'!$A$2:$A$201,"<"&DATE($B$7,A45+1,1)) | C45: =SUM($B$41:B45) | D45: =COUNTIFS('入力する'!$A$2:$A$201,">="&DATE($B$7,A45,1),'入力する'!$A$2:$A$201,"<"&DATE($B$7,A45+1,1)) | E45: =$B$10-C45
A46: 6 | B46: =SUMIFS('入力する'!$E$2:$E$201,'入力する'!$A$2:$A$201,">="&DATE($B$7,A46,1),'入力する'!$A$2:$A$201,"<"&DATE($B$7,A46+1,1)) | C46: =SUM($B$41:B46) | D46: =COUNTIFS('入力する'!$A$2:$A$201,">="&DATE($B$7,A46,1),'入力する'!$A$2:$A$201,"<"&DATE($B$7,A46+1,1)) | E46: =$B$10-C46
A47: 7 | B47: =SUMIFS('入力する'!$E$2:$E$201,'入力する'!$A$2:$A$201,">="&DATE($B$7,A47,1),'入力する'!$A$2:$A$201,"<"&DATE($B$7,A47+1,1)) | C47: =SUM($B$41:B47) | D47: =COUNTIFS('入力する'!$A$2:$A$201,">="&DATE($B$7,A47,1),'入力する'!$A$2:$A$201,"<"&DATE($B$7,A47+1,1)) | E47: =$B$10-C47
A48: 8 | B48: =SUMIFS('入力する'!$E$2:$E$201,'入力する'!$A$2:$A$201,">="&DATE($B$7,A48,1),'入力する'!$A$2:$A$201,"<"&DATE($B$7,A48+1,1)) | C48: =SUM($B$41:B48) | D48: =COUNTIFS('入力する'!$A$2:$A$201,">="&DATE($B$7,A48,1),'入力する'!$A$2:$A$201,"<"&DATE($B$7,A48+1,1)) | E48: =$B$10-C48
A49: 9 | B49: =SUMIFS('入力する'!$E$2:$E$201,'入力する'!$A$2:$A$201,">="&DATE($B$7,A49,1),'入力する'!$A$2:$A$201,"<"&DATE($B$7,A49+1,1)) | C49: =SUM($B$41:B49) | D49: =COUNTIFS('入力する'!$A$2:$A$201,">="&DATE($B$7,A49,1),'入力する'!$A$2:$A$201,"<"&DATE($B$7,A49+1,1)) | E49: =$B$10-C49
A50: 10 | B50: =SUMIFS('入力する'!$E$2:$E$201,'入力する'!$A$2:$A$201,">="&DATE($B$7,A50,1),'入力する'!$A$2:$A$201,"<"&DATE($B$7,A50+1,1)) | C50: =SUM($B$41:B50) | D50: =COUNTIFS('入力する'!$A$2:$A$201,">="&DATE($B$7,A50,1),'入力する'!$A$2:$A$201,"<"&DATE($B$7,A50+1,1)) | E50: =$B$10-C50
A51: 11 | B51: =SUMIFS('入力する'!$E$2:$E$201,'入力する'!$A$2:$A$201,">="&DATE($B$7,A51,1),'入力する'!$A$2:$A$201,"<"&DATE($B$7,A51+1,1)) | C51: =SUM($B$41:B51) | D51: =COUNTIFS('入力する'!$A$2:$A$201,">="&DATE($B$7,A51,1),'入力する'!$A$2:$A$201,"<"&DATE($B$7,A51+1,1)) | E51: =$B$10-C51
A52: 12 | B52: =SUMIFS('入力する'!$E$2:$E$201,'入力する'!$A$2:$A$201,">="&DATE($B$7,A52,1),'入力する'!$A$2:$A$201,"<"&DATE($B$7,A52+1,1)) | C52: =SUM($B$41:B52) | D52: =COUNTIFS('入力する'!$A$2:$A$201,">="&DATE($B$7,A52,1),'入力する'!$A$2:$A$201,"<"&DATE($B$7,A52+1,1)) | E52: =$B$10-C52
A53: 合計 | B53: =SUM(B41:B52) | D53: =SUM(D41:D52)
A55: ⑤ 上限めやす早見表（給与収入・万円 → 円）※総務省の目安表をもとにした概算です
A56: 年収（万円） | B56: 独身または共働き | C56: 夫婦（配偶者に収入なし） | D56: 共働き＋子1人（高校生） | E56: 共働き＋子1人（大学生） | F56: 夫婦＋子1人（高校生） | G56: 共働き＋子2人（大学生と高校生） | H56: 夫婦＋子2人（大学生と高校生）
A57: 300 | B57: 28000 | C57: 19000 | D57: 19000 | E57: 15000 | F57: 11000 | G57: 7000 | H57: 0
A58: 325 | B58: 31000 | C58: 23000 | D58: 23000 | E58: 18000 | F58: 14000 | G58: 10000 | H58: 3000
A59: 350 | B59: 34000 | C59: 26000 | D59: 26000 | E59: 22000 | F59: 18000 | G59: 13000 | H59: 5000
A60: 375 | B60: 38000 | C60: 29000 | D60: 29000 | E60: 25000 | F60: 21000 | G60: 17000 | H60: 8000
A61: 400 | B61: 42000 | C61: 33000 | D61: 33000 | E61: 29000 | F61: 25000 | G61: 21000 | H61: 12000
A62: 425 | B62: 45000 | C62: 37000 | D62: 37000 | E62: 33000 | F62: 29000 | G62: 24000 | H62: 16000
A63: 450 | B63: 52000 | C63: 41000 | D63: 41000 | E63: 37000 | F63: 33000 | G63: 28000 | H63: 20000
A64: 475 | B64: 56000 | C64: 45000 | D64: 45000 | E64: 40000 | F64: 36000 | G64: 32000 | H64: 24000
A65: 500 | B65: 61000 | C65: 49000 | D65: 49000 | E65: 44000 | F65: 40000 | G65: 36000 | H65: 28000
A66: 525 | B66: 65000 | C66: 56000 | D66: 56000 | E66: 49000 | F66: 44000 | G66: 40000 | H66: 31000
A67: 550 | B67: 69000 | C67: 60000 | D67: 60000 | E67: 57000 | F67: 48000 | G67: 44000 | H67: 35000
A68: 575 | B68: 73000 | C68: 64000 | D68: 64000 | E68: 61000 | F68: 56000 | G68: 48000 | H68: 39000
... A77: 1000 | B77: 180000 | C77: 171000 | D77: 166000 | E77: 163000 | F77: 157000 | G77: 153000 | H77: 144000
A79: ・早見表は住宅ローン控除や医療費控除などを考慮していない概算です。正確な上限は各ポータルサイトの詳細シミュレーターや税務署・税理士にご確認ください。
A80: ・0 と表示される欄は目安表に値がない組み合わせです。控除額はごくわずかになる可能性があります。
A81: このテンプレートは自由に使ってかまいません。改変・再配布も可です。

Sheet 使い方と注意
A1: ふるさと納税の上限めやす＋購入記録 使い方と注意
A3: 【使い方】
A4: 1. 「集計を見る」シートの B5 に年収（給与収入・万円）、B6 に家族構成、B7 に対象年（西暦）を入れます。
A5: → B10 に「採用する上限めやす」が出ます。ポータルサイトのシミュレーター結果がある人は B9 に入れると、そちらが優先されます。
A6: 2. 寄附をしたら「入力する」シートに1件1行で記録します。日付・自治体・返礼品・ジャンル（プルダウン）・寄附額・申請方法・申請状況・返礼品到着・メモ。
A7: 3. 「集計を見る」シートで、めやすと実績の対比・残り枠・判定、ジャンル別の内訳とグラフ、月別の推移が自動で出ます。
A9: 【集計で見られること】
A10: ・寄附合計、残り枠、使用率、判定（余裕あり / あと少し / 超えています）
A11: ・控除見込み額（めやす内の寄附 − 2,000円）と、実質の自己負担見込み
A12: ・申請が「未」の件数、返礼品が「未着」の件数 → やり残しチェックに
A13: ・ワンストップ特例で申請した自治体数（5自治体まで）→ 6自治体以上になると判定が変わります
A14: ・ジャンル別の寄附額・件数・構成比・順位と横棒グラフ
... A25: 配布元: 副業ポートフォリオ https://satoru-log.jp
