Workbook

Sheet 入力する
A1: サービス名 | B1: カテゴリ | C1: 支払い方法 | D1: 支払い周期 | E1: 1回あたり金額（円） | F1: 年額換算（円） | G1: 月額換算（円） | H1: 利用頻度 | I1: 必要度 | J1: 次回更新日 | K1: 判定 | L1: メモ
F2: =IF($E2="","",$E2*IF($D2="月額",12,IF($D2="年額",1,IF($D2="半年",2,IF($D2="四半期",4,IF($D2="週額",52,0)))))) | G2: =IF($F2="","",$F2/12) | K2: =IF($A2="","",IF(OR($I2="不要",$H2="ほぼ使わない"),"解約候補",IF($I2="あると便利","見直し",IF($I2="必須","継続",""))))
F3: =IF($E3="","",$E3*IF($D3="月額",12,IF($D3="年額",1,IF($D3="半年",2,IF($D3="四半期",4,IF($D3="週額",52,0)))))) | G3: =IF($F3="","",$F3/12) | K3: =IF($A3="","",IF(OR($I3="不要",$H3="ほぼ使わない"),"解約候補",IF($I3="あると便利","見直し",IF($I3="必須","継続",""))))
F4: =IF($E4="","",$E4*IF($D4="月額",12,IF($D4="年額",1,IF($D4="半年",2,IF($D4="四半期",4,IF($D4="週額",52,0)))))) | G4: =IF($F4="","",$F4/12) | K4: =IF($A4="","",IF(OR($I4="不要",$H4="ほぼ使わない"),"解約候補",IF($I4="あると便利","見直し",IF($I4="必須","継続",""))))
F5: =IF($E5="","",$E5*IF($D5="月額",12,IF($D5="年額",1,IF($D5="半年",2,IF($D5="四半期",4,IF($D5="週額",52,0)))))) | G5: =IF($F5="","",$F5/12) | K5: =IF($A5="","",IF(OR($I5="不要",$H5="ほぼ使わない"),"解約候補",IF($I5="あると便利","見直し",IF($I5="必須","継続",""))))
F6: =IF($E6="","",$E6*IF($D6="月額",12,IF($D6="年額",1,IF($D6="半年",2,IF($D6="四半期",4,IF($D6="週額",52,0)))))) | G6: =IF($F6="","",$F6/12) | K6: =IF($A6="","",IF(OR($I6="不要",$H6="ほぼ使わない"),"解約候補",IF($I6="あると便利","見直し",IF($I6="必須","継続",""))))
F7: =IF($E7="","",$E7*IF($D7="月額",12,IF($D7="年額",1,IF($D7="半年",2,IF($D7="四半期",4,IF($D7="週額",52,0)))))) | G7: =IF($F7="","",$F7/12) | K7: =IF($A7="","",IF(OR($I7="不要",$H7="ほぼ使わない"),"解約候補",IF($I7="あると便利","見直し",IF($I7="必須","継続",""))))
F8: =IF($E8="","",$E8*IF($D8="月額",12,IF($D8="年額",1,IF($D8="半年",2,IF($D8="四半期",4,IF($D8="週額",52,0)))))) | G8: =IF($F8="","",$F8/12) | K8: =IF($A8="","",IF(OR($I8="不要",$H8="ほぼ使わない"),"解約候補",IF($I8="あると便利","見直し",IF($I8="必須","継続",""))))
F9: =IF($E9="","",$E9*IF($D9="月額",12,IF($D9="年額",1,IF($D9="半年",2,IF($D9="四半期",4,IF($D9="週額",52,0)))))) | G9: =IF($F9="","",$F9/12) | K9: =IF($A9="","",IF(OR($I9="不要",$H9="ほぼ使わない"),"解約候補",IF($I9="あると便利","見直し",IF($I9="必須","継続",""))))
F10: =IF($E10="","",$E10*IF($D10="月額",12,IF($D10="年額",1,IF($D10="半年",2,IF($D10="四半期",4,IF($D10="週額",52,0)))))) | G10: =IF($F10="","",$F10/12) | K10: =IF($A10="","",IF(OR($I10="不要",$H10="ほぼ使わない"),"解約候補",IF($I10="あると便利","見直し",IF($I10="必須","継続",""))))
F11: =IF($E11="","",$E11*IF($D11="月額",12,IF($D11="年額",1,IF($D11="半年",2,IF($D11="四半期",4,IF($D11="週額",52,0)))))) | G11: =IF($F11="","",$F11/12) | K11: =IF($A11="","",IF(OR($I11="不要",$H11="ほぼ使わない"),"解約候補",IF($I11="あると便利","見直し",IF($I11="必須","継続",""))))
F12: =IF($E12="","",$E12*IF($D12="月額",12,IF($D12="年額",1,IF($D12="半年",2,IF($D12="四半期",4,IF($D12="週額",52,0)))))) | G12: =IF($F12="","",$F12/12) | K12: =IF($A12="","",IF(OR($I12="不要",$H12="ほぼ使わない"),"解約候補",IF($I12="あると便利","見直し",IF($I12="必須","継続",""))))
F13: =IF($E13="","",$E13*IF($D13="月額",12,IF($D13="年額",1,IF($D13="半年",2,IF($D13="四半期",4,IF($D13="週額",52,0)))))) | G13: =IF($F13="","",$F13/12) | K13: =IF($A13="","",IF(OR($I13="不要",$H13="ほぼ使わない"),"解約候補",IF($I13="あると便利","見直し",IF($I13="必須","継続",""))))
... F201: =IF($E201="","",$E201*IF($D201="月額",12,IF($D201="年額",1,IF($D201="半年",2,IF($D201="四半期",4,IF($D201="週額",52,0)))))) | G201: =IF($F201="","",$F201/12) | K201: =IF($A201="","",IF(OR($I201="不要",$H201="ほぼ使わない"),"解約候補",IF($I201="あると便利","見直し",IF($I201="必須","継続",""))))

Sheet 集計を見る
A1: 固定費の棚卸し表
A2: サブスクや毎月の固定費を1行ずつ並べ、年額にそろえて「やめる・続ける」を決めるための表です。
A4: 全体のサマリー
A5: 契約している件数（件） | B5: =COUNTA('入力する'!$A$2:$A$201) | C5: サービス名が入っている行の数
A6: 年額の合計（円） | B6: =SUM('入力する'!$F$2:$F$201) | C6: 1年でこれだけ払っています
A7: 月額の合計（円） | B7: =SUM('入力する'!$G$2:$G$201) | C7: 毎月出ていく固定費
A8: 解約候補の年額（円） | B8: =SUMIF('入力する'!$K$2:$K$201,"解約候補",'入力する'!$F$2:$F$201) | C8: やめれば浮く金額
A9: 見直しの年額（円） | B9: =SUMIF('入力する'!$K$2:$K$201,"見直し",'入力する'!$F$2:$F$201) | C9: プラン変更で下がるかも
A10: 解約候補の月額（円） | B10: =IF(B8=0,0,B8/12) | C10: 毎月の節約のめやす
A11: 1件あたりの平均年額（円） | B11: =IF(B5=0,0,B6/B5) | C11: 高すぎる契約を見つける目安
A12: 年間予算のめやす（円） | B12: 300000 | C12: ここだけ自分で書きかえます
A13: めやすとの差（円） | B13: =B6-B12 | C13: プラスなら予算オーバー
A15: カテゴリ別の内訳（何にいくら使っているか）
A16: カテゴリ | B16: 件数 | C16: 年額合計（円） | D16: 月額換算（円） | E16: 構成比 | F16: 順位
A17: 通信 | B17: =COUNTIF('入力する'!$B$2:$B$201,$A17) | C17: =SUMIF('入力する'!$B$2:$B$201,$A17,'入力する'!$F$2:$F$201) | D17: =IF($C17=0,0,$C17/12) | E17: =IF($B$6=0,"",$C17/$B$6) | F17: =IF($C17=0,"",RANK($C17,$C$17:$C$26))
A18: 住居 | B18: =COUNTIF('入力する'!$B$2:$B$201,$A18) | C18: =SUMIF('入力する'!$B$2:$B$201,$A18,'入力する'!$F$2:$F$201) | D18: =IF($C18=0,0,$C18/12) | E18: =IF($B$6=0,"",$C18/$B$6) | F18: =IF($C18=0,"",RANK($C18,$C$17:$C$26))
A19: 保険 | B19: =COUNTIF('入力する'!$B$2:$B$201,$A19) | C19: =SUMIF('入力する'!$B$2:$B$201,$A19,'入力する'!$F$2:$F$201) | D19: =IF($C19=0,0,$C19/12) | E19: =IF($B$6=0,"",$C19/$B$6) | F19: =IF($C19=0,"",RANK($C19,$C$17:$C$26))
A20: 水道光熱 | B20: =COUNTIF('入力する'!$B$2:$B$201,$A20) | C20: =SUMIF('入力する'!$B$2:$B$201,$A20,'入力する'!$F$2:$F$201) | D20: =IF($C20=0,0,$C20/12) | E20: =IF($B$6=0,"",$C20/$B$6) | F20: =IF($C20=0,"",RANK($C20,$C$17:$C$26))
A21: 動画配信 | B21: =COUNTIF('入力する'!$B$2:$B$201,$A21) | C21: =SUMIF('入力する'!$B$2:$B$201,$A21,'入力する'!$F$2:$F$201) | D21: =IF($C21=0,0,$C21/12) | E21: =IF($B$6=0,"",$C21/$B$6) | F21: =IF($C21=0,"",RANK($C21,$C$17:$C$26))
A22: 音楽配信 | B22: =COUNTIF('入力する'!$B$2:$B$201,$A22) | C22: =SUMIF('入力する'!$B$2:$B$201,$A22,'入力する'!$F$2:$F$201) | D22: =IF($C22=0,0,$C22/12) | E22: =IF($B$6=0,"",$C22/$B$6) | F22: =IF($C22=0,"",RANK($C22,$C$17:$C$26))
A23: 仕事ツール | B23: =COUNTIF('入力する'!$B$2:$B$201,$A23) | C23: =SUMIF('入力する'!$B$2:$B$201,$A23,'入力する'!$F$2:$F$201) | D23: =IF($C23=0,0,$C23/12) | E23: =IF($B$6=0,"",$C23/$B$6) | F23: =IF($C23=0,"",RANK($C23,$C$17:$C$26))
A24: クラウド保存 | B24: =COUNTIF('入力する'!$B$2:$B$201,$A24) | C24: =SUMIF('入力する'!$B$2:$B$201,$A24,'入力する'!$F$2:$F$201) | D24: =IF($C24=0,0,$C24/12) | E24: =IF($B$6=0,"",$C24/$B$6) | F24: =IF($C24=0,"",RANK($C24,$C$17:$C$26))
A25: 習い事・会費 | B25: =COUNTIF('入力する'!$B$2:$B$201,$A25) | C25: =SUMIF('入力する'!$B$2:$B$201,$A25,'入力する'!$F$2:$F$201) | D25: =IF($C25=0,0,$C25/12) | E25: =IF($B$6=0,"",$C25/$B$6) | F25: =IF($C25=0,"",RANK($C25,$C$17:$C$26))
A26: その他 | B26: =COUNTIF('入力する'!$B$2:$B$201,$A26) | C26: =SUMIF('入力する'!$B$2:$B$201,$A26,'入力する'!$F$2:$F$201) | D26: =IF($C26=0,0,$C26/12) | E26: =IF($B$6=0,"",$C26/$B$6) | F26: =IF($C26=0,"",RANK($C26,$C$17:$C$26))
A27: 合計 | B27: =SUM(B17:B26) | C27: =SUM(C17:C26) | D27: =SUM(D17:D26)
A29: 判定別（やめる・見直す・続ける）
A30: 判定 | B30: 件数 | C30: 年額合計（円） | D30: 月額換算（円） | E30: 構成比
A31: 解約候補 | B31: =COUNTIF('入力する'!$K$2:$K$201,$A31) | C31: =SUMIF('入力する'!$K$2:$K$201,$A31,'入力する'!$F$2:$F$201) | D31: =IF($C31=0,0,$C31/12) | E31: =IF($B$6=0,"",$C31/$B$6)
A32: 見直し | B32: =COUNTIF('入力する'!$K$2:$K$201,$A32) | C32: =SUMIF('入力する'!$K$2:$K$201,$A32,'入力する'!$F$2:$F$201) | D32: =IF($C32=0,0,$C32/12) | E32: =IF($B$6=0,"",$C32/$B$6)
A33: 継続 | B33: =COUNTIF('入力する'!$K$2:$K$201,$A33) | C33: =SUMIF('入力する'!$K$2:$K$201,$A33,'入力する'!$F$2:$F$201) | D33: =IF($C33=0,0,$C33/12) | E33: =IF($B$6=0,"",$C33/$B$6)
A35: 支払い周期別（年払いの見落としを防ぐ）
A36: 支払い周期 | B36: 件数 | C36: 年額合計（円） | D36: 構成比
A37: 月額 | B37: =COUNTIF('入力する'!$D$2:$D$201,$A37) | C37: =SUMIF('入力する'!$D$2:$D$201,$A37,'入力する'!$F$2:$F$201) | D37: =IF($B$6=0,"",$C37/$B$6)
A38: 年額 | B38: =COUNTIF('入力する'!$D$2:$D$201,$A38) | C38: =SUMIF('入力する'!$D$2:$D$201,$A38,'入力する'!$F$2:$F$201) | D38: =IF($B$6=0,"",$C38/$B$6)
A39: 半年 | B39: =COUNTIF('入力する'!$D$2:$D$201,$A39) | C39: =SUMIF('入力する'!$D$2:$D$201,$A39,'入力する'!$F$2:$F$201) | D39: =IF($B$6=0,"",$C39/$B$6)
A40: 四半期 | B40: =COUNTIF('入力する'!$D$2:$D$201,$A40) | C40: =SUMIF('入力する'!$D$2:$D$201,$A40,'入力する'!$F$2:$F$201) | D40: =IF($B$6=0,"",$C40/$B$6)
A41: 週額 | B41: =COUNTIF('入力する'!$D$2:$D$201,$A41) | C41: =SUMIF('入力する'!$D$2:$D$201,$A41,'入力する'!$F$2:$F$201) | D41: =IF($B$6=0,"",$C41/$B$6)
A43: 利用頻度別（使っていないのに払っていないか）
A44: 利用頻度 | B44: 件数 | C44: 年額合計（円） | D44: 構成比
A45: 毎日 | B45: =COUNTIF('入力する'!$H$2:$H$201,$A45) | C45: =SUMIF('入力する'!$H$2:$H$201,$A45,'入力する'!$F$2:$F$201) | D45: =IF($B$6=0,"",$C45/$B$6)
...

Sheet 使い方と注意
A1: 使い方と注意
B3: このツールでできること
B4: サブスクや通信費などの固定費を1行ずつ書き出し、支払い周期のちがいをそろえて年額に換算します。
B5: 「使っていない」「なくてもいい」ものが自動で解約候補として出るので、やめる順番を決められます。
B7: 手順
B8: 1. 「入力する」シートの薄い黄色のセルに、契約を1行ずつ書きます（200行まで）。
B9: 2. カテゴリ・支払い方法・支払い周期・利用頻度・必要度はプルダウンから選びます。
B10: 3. 「1回あたり金額」は、その周期で1回に払う金額です（年払いなら1年分の金額）。
B11: 4. 薄い青のセル（年額換算・月額換算・判定）は自動で計算されます。さわらないでください。
B12: 5. 「集計を見る」シートで合計・カテゴリ別の内訳・上位10件・グラフを確認します。
B13: 6. 「集計を見る」の年間予算のめやす（薄い黄色）だけは、自分の目標額に書きかえてください。
B15: 判定のルール
B16: 解約候補 … 必要度が「不要」、または利用頻度が「ほぼ使わない」もの。
... B33: 配布元: 副業ポートフォリオ https://satoru-log.jp
