Workbook

Sheet 入力する
A1: 日付 | B1: 区分 | C1: 費目 | D1: 内容 | E1: 金額 | F1: 支払方法 | G1: メモ | H1: 月
H2: =IF($A2="","",MONTH($A2))
H3: =IF($A3="","",MONTH($A3))
H4: =IF($A4="","",MONTH($A4))
H5: =IF($A5="","",MONTH($A5))
H6: =IF($A6="","",MONTH($A6))
H7: =IF($A7="","",MONTH($A7))
H8: =IF($A8="","",MONTH($A8))
H9: =IF($A9="","",MONTH($A9))
H10: =IF($A10="","",MONTH($A10))
H11: =IF($A11="","",MONTH($A11))
H12: =IF($A12="","",MONTH($A12))
H13: =IF($A13="","",MONTH($A13))
... H201: =IF($A201="","",MONTH($A201))

Sheet 集計を見る
A1: かんたん家計簿
A2: 「入力する」に記録するだけで、下の表とグラフが自動で新しくなります。
A3: 対象年 | B3: 2026 | C3: ← 集計したい年(西暦)を入れてください
A5: 収入合計 | B5: 支出合計 | C5: 収支(収入-支出) | D5: 予算合計(年) | E5: 予算との差 | F5: 月平均の支出 | G5: 記録した件数
A6: =SUMIFS('入力する'!$E$2:$E$201,'入力する'!$B$2:$B$201,"収入",'入力する'!$A$2:$A$201,">="&DATE($B$3,1,1),'入力する'!$A$2:$A$201,"<="&DATE($B$3,12,31)) | B6: =SUMIFS('入力する'!$E$2:$E$201,'入力する'!$B$2:$B$201,"支出",'入力する'!$A$2:$A$201,">="&DATE($B$3,1,1),'入力する'!$A$2:$A$201,"<="&DATE($B$3,12,31)) | C6: =A6-B6 | D6: =SUM(B9:B24) | E6: =D6-B6 | F6: =IF(B6=0,0,ROUND(B6/12,0)) | G6: =COUNTIFS('入力する'!$A$2:$A$201,">="&DATE($B$3,1,1),'入力する'!$A$2:$A$201,"<="&DATE($B$3,12,31))
A8: 費目 | B8: 予算(年) | C8: 実績 | D8: 差額(予算-実績) | E8: 構成比 | F8: 順位
A9: 食費 | C9: =SUMIFS('入力する'!$E$2:$E$201,'入力する'!$C$2:$C$201,$A9,'入力する'!$B$2:$B$201,"支出",'入力する'!$A$2:$A$201,">="&DATE($B$3,1,1),'入力する'!$A$2:$A$201,"<="&DATE($B$3,12,31)) | D9: =IF($B9="","",$B9-$C9) | E9: =IF($B$6=0,"",$C9/$B$6) | F9: =IF($C9=0,"",RANK($C9,$C$9:$C$24))
A10: 外食 | C10: =SUMIFS('入力する'!$E$2:$E$201,'入力する'!$C$2:$C$201,$A10,'入力する'!$B$2:$B$201,"支出",'入力する'!$A$2:$A$201,">="&DATE($B$3,1,1),'入力する'!$A$2:$A$201,"<="&DATE($B$3,12,31)) | D10: =IF($B10="","",$B10-$C10) | E10: =IF($B$6=0,"",$C10/$B$6) | F10: =IF($C10=0,"",RANK($C10,$C$9:$C$24))
A11: 日用品 | C11: =SUMIFS('入力する'!$E$2:$E$201,'入力する'!$C$2:$C$201,$A11,'入力する'!$B$2:$B$201,"支出",'入力する'!$A$2:$A$201,">="&DATE($B$3,1,1),'入力する'!$A$2:$A$201,"<="&DATE($B$3,12,31)) | D11: =IF($B11="","",$B11-$C11) | E11: =IF($B$6=0,"",$C11/$B$6) | F11: =IF($C11=0,"",RANK($C11,$C$9:$C$24))
A12: 住居 | C12: =SUMIFS('入力する'!$E$2:$E$201,'入力する'!$C$2:$C$201,$A12,'入力する'!$B$2:$B$201,"支出",'入力する'!$A$2:$A$201,">="&DATE($B$3,1,1),'入力する'!$A$2:$A$201,"<="&DATE($B$3,12,31)) | D12: =IF($B12="","",$B12-$C12) | E12: =IF($B$6=0,"",$C12/$B$6) | F12: =IF($C12=0,"",RANK($C12,$C$9:$C$24))
A13: 水道光熱 | C13: =SUMIFS('入力する'!$E$2:$E$201,'入力する'!$C$2:$C$201,$A13,'入力する'!$B$2:$B$201,"支出",'入力する'!$A$2:$A$201,">="&DATE($B$3,1,1),'入力する'!$A$2:$A$201,"<="&DATE($B$3,12,31)) | D13: =IF($B13="","",$B13-$C13) | E13: =IF($B$6=0,"",$C13/$B$6) | F13: =IF($C13=0,"",RANK($C13,$C$9:$C$24))
A14: 通信 | C14: =SUMIFS('入力する'!$E$2:$E$201,'入力する'!$C$2:$C$201,$A14,'入力する'!$B$2:$B$201,"支出",'入力する'!$A$2:$A$201,">="&DATE($B$3,1,1),'入力する'!$A$2:$A$201,"<="&DATE($B$3,12,31)) | D14: =IF($B14="","",$B14-$C14) | E14: =IF($B$6=0,"",$C14/$B$6) | F14: =IF($C14=0,"",RANK($C14,$C$9:$C$24))
A15: 交通 | C15: =SUMIFS('入力する'!$E$2:$E$201,'入力する'!$C$2:$C$201,$A15,'入力する'!$B$2:$B$201,"支出",'入力する'!$A$2:$A$201,">="&DATE($B$3,1,1),'入力する'!$A$2:$A$201,"<="&DATE($B$3,12,31)) | D15: =IF($B15="","",$B15-$C15) | E15: =IF($B$6=0,"",$C15/$B$6) | F15: =IF($C15=0,"",RANK($C15,$C$9:$C$24))
A16: 医療 | C16: =SUMIFS('入力する'!$E$2:$E$201,'入力する'!$C$2:$C$201,$A16,'入力する'!$B$2:$B$201,"支出",'入力する'!$A$2:$A$201,">="&DATE($B$3,1,1),'入力する'!$A$2:$A$201,"<="&DATE($B$3,12,31)) | D16: =IF($B16="","",$B16-$C16) | E16: =IF($B$6=0,"",$C16/$B$6) | F16: =IF($C16=0,"",RANK($C16,$C$9:$C$24))
A17: 教育 | C17: =SUMIFS('入力する'!$E$2:$E$201,'入力する'!$C$2:$C$201,$A17,'入力する'!$B$2:$B$201,"支出",'入力する'!$A$2:$A$201,">="&DATE($B$3,1,1),'入力する'!$A$2:$A$201,"<="&DATE($B$3,12,31)) | D17: =IF($B17="","",$B17-$C17) | E17: =IF($B$6=0,"",$C17/$B$6) | F17: =IF($C17=0,"",RANK($C17,$C$9:$C$24))
A18: 保険 | C18: =SUMIFS('入力する'!$E$2:$E$201,'入力する'!$C$2:$C$201,$A18,'入力する'!$B$2:$B$201,"支出",'入力する'!$A$2:$A$201,">="&DATE($B$3,1,1),'入力する'!$A$2:$A$201,"<="&DATE($B$3,12,31)) | D18: =IF($B18="","",$B18-$C18) | E18: =IF($B$6=0,"",$C18/$B$6) | F18: =IF($C18=0,"",RANK($C18,$C$9:$C$24))
A19: 交際 | C19: =SUMIFS('入力する'!$E$2:$E$201,'入力する'!$C$2:$C$201,$A19,'入力する'!$B$2:$B$201,"支出",'入力する'!$A$2:$A$201,">="&DATE($B$3,1,1),'入力する'!$A$2:$A$201,"<="&DATE($B$3,12,31)) | D19: =IF($B19="","",$B19-$C19) | E19: =IF($B$6=0,"",$C19/$B$6) | F19: =IF($C19=0,"",RANK($C19,$C$9:$C$24))
A20: 趣味・娯楽 | C20: =SUMIFS('入力する'!$E$2:$E$201,'入力する'!$C$2:$C$201,$A20,'入力する'!$B$2:$B$201,"支出",'入力する'!$A$2:$A$201,">="&DATE($B$3,1,1),'入力する'!$A$2:$A$201,"<="&DATE($B$3,12,31)) | D20: =IF($B20="","",$B20-$C20) | E20: =IF($B$6=0,"",$C20/$B$6) | F20: =IF($C20=0,"",RANK($C20,$C$9:$C$24))
... A24: その他 | C24: =SUMIFS('入力する'!$E$2:$E$201,'入力する'!$C$2:$C$201,$A24,'入力する'!$B$2:$B$201,"支出",'入力する'!$A$2:$A$201,">="&DATE($B$3,1,1),'入力する'!$A$2:$A$201,"<="&DATE($B$3,12,31)) | D24: =IF($B24="","",$B24-$C24) | E24: =IF($B$6=0,"",$C24/$B$6) | F24: =IF($C24=0,"",RANK($C24,$C$9:$C$24))
A25: 合計 | B25: =SUM(B9:B24) | C25: =SUM(C9:C24) | D25: =B25-C25 | E25: =IF($B$6=0,"",$C25/$B$6)
A27: 月ごとの動き(対象年)
A28: 月 | B28: 収入 | C28: 支出 | D28: 収支 | E28: 累計収支 | F28: 月の予算めやす | G28: めやすとの差
A29: 1月 | B29: =SUMIFS('入力する'!$E$2:$E$201,'入力する'!$B$2:$B$201,"収入",'入力する'!$A$2:$A$201,">="&DATE($B$3,1,1),'入力する'!$A$2:$A$201,"<="&DATE($B$3,2,0)) | C29: =SUMIFS('入力する'!$E$2:$E$201,'入力する'!$B$2:$B$201,"支出",'入力する'!$A$2:$A$201,">="&DATE($B$3,1,1),'入力する'!$A$2:$A$201,"<="&DATE($B$3,2,0)) | D29: =B29-C29 | E29: =D29 | F29: =IF($B$25=0,"",ROUND($B$25/12,0)) | G29: =IF($F29="","",$F29-$C29)
A30: 2月 | B30: =SUMIFS('入力する'!$E$2:$E$201,'入力する'!$B$2:$B$201,"収入",'入力する'!$A$2:$A$201,">="&DATE($B$3,2,1),'入力する'!$A$2:$A$201,"<="&DATE($B$3,3,0)) | C30: =SUMIFS('入力する'!$E$2:$E$201,'入力する'!$B$2:$B$201,"支出",'入力する'!$A$2:$A$201,">="&DATE($B$3,2,1),'入力する'!$A$2:$A$201,"<="&DATE($B$3,3,0)) | D30: =B30-C30 | E30: =E29+D30 | F30: =IF($B$25=0,"",ROUND($B$25/12,0)) | G30: =IF($F30="","",$F30-$C30)
A31: 3月 | B31: =SUMIFS('入力する'!$E$2:$E$201,'入力する'!$B$2:$B$201,"収入",'入力する'!$A$2:$A$201,">="&DATE($B$3,3,1),'入力する'!$A$2:$A$201,"<="&DATE($B$3,4,0)) | C31: =SUMIFS('入力する'!$E$2:$E$201,'入力する'!$B$2:$B$201,"支出",'入力する'!$A$2:$A$201,">="&DATE($B$3,3,1),'入力する'!$A$2:$A$201,"<="&DATE($B$3,4,0)) | D31: =B31-C31 | E31: =E30+D31 | F31: =IF($B$25=0,"",ROUND($B$25/12,0)) | G31: =IF($F31="","",$F31-$C31)
A32: 4月 | B32: =SUMIFS('入力する'!$E$2:$E$201,'入力する'!$B$2:$B$201,"収入",'入力する'!$A$2:$A$201,">="&DATE($B$3,4,1),'入力する'!$A$2:$A$201,"<="&DATE($B$3,5,0)) | C32: =SUMIFS('入力する'!$E$2:$E$201,'入力する'!$B$2:$B$201,"支出",'入力する'!$A$2:$A$201,">="&DATE($B$3,4,1),'入力する'!$A$2:$A$201,"<="&DATE($B$3,5,0)) | D32: =B32-C32 | E32: =E31+D32 | F32: =IF($B$25=0,"",ROUND($B$25/12,0)) | G32: =IF($F32="","",$F32-$C32)
A33: 5月 | B33: =SUMIFS('入力する'!$E$2:$E$201,'入力する'!$B$2:$B$201,"収入",'入力する'!$A$2:$A$201,">="&DATE($B$3,5,1),'入力する'!$A$2:$A$201,"<="&DATE($B$3,6,0)) | C33: =SUMIFS('入力する'!$E$2:$E$201,'入力する'!$B$2:$B$201,"支出",'入力する'!$A$2:$A$201,">="&DATE($B$3,5,1),'入力する'!$A$2:$A$201,"<="&DATE($B$3,6,0)) | D33: =B33-C33 | E33: =E32+D33 | F33: =IF($B$25=0,"",ROUND($B$25/12,0)) | G33: =IF($F33="","",$F33-$C33)
A34: 6月 | B34: =SUMIFS('入力する'!$E$2:$E$201,'入力する'!$B$2:$B$201,"収入",'入力する'!$A$2:$A$201,">="&DATE($B$3,6,1),'入力する'!$A$2:$A$201,"<="&DATE($B$3,7,0)) | C34: =SUMIFS('入力する'!$E$2:$E$201,'入力する'!$B$2:$B$201,"支出",'入力する'!$A$2:$A$201,">="&DATE($B$3,6,1),'入力する'!$A$2:$A$201,"<="&DATE($B$3,7,0)) | D34: =B34-C34 | E34: =E33+D34 | F34: =IF($B$25=0,"",ROUND($B$25/12,0)) | G34: =IF($F34="","",$F34-$C34)
A35: 7月 | B35: =SUMIFS('入力する'!$E$2:$E$201,'入力する'!$B$2:$B$201,"収入",'入力する'!$A$2:$A$201,">="&DATE($B$3,7,1),'入力する'!$A$2:$A$201,"<="&DATE($B$3,8,0)) | C35: =SUMIFS('入力する'!$E$2:$E$201,'入力する'!$B$2:$B$201,"支出",'入力する'!$A$2:$A$201,">="&DATE($B$3,7,1),'入力する'!$A$2:$A$201,"<="&DATE($B$3,8,0)) | D35: =B35-C35 | E35: =E34+D35 | F35: =IF($B$25=0,"",ROUND($B$25/12,0)) | G35: =IF($F35="","",$F35-$C35)
A36: 8月 | B36: =SUMIFS('入力する'!$E$2:$E$201,'入力する'!$B$2:$B$201,"収入",'入力する'!$A$2:$A$201,">="&DATE($B$3,8,1),'入力する'!$A$2:$A$201,"<="&DATE($B$3,9,0)) | C36: =SUMIFS('入力する'!$E$2:$E$201,'入力する'!$B$2:$B$201,"支出",'入力する'!$A$2:$A$201,">="&DATE($B$3,8,1),'入力する'!$A$2:$A$201,"<="&DATE($B$3,9,0)) | D36: =B36-C36 | E36: =E35+D36 | F36: =IF($B$25=0,"",ROUND($B$25/12,0)) | G36: =IF($F36="","",$F36-$C36)
A37: 9月 | B37: =SUMIFS('入力する'!$E$2:$E$201,'入力する'!$B$2:$B$201,"収入",'入力する'!$A$2:$A$201,">="&DATE($B$3,9,1),'入力する'!$A$2:$A$201,"<="&DATE($B$3,10,0)) | C37: =SUMIFS('入力する'!$E$2:$E$201,'入力する'!$B$2:$B$201,"支出",'入力する'!$A$2:$A$201,">="&DATE($B$3,9,1),'入力する'!$A$2:$A$201,"<="&DATE($B$3,10,0)) | D37: =B37-C37 | E37: =E36+D37 | F37: =IF($B$25=0,"",ROUND($B$25/12,0)) | G37: =IF($F37="","",$F37-$C37)
A38: 10月 | B38: =SUMIFS('入力する'!$E$2:$E$201,'入力する'!$B$2:$B$201,"収入",'入力する'!$A$2:$A$201,">="&DATE($B$3,10,1),'入力する'!$A$2:$A$201,"<="&DATE($B$3,11,0)) | C38: =SUMIFS('入力する'!$E$2:$E$201,'入力する'!$B$2:$B$201,"支出",'入力する'!$A$2:$A$201,">="&DATE($B$3,10,1),'入力する'!$A$2:$A$201,"<="&DATE($B$3,11,0)) | D38: =B38-C38 | E38: =E37+D38 | F38: =IF($B$25=0,"",ROUND($B$25/12,0)) | G38: =IF($F38="","",$F38-$C38)
A39: 11月 | B39: =SUMIFS('入力する'!$E$2:$E$201,'入力する'!$B$2:$B$201,"収入",'入力する'!$A$2:$A$201,">="&DATE($B$3,11,1),'入力する'!$A$2:$A$201,"<="&DATE($B$3,12,0)) | C39: =SUMIFS('入力する'!$E$2:$E$201,'入力する'!$B$2:$B$201,"支出",'入力する'!$A$2:$A$201,">="&DATE($B$3,11,1),'入力する'!$A$2:$A$201,"<="&DATE($B$3,12,0)) | D39: =B39-C39 | E39: =E38+D39 | F39: =IF($B$25=0,"",ROUND($B$25/12,0)) | G39: =IF($F39="","",$F39-$C39)
A40: 12月 | B40: =SUMIFS('入力する'!$E$2:$E$201,'入力する'!$B$2:$B$201,"収入",'入力する'!$A$2:$A$201,">="&DATE($B$3,12,1),'入力する'!$A$2:$A$201,"<="&DATE($B$3,13,0)) | C40: =SUMIFS('入力する'!$E$2:$E$201,'入力する'!$B$2:$B$201,"支出",'入力する'!$A$2:$A$201,">="&DATE($B$3,12,1),'入力する'!$A$2:$A$201,"<="&DATE($B$3,13,0)) | D40: =B40-C40 | E40: =E39+D40 | F40: =IF($B$25=0,"",ROUND($B$25/12,0)) | G40: =IF($F40="","",$F40-$C40)
A41: 合計 | B41: =SUM(B29:B40) | C41: =SUM(C29:C40) | D41: =B41-C41 | E41: =E40 | F41: =IF($B$25=0,"",$B$25) | G41: =IF($F41="","",$F41-$C41)
A43: 支払方法の内訳(支出・対象年)
A44: 支払方法 | B44: 支出の金額 | C44: 件数 | D44: 構成比
A45: 現金 | B45: =SUMIFS('入力する'!$E$2:$E$201,'入力する'!$F$2:$F$201,$A45,'入力する'!$B$2:$B$201,"支出",'入力する'!$A$2:$A$201,">="&DATE($B$3,1,1),'入力する'!$A$2:$A$201,"<="&DATE($B$3,12,31)) | C45: =COUNTIFS('入力する'!$F$2:$F$201,$A45,'入力する'!$B$2:$B$201,"支出",'入力する'!$A$2:$A$201,">="&DATE($B$3,1,1),'入力する'!$A$2:$A$201,"<="&DATE($B$3,12,31)) | D45: =IF($B$6=0,"",$B45/$B$6)
A46: クレジット | B46: =SUMIFS('入力する'!$E$2:$E$201,'入力する'!$F$2:$F$201,$A46,'入力する'!$B$2:$B$201,"支出",'入力する'!$A$2:$A$201,">="&DATE($B$3,1,1),'入力する'!$A$2:$A$201,"<="&DATE($B$3,12,31)) | C46: =COUNTIFS('入力する'!$F$2:$F$201,$A46,'入力する'!$B$2:$B$201,"支出",'入力する'!$A$2:$A$201,">="&DATE($B$3,1,1),'入力する'!$A$2:$A$201,"<="&DATE($B$3,12,31)) | D46: =IF($B$6=0,"",$B46/$B$6)
A47: 口座振替 | B47: =SUMIFS('入力する'!$E$2:$E$201,'入力する'!$F$2:$F$201,$A47,'入力する'!$B$2:$B$201,"支出",'入力する'!$A$2:$A$201,">="&DATE($B$3,1,1),'入力する'!$A$2:$A$201,"<="&DATE($B$3,12,31)) | C47: =COUNTIFS('入力する'!$F$2:$F$201,$A47,'入力する'!$B$2:$B$201,"支出",'入力する'!$A$2:$A$201,">="&DATE($B$3,1,1),'入力する'!$A$2:$A$201,"<="&DATE($B$3,12,31)) | D47: =IF($B$6=0,"",$B47/$B$6)
...

Sheet 使い方と注意
A1: かんたん家計簿 — 使い方と注意
A2: 月ごとに1枚ずつ作らなくても、この1ファイルで1年分を記録して月別に見られます。
A4: 1. 記録する
A5: ・シート「入力する」に、日付・区分・費目・内容・金額を上から順に入れます。
A6: ・区分(支出/収入)・費目・支払方法はプルダウンから選べます。
A7: ・金額にマイナスは使いません。収入のときは区分を「収入」にしてください。
A8: ・右端の「月」の列は日付から自動で入ります。触らなくて大丈夫です。
A10: 2. 予算を決める
A11: ・「集計を見る」の薄い黄色の「予算(年)」に、費目ごとの1年分の予算を入れます。
A12: ・「差額(予算-実績)」がマイナスなら使いすぎ、プラスならまだ余りがあります。
A13: ・月ごとの表には「月の予算めやす」(年間予算÷12)と、その差も出ます。
A15: 3. 集計を見る
... A29: 配布元: 副業ポートフォリオ https://satoru-log.jp
